{"text_format":"1","workbook":"xlsx","n_sheets":18,"sheets":["Help+Instructions","TranslateMain","TranslateCompany","TranslateBackup","4004R(Conventional)","4004RConfigurator","4004RBOM","AddonDevice","4004RDrawing","IdnetAddr","Aux & `Panel Current","Solenoid Nos Reference","4007ES(Addr)","Actuator Cable Distance","4007ESConfigurator","4007ES(Addressable)","4007ESBOM","4007ESDrawing"],"not_rendered":{"charts":0,"images":5,"macros":1,"external_links":1,"defined_names":90,"comments":2,"pivot_tables":0},"unopened":[],"bounds":{"document_bytes":16777216,"sheet_cells":100000,"rows_first":2000,"rows_last":500,"rows_between":2000,"halvings":0,"cell_chars":16384,"cell_head_chars":4096},"cells_cut":0,"cells_raw":0,"read":"whole","date_system":"1900"}

{"sheet":"Help+Instructions","index":0,"n_rows":44,"n_cols":13,"rows_kept":44,"cut":false,"hidden":false,"merged":[[40,0,40,1],[0,0,0,1],[1,0,1,1],[23,0,23,1],[30,0,30,1],[35,0,35,1]]}
["01_HELP + INSTRUCTIONS",null,"Base on Feedback "]
["GENERAL REMARKS"]
["A","Suppression Panel configurator based on current Simplex/Autocall Products, any remarks or issues, report to: alan.ang@jci.com"]
["B","9th Dec 2021 :Ver. 1.0; initial and test release."]
["C","30th  Jun 2022 :Ver. 2.0; Improvement base on feedback and Enhancement.(Only for Registered User)"]
["D","Month of Dec:Imrproved with the below:"]
[null,"1.  Help & Instruction with Help Video link to remote NAS","Alan Ang"]
[null,"2.  Fast Access to Function Tab thru Ribbon Icons on the Excel Menu","Alan Ang"]
[null,"3.  Default Value of Typical requirements of Detectors, SPM devices, Notification devices leaving the user to modified as need and focus on getting the Solenoid selection correct.","Alan Ang"]
[null,"4.  Include the RAC maximum distance for 4004R and for 4007ES have two distance consideration, NAC to SPR module and from SPR module to Solenoid.","Dory Okriandi"]
[null,"5.  End user can make the necessary adjustment to align to site requirements by playing about with Wire guage selections and if possible alternate solenoid to minimise additional equipment.","Alan Ang"]
[null,"6 .  Include the Battery AH as well as the Max distance run for both NAC and RAC on the final Configurator.","Dory Okriandi"]
[null,"7.  Change the approach for multi Zone Addressable panel approach to start from Solenoid assignment to panel  and built in flexibility to switch solenoid assignment to panel or repeater without having major recalculation.","Alan Ang"]
[null,"8.  Add in Switch for Notification Circuits if end user prefer Relay modules instead of Signal modules","Jerry Sun"]
[null,"9.  Includes switch for ES Network to 4120 Network and Vice versa.","Alan Ang"]
[null,"10.  Add in Solenoid Reference number search sheet to simplified search","Alan Ang"]
[null,"11.  Include Add in Device Tab for end user to include their choice of detectors, Signage display, Solenoid without having to redo the entire spreadsheet.","Alan Ang"]
[null,"11.  Add in Feedback link to MS Forms as well as Registration link for user to share with other friends that might be interested.","Ref to Pawel work on Zetter Tools"]
[null,"12.  Fixed error of unable to Create BOM due to some macro issues","Jerry Sun & Jason Ee"]
[null,"13.  Include Reference Drawiings for easy reference in process of Design","Dory Okriandi"]
[null,"14.  Include PDF link to Datasheet for fast reference without increasing size of tools","Alan Ang"]
[null,"15.  Include Reset or Clear all for the Key input sheet for 4004R and 4007ES to start from Fresh and for new projects","Alan Ang"]
[null,"16.  Fix the problem on 4004RConfigurator Create BOM button with Excel Error as well as Clear BOM on 4004RBOM.   Similar issue clear for 4007Configurator and 4007BOM","Alan Ang"]
["INSTRUCTIONS / HOW TO USE"]
[1,"To Build up more User Interface in Future"]
[2,"Light Blue cells for Quantity Entry as required",null,null,null,null,null,null,null,null,null,null," "]
[3,"Darker Blue to select the option as required"]
[4,"All Other Other colors cells are  locked up."]
[5,"Use the Filter On and Off to reduce screen clutter and help to focus on items relevant on configurator sheet."]
[" "," "]
["02_4004R Conventional Panel - Click Here"]
[1,"This is a Conventional Suppression Releasing Panel Configurator."]
[2,"Please follow the steps and if not sure click at below Demo Video"]
[{"$f":"+A33+1","v":3},"Revised and touch up interface on formulae mistake and have added Preaction auto 90 hrs switch over."]
[{"$f":"+A34+1","v":4},"Help Video for Design Tool","Work in Progress, Do not need new Version"]
["03_4007ES Addressable Panel - Click Here"]
[1,"This is a Addressable Suppresion Releasing Panel Configurator"]
[2,"The final outcome will be display on the next tab i.e. Coinfgurator"]
[3,"Revised and touch up interface on formulae mistake and have added Preaction auto 90 hrs switch over."]
[{"$f":"+A39+1","v":4},"Help Video for Design Tool","Work in Progress, Do not need new Version"]
["04. APAC Language Interface"]
[1,"Target in Future: Thai, Vietnamese, Indonesian, Bahasa Melayu, Traditional Chinese.","Until Tools Stabilise"]
[2," "]
[3," "]

{"sheet":"TranslateMain","index":1,"n_rows":155,"n_cols":4,"rows_kept":155,"cut":false,"hidden":true,"merged":[]}
["S/No","Tab","ENGLISH","Alternate"]
[1,"4004RPanel","4004R Conventional Suppression Panel with 1/2 Hazards and 2 Conventional NACs, 2 RAC ,02 SPM & 04 IDC","4004R 常規抑制面板，帶有 1/2 危險和 2 個常規 NAC、2 個 RAC、02 SPM 和 04 IDC"]
[2,{"$f":"+B2","v":"4004RPanel"},"** Note:\nThis tools have all the standard default devices requirement and you only have to change the following device and you still can overide all those in Blue highlighted cells.\n1.  IDC device could be other than smoke detectors.\n2.  The solenoid and you can customised add or modified as per in the \"AddonDevice\" tab.\n3.  Only Blue Color or LIght Blue you can input or use drop down box to input your choice.","** 筆記：\n該工具具有所有標準預設設備要求，您只需更改以下設備，您仍然可以覆蓋藍色突出顯示的單元格中的所有設備。\n1. IDC 設備可以不是煙霧偵測器。\n2.電磁閥，您可以根據“AddonDevice”選項卡自訂新增或修改。\n3. 只能輸入藍色或淺藍色，或使用下拉框輸入您的選擇。"]
[3,{"$f":"+B3","v":"4004RPanel"},"4004R with 2 Conventional NACs Configuration","具有 2 個傳統 NAC 配置的 4004R"]
[4,"4004RPanel","Enter Quantity of panel type to be included in BOM","輸入要包含在 BOM 中的面板類型的數量"]
[5,"4004RPanel"," Step 1: Select Panel Type: Single or Dual Hazard","第 1 步：選擇面板類型：單一危險或雙危險"]
[6,"4004RPanel","4004R Conventional Suppression Panel with UL & FM Listing","具有 UL 和 FM 認證的 4004R 傳統抑制面板"]
[7,"4004RPanel","Color","顏色"]
[8,"4004RPanel","For PreAction or Deluge, need to have Class A IDC, add 4004-9864 adapter","對於 PreAction 或 Deluge，需要有 A 類 IDC，增加 4004-9864 轉接器"]
[9,"4004RPanel","Option to add Localised countdown timer?","新增本地化倒數計時器的選項？"]
[10,"4004RPanel"," Step 2a: Allocating Conventional Field Devices to IDC 1 & 2","步驟 2a：將傳統現場設備分配給 IDC 1 和 2"]
[11,"4004RConfigurator","721P Smoke Detector UL268 7th Edition","721P 煙霧偵測器 UL268 第 7 版"]
[12,"4004RConfigurator","721H  ROR Heat Detector UL Listed","721H ROR 熱探測器 UL 認證"]
[13,"4004RConfigurator","722H Fixed Temp Heat ","722H 定溫加熱"]
[14,"4004RConfigurator","700 Series Detector Base(Base on nos of Smoke & Heat Det)","700系列偵測器底座（基於煙熱探測器數量）"]
[15,"4004RConfigurator","723H - HEAT FIX 200F DET UL","723H - 熱修復 200F DET UL"]
[16,"4004RConfigurator","721PH - OPT&HEAT DET UL","721PH - 光熱檢測 UL"]
[17,"4004RConfigurator","Customised input - 2 Wire Powered Device","客製化輸入 - 2 線供電設備"]
[18,"4004RConfigurator","Customised input - 2 Wire Powered Device","客製化輸入 - 2 線供電設備"]
[19,"4004RConfigurator","Customised input - 2 Wire Powered Device","客製化輸入 - 2 線供電設備"]
[20,"4004RConfigurator","Customised input - 2 Wire Powered Device","客製化輸入 - 2 線供電設備"]
[21,"4004RConfigurator","Zettler Single IR Point Flame Detector","Zettler 單紅外線點火焰偵測器"]
[22,"4004RConfigurator","Zettler Triple IR Flame Detector","Zettler 三重紅外線火焰偵測器"]
[23,"4004RConfigurator","Zettler Triple IR Flame Detection Optional Camera","Zettler 三重紅外線火焰偵測選購相機"]
[24,"4004RConfigurator","Zettler Triple IR Flame Detection Optional Heater","Zettler 三重紅外線火焰偵測選購加熱器"]
[25,"4004RConfigurator","Zettler Linear Heat Detector Copper","Zettler 線性熱探測器銅"]
[26,"4004RConfigurator","Zettler Linear Heat Detector Fiber Optic","Zettler 線性熱探測器光纖"]
[27,"4004RConfigurator","Zettler Beam Detector","賽特勒光束探測器"]
[28,"4004RConfigurator","Customised input Wired Powered by IDC","客製化輸入 有線 IDC 供電"]
[29,"4004RConfigurator","Customised input Wired Powered by IDC","客製化輸入 有線 IDC 供電"]
[30,"4004RConfigurator","Customised input Wired Powered by IDC","客製化輸入 有線 IDC 供電"]
[31,"4004RConfigurator","Customised input Wired Powered by IDC","客製化輸入 有線 IDC 供電"]
[32,"4004RConfigurator","Customised input Wired Powered by IDC","客製化輸入 有線 IDC 供電"]
[33,{"$f":"+B11","v":"4004RPanel"},"Monitoring of Compressor for Pneumatic Operation of Actuators","監測壓縮機的執行器氣動操作"]
[34,{"$f":"+B34","v":"4004RPanel"},"Monitoring of Pressure Switch Alarm","壓力開關警報監控"]
[35,{"$f":"+B35","v":"4004RPanel"},"Monitoring of Supervisory Tamper Switch","監控防拆開關的監控"]
[36,"4004RPanel","Monitoring of Water Flow Switch","水流開關監控"]
[37,"4004RPanel","Monitoring of Supervisory Alert","監管警報監控"]
[38,"4004RPanel","Step 3: Special Purpose Monitoring Input(SPM1 & 2)","步驟 3：特殊用途監控輸入（SPM1 &amp; 2）"]
[39,"4004RPanel","Abort Switch with UL864 Listing","具有 UL864 認證的中止開關"]
[40,"4004RPanel","Manual Overide PullStation - Conventional(UL & FM)","手動超越拉站 - 傳統（UL 和 FM）"]
[41,"4004RPanel","Pull Station Suppression Label Kit for Specific Application","適用於特定應用的拉站抑制標籤套件"]
[42,null,"Step 4:Auxillary Dry Contacts - Output","步驟4：輔助幹接點-輸出"]
[43,null,"Relay Board - Comes with Panel","繼電器板 - 附面板"]
[44,null,"Common Panel Alarm Signal","公共面板警報信號"]
[45,null,"Common Panel Trouble Signal","公共面板故障訊號"]
[46,null,"Pre Release Display Signage","預發布展示標牌"]
[47,null,"Pre Release Display  Auxillary Power Supply","預發布顯示器輔助電源"]
[48,null,"Step 5:Optional Auxillary Dry Contacts-Output(Seldom used)","步驟5：可選輔助幹接點-輸出（很少使用）"]
[49,null,"Relay Board - Optional","繼電器板 - 可選"]
[50,null,"Common Panel Alarm Signal","公共面板警報信號"]
[51,null,"Common Panel Trouble Signal","公共面板故障訊號"]
[52,null,"2nd Zone Alarm","第二區警報"]
[53,null,"Discharge Display  Signage","放電顯示標牌"]
[54,null,"Discharge Display Auxillary Power Supply","放電顯示輔助電源"]
[55,null,"Step 6a: RAC Output, Suppression Interface Equipment: Solenoid","步驟 6a：RAC 輸出，抑制介面設備：電磁閥"]
[56,null,"LP CO2 double action 24 VDC solenoid 430948","LP CO2 雙作用 24 VDC 電磁閥 430948"]
[57,null,"The RAC2 is being used for Discharge Display Signal.","RAC2 用於放電顯示訊號。"]
[58,null,"Discharge Display Auxillary Power Supply","放電顯示輔助電源"]
[59,null,"Step 6b: RAC Output Related Accessories","步驟 6b：RAC 輸出相關配件"]
[60,null,"Maintenance Switch with Lights(UL)","帶燈維護開關(UL)"]
[61,null,"Maintenance Switch without Lights(UL)","無燈維護開關(UL)"]
[62,null,"Supervisory Coil for Actuator(Mandatory)","執行器監控線圈（強制）"]
[63,null,"Step 7: Conventional Notification Devices","步驟7：傳統通知設備"]
[64,null,"Vibrating Bell 6\" - 24 VDC","振動鈴 6&quot; - 24 VDC"]
[65,null,"15 cd Red Wall Horn Strobe","15 cd 紅牆喇叭頻閃"]
[66,null,"30 cd Red Wall Horn Strobe","30 cd 紅牆喇叭頻閃"]
[67,null,"75 cd Red Wall Horn Strobe","75 cd 紅牆喇叭頻閃"]
[68,null,"Red Wall Mounted Horn","紅色壁掛式喇叭"]
[69,null,"Input1B - Notification Device 1","輸入 1B - 通知設備 1"]
[70,null,"Input2B - Notification Device 2","Input2B - 通知裝置 2"]
[71,null,"Input3B - Notification Device 3","Input3B - 通知裝置 3"]
[72,null,"Input4B - Notification Device 4","Input4B - 通知設備 4"]
[73,null,"Input5B - Notification Device 5","輸入 5B - 通知設備 5"]
[74,null,"Input6B - Notifiation Device 6","輸入 6B - 通知設備 6"]
[75,null,"Step 8: Panel Notification Circuits Loading","第 8 步：面板通知電路負載"]
[76,null,"Conventional RAC Circuit 1","傳統 RAC 電路 1"]
[77,null,"Conventional RAC Circuit 2","傳統 RAC 電路 2"]
[78,null,"Conventional NAC Circuit 1","傳統NAC電路1"]
[79,null,"Conventional NAC Circuit 2","傳統NAC電路2"]
[80,null,"Step 9:Notification or Release Actuator Circuit Cable Length","第 9 步：通知或釋放執行器電路電纜長度"]
[81,null,"Cables Property Selection to match RAC max Length Requirements","選擇符合 RAC 最大長度要求的電纜屬性"]
[82,null,"Wire Gauge","線規"]
[83,null,"Wire Temperature","線材溫度"]
[84,null,"Unit of Measure","測量單位"]
[85,null,"Ohms / Km","歐姆/公里"]
[86,null,"Quick Estimated NAC Circuit Length Calculator","快速估計 NAC 電路長度計算器"]
[87,null,"Est max wire length - Worst Case - RAC1-SRP","估計最大電線長度 - 最壞情況 - RAC1-SRP"]
[88,null,"Est max wire length - Worst Case - RAC2-SRP","估計最大電線長度 - 最壞情況 - RAC2-SRP"]
[89,null,"Cables Property Selection to match RAC max Length Requirements","選擇符合 RAC 最大長度要求的電纜屬性"]
[90,null,"Wire Gauge","線規"]
[91,null,"Wire Temperature","線材溫度"]
[92,null,"Unit of Measure","測量單位"]
[93,null,"Ohms / Km","歐姆/公里"]
[94,null,"Wiorst Case Maximum Cable Length for NAC wiring","最壞情況下 NAC 接線的最大電纜長度"]
[95,null,"Est max wire length - Worst Case - NAC 1","估計最大電線長度 - 最壞情況 - NAC 1"]
[96,null,"Est max wire length - Worst Case - NAC 2","估計最大電線長度 - 最壞情況 - NAC 2"]
[97,null,"Mean Case Maximum Cable Length for NAC Wiring","NAC 接線的平均情況最大電纜長度"]
[98,null,"Est max wire length - Mean + 20% - NAC 1","估計最大導線長度 - 平均值 + 20% - NAC 1"]
[99,null,"Est max wire length - Mean + 20% - NAC 2","估計最大導線長度 - 平均值 + 20% - NAC 2"]
[100,null,"Step 10: Auxillary Power Supply","第10步：輔助電源"]
[101,null,"Aux Power or Simple NAC Load - Max 2000mA","輔助電源或簡單 NAC 負載 - 最大 2000mA"]
[102,null,"Step 11: Battery Calculation","第11步：電池計算"]
[103,null,"Total Standby and Alarm Loads Amps","總待機和警報負載安培"]
[104,null,"Total Standby and Alarm Loads Ampere Hours","總待機和警報負載安培小時"]
[105,null,"Battery Calculation Standby Hours","電池計算待機時間"]
[106,null,"Battery Calculation Alarm Minutes","電池計算警報分鐘數"]
[107,null,"Battery Calculation Battery Factor","電池計算電池係數"]
[108,null,"Step 12: Final Battery Ah requirements and if charger required.","步驟 12：最終電池 Ah 需求以及是否需要充電器。"]
[109,null,"Total Ampere Hours","總安培小時"]
[110,null,"Minimum Calculated Battery Size Required ","計算出的最小所需電池尺寸"]
[111,null,"Battery Location and Selected Size","電池位置和選定尺寸"]
[112,null,"Resistance: ®","電阻：®"]
[113,null,"The minimum Operating Voltage to support the proposed Field Devices","支援建議的現場設備的最低工作電壓"]
[114,null,"The Total Operating Current base on individual Devices datasheet and powered by the individual Notification Circuits Source Current","總工作電流基於各個元件資料表並由各個通知電路源電流供電"]
[115,null,"The Total Ohms Per Km or Ohms per Feet base on the proposed Wiring use the Wire Gauge(Thickness) from Typical standards i.e. 1.5mm2 , 2.5 mm2, 18 Awg..etc","基於建議接線的每公里總歐姆或每英尺歐姆使用典型標準中的線規（厚度），即 1.5mm2、2.5mm2、18 Awg.. 等"]
[116,null,"1. Starting Voltage Source Limit as Per NFPA72 drop of 20% from 24VDC ","1. 根據 NFPA72，啟動電壓源限制從 24VDC 下降 20%"]
[117,null,"2. Minimum Operating Voltage for the notification Circuits","2. 通知電路的最低工作電壓"]
[118,null,"3. Types of Cables Wire Gauge design to work with the Notification Circuits","3. 電纜類型 與通知電路搭配使用的線規設計"]
[119,null,"5. Temperature Rating of Proposed Cable used","5. 建議使用的電纜的溫度等級"]
[120,null,"6. Class A or Class B Notification Circuits Proposed","6. 提議的 A 類或 B 類通知電路"]
[121,null,"7. Notification Circuits Current Rating","7. 通知電路額定電流"]
[122,null,"Turn this on to see only Calculated Devices","開啟此選項以僅查看計算的設備"]
[123,null,"Turn this on  to see entire Spreadsheet","開啟此選項可查看整個電子表格"]
[124,null,"Point to Point Line by Line Calculation of Voltage Drop contributed by Wire length, Wire Gauge, Device Current and Calculated Voltage Drop","點對點逐線計算由線長、線規、裝置電流和計算出的電壓降所造成的電壓降"]
[125,null,"Cable Length","電纜長度"]
[126,null,"Selected","已選擇"]
[127,null,"Device Current","裝置電流"]
[128,null,"Cable Ohm @ km/feet","電纜歐姆@公里/英尺"]
[129,null,"Current Consumed","消耗電流"]
[130,null,"Voltage Drop","電壓下降"]
[131,null,"Voltage Drop %","電壓下降 ％"]
[132,null,"Total %Voltage Drop","總電壓降百分比"]
[133,null,"Voltage at Device","設備電壓"]
[134,null,"Total Current used by all Devices add up","所有設備使用的總電流加起來"]
[135,null,"**Note: Final last Voltage must be > 16Vdc","**注意：最終電壓必須 &gt; 16Vdc"]
[136,null,"Conventional Point to Point(EOL) Voltage Drop Engineering Report","傳統點對點 (EOL) 壓降工程報告"]
[137,null,"** All customised Devices Accuracy will depends on data entry person, All Simplex Products are base on our factory current consumption datasheet.","** 所有客製化設備的精度將取決於資料輸入人員，所有 Simplex 產品均基於我們工廠的電流消耗資料表。"]
[138,null,"4.  The ohm per km or feet for the Wire Gauge selected","4. 所選線規的歐姆每公里或每英尺"]
[139,null,"8. Estimated Minimum Wire Length per circuit in METRES","8. 每個電路的估計最小電線長度（以公尺為單位）"]
[140,null,"9.  Total numbers of Devices on Notification Circuits","9. 通知電路上的設備總數"]
[141,null,"10.  Calculated Total numbers of notification Circuits to support","10. 計算支援的通知電路總數"]
[142,null,"11.  Cable length possible base on device loading and cable wire gauge","11. 電纜長度可能取決於設備負載和電纜線規"]
[143,null,"Voltage Drop %"]
[144,null,"Total %Voltage Drop"]
[145,null,"Voltage at Device"]
[146,null,"Total Current used by all Devices add up"]
[147,null,"**Note: Final last Voltage must be > 16Vdc"]
[148,null,"Conventional Point to Point(EOL) Voltage Drop Engineering Report"]
[149,null,"** All customised Devices Accuracy will depends on data entry person, All Simplex Products are base on our factory current consumption datasheet."]
[150,null,"4.  The ohm per km or feet for the Wire Gauge selected"]
[151,null,"8. Estimated Minimum Wire Length per circuit in METRES"]
[152,null,"9.  Total numbers of Devices on Notification Circuits"]
[153,null,"10.  Calculated Total numbers of notification Circuits to support"]
[154,null,"11.  Cable length possible base on device loading and cable wire gauge"]

{"sheet":"TranslateCompany","index":2,"n_rows":0,"n_cols":0,"rows_kept":0,"cut":false,"hidden":true,"merged":[]}

{"sheet":"TranslateBackup","index":3,"n_rows":0,"n_cols":0,"rows_kept":0,"cut":false,"hidden":true,"merged":[]}

{"sheet":"4004R(Conventional)","index":4,"n_rows":141,"n_cols":35,"rows_kept":141,"cut":false,"hidden":false,"merged":[[129,8,129,9],[120,6,120,8],[121,6,121,8],[128,8,128,9],[96,19,96,20],[109,6,109,8],[110,6,110,8],[117,6,117,8],[118,6,118,8],[121,10,121,14],[8,1,8,16],[9,1,9,16],[10,1,10,16],[12,5,12,16],[13,5,13,16],[11,1,13,3],[52,19,52,21],[22,19,22,21],[16,19,16,21],[57,19,57,21],[82,19,82,21],[72,19,72,21],[64,19,64,21],[132,10,132,11],[76,10,78,11],[110,10,110,14],[117,10,117,14],[118,10,118,14],[120,10,120,14]]}
[]
[]
[]
[]
[]
[]
[]
[]
[]
[null,{"$f":"IF(T12=\"English\",TranslateMain!$C$2,TranslateMain!$D$2)","v":"4004R Conventional Suppression Panel with 1/2 Hazards and 2 Conventional NACs, 2 RAC ,02 SPM & 04 IDC"},null,null,null,null,null,null,null,null,null,null,null,null,null,null,null,null,null,"Select Language",null,null,null,null,null,null,null,null,null,null,null,null,null,null,"English"]
[null,null,null,null,null,null,null,null,null,null,null,null,null,null,null,null,null,null,null,null,null,null,null,null,null,null,null,null,null,null,null,null,null,null,"Alternate"]
[null,{"$f":"IF(T12=\"English\",TranslateMain!$C$3,TranslateMain!$D$3)","v":"** Note:\nThis tools have all the standard default devices requirement and you only have to change the following device and you still can overide all those in Blue highlighted cells.\n1.  IDC device could be other than smoke detectors.\n2.  The solenoid and you can customised add or modified as per in the \"AddonDevice\" tab.\n3.  Only Blue Color or LIght Blue you can input or use drop down box to input your choice."},null,null,null,null,null,null,null,null,null,null,null,null,null,null,null,null,null,"English"]
[null,null,null,null,null,{"$f":"IF(T12=\"English\",TranslateMain!$C$4,TranslateMain!$D$4)","v":"4004R with 2 Conventional NACs Configuration"},null,null,null,null,null,null,null,null,null,null,null,"Aux PS"]
[null,null,null,null,null,"Enter custom template name here",null,null,null,null,null,null,null,null,null,null,null,null,null,"PID","Qty","Remarks"]
[null,null,null,null,null,null,"Selection"]
[null,null,{"$f":"IF(T12=\"English\",TranslateMain!$C$5,TranslateMain!$D$5)","v":"Enter Quantity of panel type to be included in BOM"},null,null,null,1,null,"Quantity"]
[null,null,{"$f":"IF(T12=\"English\",TranslateMain!$C$6,TranslateMain!$D$6)","v":" Step 1: Select Panel Type: Single or Dual Hazard"},null,null,null,1,null,{"$f":"IF(G17=2,\"Dual Hazard\",\"Single Hazard\")","v":"Single Hazard"},null,null,null,null,"Standby/Aux","Alarm/Aux","Remarks",null,{"$f":"IF(P17=\"Aux PS\",O17,0)","v":0},null,"Suppression Control Panel",null,null,null,null,null,1,null,null,null,null,1]
[null,null,{"$f":"IF(T12=\"English\",TranslateMain!$C$7,TranslateMain!$D$7)","v":"4004R Conventional Suppression Panel with UL & FM Listing"},null,null,null,{"$f":"IF($G$19=\"Red\",'4004RConfigurator'!C9,IF($G$19=\"Beige\",'4004RConfigurator'!C8,0))","v":"4004-9302"},null,null,null,null,null,null,{"$f":"+'4004RConfigurator'!L8*(U18+U19)","v":100},{"$f":"+'4004RConfigurator'!M8*(U18+U19)","v":264},{"$f":"+'4004RConfigurator'!P8","v":"Panel"},null,0,null,{"$f":"+'4004RConfigurator'!C8","v":"4004-9301"},{"$f":"IF(G19=\"Beige\",G16,0)","v":0}," ",null,null,null,null,null,null,null,null,1]
[null,null,{"$f":"IF(T12=\"English\",TranslateMain!$C$8,TranslateMain!$D$8)","v":"Color"},null,null,null,"Red",null,null,null,null,null,null,{"$f":"+'4004RConfigurator'!L11*U20","v":0},{"$f":"+'4004RConfigurator'!M11*U20","v":0},{"$f":"IF(U20>0,'4004RConfigurator'!P11,0)","v":0},null,0,null,{"$f":"+'4004RConfigurator'!C9","v":"4004-9302"},{"$f":"IF(G19=\"Red\",G16,0)","v":1},null,null,null,null,null,null,null,null,null,{"$f":"IF($G$19=\"Red\",'4004RConfigurator'!AA10,IF($G$19=\"Beige\",'4004RConfigurator'!AA9,0))","v":0}]
[null,null,{"$f":"IF(T12=\"English\",TranslateMain!$C$9,TranslateMain!$D$9)","v":"For PreAction or Deluge, need to have Class A IDC, add 4004-9864 adapter"},null,null,null,"Gas",null,"**Note: Very important Initial Selection will affect Standby and Alarm Batteries",null,null,null,null,{"$f":"+'4004RConfigurator'!L12*U21","v":30},{"$f":"+'4004RConfigurator'!M12*U21","v":120},{"$f":"IF(U21>0,V21,\"\")","v":"Aux PS"},null,120,null,{"$f":"+'4004RConfigurator'!C11","v":"4004-9864(Class A)"},{"$f":"IF(G20=\"PreAction/Deluge\",1,0)","v":0},null,null,null,null,null,null,null,null,null,"Beige"]
[null,null,{"$f":"IF(T12=\"English\",TranslateMain!$C$10,TranslateMain!$D$10)","v":"Option to add Localised countdown timer?"},null,null,null,"Yes",null,null,null,null,null,null,null,null,null,null,0,null,{"$f":"+'4004RConfigurator'!C12","v":"Counter"},{"$f":"IF(G21=\"Yes\",1,0)","v":1},{"$f":"+'4004RConfigurator'!P12","v":"Aux PS"},null,null,null,null,null,null,null,null,"Gas"]
[null,null,null,null,null,null,null,null,null,null,null,null,null,null,null,null,null,0,null,null,null,null,null,null,null,null,null,null,null,null,"Yes"]
[null,null,{"$f":"IF(T12=\"English\",TranslateMain!$C$11,TranslateMain!$D$11)","v":" Step 2a: Allocating Conventional Field Devices to IDC 1 & 2"},null,null,null," ",null,"IDC1","IDC2","IDC3","IDC4",null,"Standby/Aux","Alarm/Aux",{"$f":"+P17","v":"Remarks"},null,0,null,"Initiating Devices Circuits - Equipment"]
[null,null,{"$f":"+'4004RConfigurator'!E18","v":"721P Smoke Detector UL268 7th Edition"},null,null,null,{"$f":"SUM(I24:L24)","v":8},null,4,4,null,null,null,{"$f":"+'4004RConfigurator'!L18*G24","v":0.4},{"$f":"+'4004RConfigurator'!M18*G24","v":280},{"$f":"IF(G24>0,'4004RConfigurator'!P18,\"\")","v":"Powered by IDC"},null,0,null,{"$f":"+'4004RConfigurator'!C18","v":"516.900.201"},{"$f":"+G24","v":8},null,null,null,null,2,null,null,null,null,4,4]
[null,null,{"$f":"+'4004RConfigurator'!E19","v":"721H  ROR Heat Detector UL Listed"},null,null,null,{"$f":"SUM(I25:L25)","v":0},null,0,0,null,null,null,{"$f":"+'4004RConfigurator'!L19*G25","v":0},{"$f":"+'4004RConfigurator'!M19*G25","v":0},{"$f":"IF(G25>0,'4004RConfigurator'!P19,\"\")","v":""},null,0,null,{"$f":"+'4004RConfigurator'!C19","v":"516.900.203"},0,null,null,null,null,null,null,null,null,null,0,0]
[null,null,{"$f":"+'4004RConfigurator'!E20","v":"722H Fixed Temp Heat "},null,null,null,0,null,0,0,null,null,null,{"$f":"+'4004RConfigurator'!L20*G26","v":0},{"$f":"+'4004RConfigurator'!M20*G26","v":0},{"$f":"IF(G26>0,'4004RConfigurator'!P20,\"\")","v":""},null,0,null,{"$f":"+'4004RConfigurator'!C20","v":"516.900.204"},0,null,null,null,null,null,null,null,null,null,0,0]
[null,null,{"$f":"+'4004RConfigurator'!E21","v":"700 Series Detector Base(Base on nos of Smoke & Heat Det)"},null,null,"Fix",8,null,{"$f":"+I26+I25+I24+I28+I29","v":4},{"$f":"+J26+J25+J24+J28+J29","v":4},null,null,null,{"$f":"+'4004RConfigurator'!L21*G27","v":0},{"$f":"+'4004RConfigurator'!M21*G27","v":0},{"$f":"IF(G27>0,'4004RConfigurator'!P21,\"\")","v":"Powered by IDC"},{"$f":"IF(P27=\"Aux PS\",N27,0)","v":0},0,null,{"$f":"+'4004RConfigurator'!C21","v":"516.900.206"},8,null,null,null,null,null,null,null,null,null,{"$f":"+AE26+AE25+AE24+AE28+AE29","v":4},{"$f":"+AF26+AF25+AF24+AF28+AF29","v":4}]
[null,null,{"$f":"+'4004RConfigurator'!E23","v":"723H - HEAT FIX 200F DET UL"},null,null,null,{"$f":"SUM(I28:L28)","v":0},null,0,0,null,null,null,{"$f":"+'4004RConfigurator'!L22*G28","v":0},{"$f":"+'4004RConfigurator'!M22*G28","v":0},{"$f":"IF(G28>0,'4004RConfigurator'!P22,\"\")","v":""},null,0,null,{"$f":"+'4004RConfigurator'!C23","v":"516.900.205"},0,null,null,null,null,null,null,null,null,null,0,0]
[null,null,{"$f":"+'4004RConfigurator'!E24","v":"721PH - OPT&HEAT DET UL"},null,null,null,0,null,0,0,null,null,null,{"$f":"+'4004RConfigurator'!L23*G29","v":0},{"$f":"+'4004RConfigurator'!M23*G29","v":0},{"$f":"IF(G29>0,'4004RConfigurator'!P23,\"\")","v":""},null,0,null,{"$f":"+'4004RConfigurator'!C24","v":"516.900.202"},0,null,null,null,null,null,null,null,null,null,0,0]
[null,null,{"$f":"+'4004RConfigurator'!E25","v":"Customised input - 2 Wire Powered Device"},null,null,null,0,null,0,0,null,null,null,{"$f":"+'4004RConfigurator'!L25*G30","v":0},{"$f":"+'4004RConfigurator'!M25*G30","v":0},{"$f":"IF(G30>0,'4004RConfigurator'!P25,\"\")","v":""},null,0,null,{"$f":"+'4004RConfigurator'!C25","v":"Customised 1"},{"$f":"+G30","v":0},null,null,null,null,null,null,null,null,null,0,0]
[null,null,{"$f":"+'4004RConfigurator'!E26","v":"Customised input - 2 Wire Powered Device"},null,null,null,0,null,0,0,null,null,null,{"$f":"+'4004RConfigurator'!L26*G31","v":0},{"$f":"+'4004RConfigurator'!M26*G31","v":0},{"$f":"IF(G31>0,'4004RConfigurator'!P26,\"\")","v":""},null,0,null,{"$f":"+'4004RConfigurator'!C26","v":"Customised 2"},0,null,null,null,null,null,null,null,null,null,0,0]
[null,null,{"$f":"+'4004RConfigurator'!E27","v":"Customised input - 2 Wire Powered Device"},null,null,null,{"$f":"SUM(I32:L32)","v":0},null,0,0,null,null,null,{"$f":"+'4004RConfigurator'!L27*G32","v":0},{"$f":"+'4004RConfigurator'!M27*G32","v":0},{"$f":"IF(G32>0,'4004RConfigurator'!P27,\"\")","v":""},null,0,null,{"$f":"+'4004RConfigurator'!C27","v":"Customised 3"},{"$f":"+G32","v":0},null,null,null,null,null,null,null,null,null,0,0]
[null,null,{"$f":"+'4004RConfigurator'!E28","v":"Customised input - 2 Wire Powered Device"},null,null,null,0,null,0,0,null,null,null,{"$f":"+'4004RConfigurator'!L28*G33","v":0},{"$f":"+'4004RConfigurator'!M28*G33","v":0},{"$f":"IF(G33>0,'4004RConfigurator'!P28,\"\")","v":""},null,0,null,{"$f":"+'4004RConfigurator'!C28","v":"Customised 4"},0,null,null,null,null,null,null,null,null,null,0,0]
[null,null,{"$f":"+'4004RConfigurator'!E31","v":"Zettler Single IR Point Flame Detector"},null,null,null,0,null,0,0,null,null,null,{"$f":"+'4004RConfigurator'!L31","v":0}," ",{"$f":"IF(G34>0,'4004RConfigurator'!P31,\"\")","v":""},0,0,null,{"$f":"+'4004RConfigurator'!C31","v":"601F"},{"$f":"+G34","v":0},null,null,null,null,null,null,null,null,null,0,0]
[null,null,{"$f":"+'4004RConfigurator'!E32","v":"Zettler Triple IR Flame Detector"},null,null,null,0,null,0,0,null,null,null,{"$f":"+'4004RConfigurator'!L32*G35","v":0},{"$f":"+'4004RConfigurator'!M31","v":0},{"$f":"IF(G35>0,'4004RConfigurator'!P32,\"\")","v":""},0,0,null,{"$f":"+'4004RConfigurator'!C32","v":"FV400"},0,null,null,null,null,null,null,null,null,null,0,0]
[null,null,{"$f":"+'4004RConfigurator'!E33","v":"Zettler Triple IR Flame Detection Optional Camera"},null,null,null,{"$f":"SUM(I36:L36)","v":0},null,0,0,null,null,null,{"$f":"+'4004RConfigurator'!L33*G36","v":0},{"$f":"+'4004RConfigurator'!M33*G36","v":0},{"$f":"IF(G36>0,'4004RConfigurator'!P33,\"\")","v":""},0,0,null,{"$f":"+'4004RConfigurator'!C33","v":"Option Camera"},{"$f":"+G36","v":0},null,null,null,null,null,null,null,null,null,0,0]
[null,null,{"$f":"+'4004RConfigurator'!E34","v":"Zettler Triple IR Flame Detection Optional Heater"},null,null,null,0,null,0,0,null,null,null,{"$f":"+'4004RConfigurator'!L34*G37","v":0},{"$f":"+'4004RConfigurator'!M34*G37","v":0},{"$f":"IF(G37>0,'4004RConfigurator'!P34,\"\")","v":""},0,0,null,{"$f":"+'4004RConfigurator'!C34","v":"Window Heater"},{"$f":"+G37","v":0},null,null,null,null,null,null,null,null,null,0,0]
[null,null,{"$f":"+'4004RConfigurator'!E35","v":"Zettler Linear Heat Detector Copper"},null,null,null,0,null,0,0,null,null,null,{"$f":"+'4004RConfigurator'!L35*G38","v":0},{"$f":"+'4004RConfigurator'!M35*G38","v":0},{"$f":"IF(G38>0,'4004RConfigurator'!P35,\"\")","v":""},0,0,null,{"$f":"+'4004RConfigurator'!C35","v":"ProReact"},0,null,null,null,null,null,null,null,null,null,0,0]
[null,null,{"$f":"+'4004RConfigurator'!E36","v":"Zettler Linear Heat Detector Fiber Optic"},null,null,null,0,null,0,0,null,null,null,{"$f":"+'4004RConfigurator'!L36*G39","v":0},{"$f":"+'4004RConfigurator'!M36*G39","v":0},{"$f":"IF(G39>0,'4004RConfigurator'!P36,\"\")","v":""},0,0,null,{"$f":"+'4004RConfigurator'!C36","v":"APSensing"},0,null,null,null,null,null,null,null,null,null,0,0]
[null,null,{"$f":"+'4004RConfigurator'!E37","v":"Zettler Beam Detector"},null,null,null,0,null,0,0,null,null,null,{"$f":"+'4004RConfigurator'!L37*G40","v":0},{"$f":"+'4004RConfigurator'!M37*G40","v":0},{"$f":"IF(G40>0,'4004RConfigurator'!P37,\"\")","v":""},0,0,null,{"$f":"+'4004RConfigurator'!C37","v":"FireRay"},0,null,null,null,null,null,null,null,null,null,0,0]
[null,null,{"$f":"+'4004RConfigurator'!E39","v":"Customised input Wired Powered by IDC"},null,null,null,{"$f":"SUM(I41:L41)","v":0},null,0,0,null,null,null,{"$f":"+'4004RConfigurator'!L39*G41","v":0},{"$f":"+'4004RConfigurator'!M39","v":0},{"$f":"IF(G41>0,'4004RConfigurator'!P38,\"\")","v":""},0,0,null,{"$f":"+'4004RConfigurator'!C39","v":"Customised 1"},{"$f":"+G41","v":0},null,null,null,null,null,null,null,null,null,0,0]
[null,null,{"$f":"+'4004RConfigurator'!E40","v":"Customised input Wired Powered by IDC"},null,null,null,{"$f":"SUM(I42:L42)","v":0},null,0,0,null,null,null,{"$f":"+'4004RConfigurator'!L40*G42","v":0},{"$f":"+'4004RConfigurator'!M40","v":0},{"$f":"IF(G42>0,'4004RConfigurator'!P39,\"\")","v":""},0,0,null,{"$f":"+'4004RConfigurator'!C40","v":"Customised 2"},0,null,null,null,null,null,null,null,null,null,0,0]
[null,null,{"$f":"+'4004RConfigurator'!E41","v":"Customised input Wired Powered by IDC"},null,null,null,0,null,0,0,null,null,null,{"$f":"+'4004RConfigurator'!L41*G43","v":0},{"$f":"+'4004RConfigurator'!M41","v":0},{"$f":"IF(G43>0,'4004RConfigurator'!P40,\"\")","v":""},0,0,null,{"$f":"+'4004RConfigurator'!C41","v":"Customised 3"},0,null,null,null,null,null,null,null,null,null,0,0]
[null,null,{"$f":"+'4004RConfigurator'!E42","v":"Customised input Wired Powered by IDC"},null,null,null,0,null,0,0,null,null,null,{"$f":"+'4004RConfigurator'!L42*G44","v":0},{"$f":"+'4004RConfigurator'!M42","v":0},{"$f":"IF(G44>0,'4004RConfigurator'!P41,\"\")","v":""},0,0,null,{"$f":"+'4004RConfigurator'!C42","v":"Customised 4"},0,null,null,null,null,null,null,null,null,null,0,0]
[null,null,{"$f":"+'4004RConfigurator'!E43","v":"Customised input Wired Powered by IDC"},null,null,null,0,null,0,0,null,null,null,{"$f":"+'4004RConfigurator'!L43*G45","v":0},{"$f":"+'4004RConfigurator'!M43","v":0},{"$f":"IF(G45>0,'4004RConfigurator'!P42,\"\")","v":""},null,0,null,{"$f":"+'4004RConfigurator'!C43","v":"Customised 5"},0,null,null,null,null,null,null,null,null,null,0,0]
[null,null,"Step 2b: Allocating Conventional Field Devices to IDC 3 & 4",null,null,null,null,null,null,null,null,null,null,null,null,null,null,0]
[null,null,{"$f":"IF(T12=\"English\",TranslateMain!$C$34,TranslateMain!$D$34)","v":"Monitoring of Compressor for Pneumatic Operation of Actuators"},null,null,null,0,null,null,null,0,0,null," "," ","Input Monitoring",{"$f":"IF(P47=\"Aux PS\",N47,0)","v":0},0,null,"Compressor",0,null,null,null,null,3,null,null,null,null,0,0]
[null,null,{"$f":"IF(T12=\"English\",TranslateMain!$C$35,TranslateMain!$D$35)","v":"Monitoring of Pressure Switch Alarm"},null,null,null,1,null,null,null,1,0,null," "," ","Input Monitoring",0,0,null,"Gas Pressure Sw",1,null,null,null,null,null,null,null,null,null,1,0]
[null,null,{"$f":"IF(T12=\"English\",TranslateMain!$C$36,TranslateMain!$D$36)","v":"Monitoring of Supervisory Tamper Switch"},null,null,null,1,null,null,null,0,1,null," "," ","Input Monitoring",0,0,null,"Gas Tamper Sw",1,null,null,null,null,null,null,null,null,null,0,1]
[null,null,{"$f":"IF(T12=\"English\",TranslateMain!$C$37,TranslateMain!$D$37)","v":"Monitoring of Water Flow Switch"},null,null,null,0,null,null,null,0,0,null," "," ","Input Monitoring",0,0,null,"Water Flow Switch",{"$f":"+G50","v":0},null,null,null,null,null,null,null,null,null,0,0]
[null,null,{"$f":"IF(T12=\"English\",TranslateMain!$C$38,TranslateMain!$D$38)","v":"Monitoring of Supervisory Alert"},null,null,null,0,null,null,null,0,0,null," "," ","Input Monitoring",0,0,null,"Water Supervissory",{"$f":"+G51","v":0},null,null,null,null,null,null,null,null,null,0,0]
[null,null,null,null,null,null,null,null,null,null,null,null,null,null,null,null,null,0]
[null,null,{"$f":"IF(T12=\"English\",TranslateMain!$C$39,TranslateMain!$D$39)","v":"Step 3: Special Purpose Monitoring Input(SPM1 & 2)"},null,null,null," ",null,"SPM1 Input","SPM2 Inputs",null,null,null,"Standby/Aux","Alarm/Aux",{"$f":"+P23","v":"Remarks"},null,0,null,"Special Purpose Monitoring Devices",null,null,null,null,null,4,null,null,null,null,1,0]
[null,null,{"$f":"IF(T12=\"English\",TranslateMain!$C$40,TranslateMain!$D$40)","v":"Abort Switch with UL864 Listing"},null,null,null,{"$f":"SUM(I54:L54)","v":1},null,1,0,null,null,null,null," ",{"$f":"+'4004RConfigurator'!P70","v":"Input Monitoring"},{"$f":"IF(P54=\"Aux PS\",N54,0)","v":0},0,null,{"$f":"+'4004RConfigurator'!C70","v":"2081-9067"},{"$f":"+G54","v":1}," ",null,null,null,null,null,null,null,null,0,1]
[null,null,{"$f":"IF(T12=\"English\",TranslateMain!$C$41,TranslateMain!$D$41)","v":"Manual Overide PullStation - Conventional(UL & FM)"},null,null,null,1,null,0,1,null,null,null,null," ",{"$f":"+'4004RConfigurator'!P67","v":"Input Monitoring"},0,0,null,{"$f":"+'4004RConfigurator'!C67","v":"2099-9149"},{"$f":"+G55","v":1}," ",null,null,null,null,null,null,null,null,{"$f":"+AE54","v":0},{"$f":"+AF54","v":1}]
[null,null,{"$f":"IF(T12=\"English\",TranslateMain!$C$42,TranslateMain!$D$42)","v":"Pull Station Suppression Label Kit for Specific Application"},null,null,null,1," ",{"$f":"+I55","v":0},{"$f":"+J55","v":1},null,null,null,null," ",{"$f":"+'4004RConfigurator'!P68","v":"Label Kit"},0,0,null,{"$f":"+'4004RConfigurator'!C68","v":"4099-9802"},1," "]
[null,null,null,null,null,null,null,null,null,null,null,null,null,null,null,null,null,0]
[null,null,{"$f":"IF(T12=\"English\",TranslateMain!$C$43,TranslateMain!$D$43)","v":"Step 4:Auxillary Dry Contacts - Output"},null,null,null,null,null,"Aux 1 Contacts","Aux 2 Contacts","Aux3 Contacts",null,null,"Standby/Aux","Alarm/Aux",{"$f":"+P53","v":"Remarks"},null,0,null,"Default Auxillary Dry Contacts"]
[null,null,{"$f":"IF(T12=\"English\",TranslateMain!$C$44,TranslateMain!$D$44)","v":"Relay Board - Comes with Panel"},null,null,null,null,null,1,null,null,null,null,{"$f":"+I59*20","v":20},{"$f":"+I59*70","v":70},{"$f":"+J59*70","v":0},{"$f":"IF(P59=\"Aux PS\",N59,0)","v":0},0,null,null,null,null,null,null,null,5,null,null,null,null,1]
[null,null,{"$f":"IF(T12=\"English\",TranslateMain!$C$45,TranslateMain!$D$45)","v":"Common Panel Alarm Signal"},null,null,null,{"$f":"+I60","v":1},null,1,null,null,null,null,null," ","Dry Contacts",0,0,null,"Common Alarm",{"$f":"+G60","v":1},"For MFAP",null,null,null,null,null,null,null,null,1]
[null,null,{"$f":"IF(T12=\"English\",TranslateMain!$C$46,TranslateMain!$D$46)","v":"Common Panel Trouble Signal"},null,null,null,{"$f":"+J61","v":1},null,null,1,null,null,null,null," ","Dry Contacts",0,0,null,"Common Trouble",{"$f":"+G61","v":1},"For MFAP",null,null,null,null,null,null,null,null,null,1]
[null,null,{"$f":"IF(T12=\"English\",TranslateMain!$C$47,TranslateMain!$D$47)","v":"Pre Release Display Signage"},null,null,null,{"$f":"+K62","v":0},null,null,null,0,null,null,null," ","Dry Contacts",0,0,null,"Pre Release Signal",{"$f":"+G62","v":0},"For Signage",null,null,null,null,null,null,null,null,null,null,0]
[null,null,{"$f":"IF(T12=\"English\",TranslateMain!$C$48,TranslateMain!$D$48)","v":"Pre Release Display  Auxillary Power Supply"},null,null,null,{"$f":"+G62","v":0},null,null,null,null,null,null,{"$f":"+G62*'4004RConfigurator'!L76","v":0},{"$f":"+G62*'4004RConfigurator'!M76","v":0},{"$f":"IF(G63>0,+'4004RConfigurator'!P76,\"\")","v":""},0,0,null,"Auxillary PS",{"$f":"+G63","v":0},"For Signage"]
[null,null,null,null,null,null,null,null,null,null,null,null,null,null,null,null,null,0]
[null,null,{"$f":"IF(T12=\"English\",TranslateMain!$C$49,TranslateMain!$D$49)","v":"Step 5:Optional Auxillary Dry Contacts-Output(Seldom used)"},null,null,null,null,null,"Aux 1 Contacts","Aux 2 Contacts","Aux3 Contacts","Aux4 Contacts",null,"Standby/Aux","Alarm/Aux",{"$f":"+P58","v":"Remarks"},null,0,null,"Optional Auxillary Dry Contacts"]
[null,null,{"$f":"IF(T12=\"English\",TranslateMain!$C$50,TranslateMain!$D$50)","v":"Relay Board - Optional"},null,null,null,{"$f":"SUM(I66:L66)","v":0},null,0,null,null,null,null,{"$f":"+I66*20","v":0},{"$f":"+I66*70","v":0},{"$f":"+J66*70","v":0},{"$f":"IF(P66=\"Aux PS\",N66,0)","v":0},0,null,null,null,null,null,null,null,6,null,null,null,null,0]
[null,null,{"$f":"IF(T12=\"English\",TranslateMain!$C$51,TranslateMain!$D$51)","v":"Common Panel Alarm Signal"},null,null,null,{"$f":"+I67","v":0},null,0,null,null,null,null,null," ","Dry Contact",0,0,null,"Common Alarm",{"$f":"+G67","v":0}," ",null,null,null,null,null,null,null,null,0]
[null,null,{"$f":"IF(T12=\"English\",TranslateMain!$C$52,TranslateMain!$D$52)","v":"Common Panel Trouble Signal"},null,null,null,{"$f":"+J68","v":0},null,null,0,null,null,null,null," ","Dry Contact",0,0,null,"Common Trouble",{"$f":"+G68","v":0}," ",null,null,null,null,null,null,null,null,null,0]
[null,null,{"$f":"IF(T12=\"English\",TranslateMain!$C$53,TranslateMain!$D$53)","v":"2nd Zone Alarm"},null,null,null,{"$f":"+K69","v":0},null,null,null,0,null,null,null," ","Dry Contact",0,0,null,"2nd Zone Alm",0,null,null,null,null,null,null,null,null,null,null,null,0]
[null,null,{"$f":"IF(T12=\"English\",TranslateMain!$C$54,TranslateMain!$D$54)","v":"Discharge Display  Signage"},null,null,null,{"$f":"+L70","v":0},null,null,null,null,0,null,null," ","Dry Contact",0,0,null,"Discharge Signal",0,{"$f":"+P71","v":""},null,null,null,null,null,null,null,null,null,null,null,0]
[null,null,{"$f":"IF($T$12=\"English\",TranslateMain!$C$55,TranslateMain!$D$55)","v":"Discharge Display Auxillary Power Supply"},null,null,null,{"$f":"+G70","v":0},null,null,null,null,null,null,{"$f":"IF(G66>0,G70*'4004RConfigurator'!L75,0)","v":0},{"$f":"IF(G66>0,G70*'4004RConfigurator'!M75,0)","v":0},{"$f":"IF(G66>0,(IF(G71>0,'4004RConfigurator'!P75,\"\")),\"\")","v":""},0,0,null," "," "," "]
[null,null,null,null,null,null,null,null,null,null,null,null,null,null,null,null,null,0]
[null,"S/No",{"$f":"IF($T$12=\"English\",TranslateMain!$C$56,TranslateMain!$D$56)","v":"Step 6a: RAC Output, Suppression Interface Equipment: Solenoid"},null,null,null,null,null,"RAC1-Output","RAC1-Total Current","RAC2-Output","RAC2-Total Current",null,"Standby/Aux","Unit Alarm/Aux",{"$f":"+P65","v":"Remarks"},null,0,null,"Release Actuating Devices & Accessories"]
[null,7,{"$f":"IF($T$12=\"English\",TranslateMain!$C$57,TranslateMain!$D$57)","v":"LP CO2 double action 24 VDC solenoid 430948"},null,null,null,{"$f":"IF(B77=0,0,+I74)","v":1},null,1,{"$f":"+O74*G74","v":438}," "," ",null,{"$f":"VLOOKUP($B74,'4004RConfigurator'!B83:P130,11,TRUE)*G74","v":0},{"$f":"VLOOKUP($B74,'4004RConfigurator'!B83:P130,12,TRUE)*G74","v":438},"Solenoid",{"$f":"IF(P74=\"Aux PS\",N74,0)","v":0},0,null,{"$f":"VLOOKUP($B74,'4004RConfigurator'!B83:P130,3,TRUE)","v":"Ansul"},{"$f":"+G74","v":1},{"$f":"VLOOKUP(B74,AddonDevice!B50:F95,5,TRUE)","v":"UL listed"},null,null,null,7,null,null,null,null,1,{"$f":"+AK74*AC74","v":0}," "," "]
[null,"R2",{"$f":"IF($T$12=\"English\",TranslateMain!$C$58,TranslateMain!$D$58)","v":"The RAC2 is being used for Discharge Display Signal."},null,null,null,{"$f":"+K75","v":1},null," "," ",1,{"$f":"+O75*G75","v":0},null,{"$f":"IF(B75=\"R2\",0,(VLOOKUP($B75,'4004RConfigurator'!$B$83:$M$130,11,TRUE)))*G75","v":0},{"$f":"IF(B75=\"R2\",0,(VLOOKUP($B75,'4004RConfigurator'!$B$83:$M$130,12,TRUE)))*G75","v":0},"Solenoid/Display",0,0,null,{"$f":"VLOOKUP($B75,'4004RConfigurator'!B83:P130,3,TRUE)","v":"RAC2"},1," ",null,null,null,null,null,null,null,null," "," ",1,{"$f":"+AK75*AC75","v":0}]
[null,null,{"$f":"IF($T$12=\"English\",TranslateMain!$C$59,TranslateMain!$D$59)","v":"Discharge Display Auxillary Power Supply"},null,null,null,{"$f":"IF(B75=\"R2\",1,0)*G75","v":1},null," "," "," "," ",null,{"$f":"IF(B75=\"R2\",'4004RConfigurator'!L75,0)*G76","v":0},{"$f":"IF(B75=\"R2\",'4004RConfigurator'!M75,0)*G76","v":180},{"$f":"IF(G76>0,'4004RConfigurator'!P75,\"\")","v":"Aux PS"},0,{"$f":"IF(P76=\"Aux PS\",O76,0)","v":180},null,"Auxillary PS",1,"For Signage",null,null,null,null,null,null,null,null," "," "," "," "]
[null,{"$f":"+B74","v":7},{"$f":"IF($T$12=\"English\",TranslateMain!$C$60,TranslateMain!$D$60)","v":"Step 6b: RAC Output Related Accessories"},null,null,null,null,null,null,null," **Note: For Preaction/Deluge application you will requied FM Approved released Electric release Solenoid rated 22 watts or less",null,null,null,null,null,null,{"$f":"IF(P77=\"Aux PS\",O77,0)","v":0}]
[null,{"$f":"+B75","v":"R2"},{"$f":"IF($T$12=\"English\",TranslateMain!$C$61,TranslateMain!$D$61)","v":"Maintenance Switch with Lights(UL)"},null,null,null,{"$f":"+I78","v":1},{"$f":"+G78+G79","v":1},1,null,null,null,null,{"$f":"+'4004RConfigurator'!L72*G78","v":0},{"$f":"+'4004RConfigurator'!M72*G78","v":83},{"$f":"IF(G78>0,'4004RConfigurator'!P72,\"\")","v":"Aux PS"},{"$f":"IF(P78=\"Aux PS\",N78,0)","v":0},83,null,{"$f":"+'4004RConfigurator'!C71","v":"2080-9059"},{"$f":"+G78","v":1},{"$f":"+P78","v":"Aux PS"},null,null,null,8,null,null,null,null,1]
[null,null,{"$f":"IF($T$12=\"English\",TranslateMain!$C$62,TranslateMain!$D$62)","v":"Maintenance Switch without Lights(UL)"},null,null,null,{"$f":"+I79","v":0}," ",0,null,null,null,null,null," ",{"$f":"+'4004RConfigurator'!P71","v":"RAC Accessories"},0,0,null,{"$f":"+'4004RConfigurator'!C72","v":"2080-9069"},{"$f":"+G79","v":0},null,null,null,null,null,null,null,null,null,0]
[null,null,{"$f":"IF($T$12=\"English\",TranslateMain!$C$63,TranslateMain!$D$63)","v":"Supervisory Coil for Actuator(Mandatory)"},null,null,null,{"$f":"+I80","v":1}," ",1,null,null,null,null,null," ",{"$f":"+'4004RConfigurator'!P69","v":"RAC Accessories"},0,0,null,{"$f":"+'4004RConfigurator'!C69","v":"2081-9046"},{"$f":"+G80","v":1},null,null,null,null,null,null,null,null,null,1]
[null,null,null,null,null,null,"Total Current @ Cct",null,{"$f":"+O74","v":438},null,null,null,null,null,null,null,null,0,null,null,null,null,null,null,null,null,null,null,null,null,{"$f":"+AK74","v":0}]
[null,null,null,null,null,null,null,null,null,null,null,null,null,null,null,null,null,0]
[null,null,{"$f":"IF($T$12=\"English\",TranslateMain!$C$64,TranslateMain!$D$64)","v":"Step 7: Conventional Notification Devices"},null,null,null,null,null,"NAC1-Output","NAC1-Total Current","NAC2-Output","NAC1-Total Current",null,"Standby/Aux","Unit Alarm/Aux",{"$f":"+P73","v":"Remarks"},null,0,null,"Conventional Notification Devices",null,null,null,null,null,9,null,null,null,null,2,{"$f":"+AE83*AK83","v":0},0,{"$f":"+AG83*AK83","v":0}]
[null,null,{"$f":"IF($T$12=\"English\",TranslateMain!$C$65,TranslateMain!$D$65)","v":"Vibrating Bell 6\" - 24 VDC"},null,null,null,{"$f":"+I84+K84","v":2},null,2,{"$f":"+I84*O84","v":54},0,{"$f":"+K84*O84","v":0},null,{"$f":"+'4004RConfigurator'!L46","v":0},{"$f":"+'4004RConfigurator'!M46","v":27},"Bell",{"$f":"IF(P84=\"Aux PS\",N84,0)","v":0},0,null,"43T-G6-24-R",{"$f":"+G84","v":2},null,null,null,null,null,null,null,null,null,0,{"$f":"+AE84*AK84","v":0},2,{"$f":"+AG84*AK84","v":0}]
[null,null,{"$f":"IF($T$12=\"English\",TranslateMain!$C$66,TranslateMain!$D$66)","v":"15 cd Red Wall Horn Strobe"},null,null,null,{"$f":"+I85+K85","v":2},null,0,{"$f":"+I85*O85","v":0},2,{"$f":"+K85*O85","v":150},null,{"$f":"+'4004RConfigurator'!L47","v":0},{"$f":"+'4004RConfigurator'!M47","v":75},"Strobe 15cd",0,0,null,"4906-9127",{"$f":"+G85","v":2}," ",null,null,null,null,null,null,null,null,0,0,0,0]
[null,null,{"$f":"IF($T$12=\"English\",TranslateMain!$C$67,TranslateMain!$D$67)","v":"30 cd Red Wall Horn Strobe"},null,null,null,0,null,0,0,0,0,null,{"$f":"+'4004RConfigurator'!L48*'4004R(Conventional)'!G86","v":0},{"$f":"+'4004RConfigurator'!M48","v":116},"Strobe 30cd",0,0,null,"4906-9127",{"$f":"+G86","v":0},null,null,null,null,null,null,null,null,null,0,0,0,0]
[null,null,{"$f":"IF($T$12=\"English\",TranslateMain!$C$68,TranslateMain!$D$68)","v":"75 cd Red Wall Horn Strobe"},null,null,null,0,null,0,0,0,0,null,{"$f":"+'4004RConfigurator'!L49*'4004R(Conventional)'!G87","v":0},{"$f":"+'4004RConfigurator'!M49","v":221},"Strobe 75cd",0,0,null,"4906-9127",{"$f":"+G87","v":0},null,null,null,null,null,null,null,null,null,0,0,0,0]
[null,null,{"$f":"IF($T$12=\"English\",TranslateMain!$C$69,TranslateMain!$D$69)","v":"Red Wall Mounted Horn"},null,null,null,0,null,0,0,0,0,null,{"$f":"+'4004RConfigurator'!L50*'4004R(Conventional)'!G88","v":0},{"$f":"+'4004RConfigurator'!M50","v":41},"Horn",0,0,null,{"$f":"+'4007ESConfigurator'!C137","v":"4901-9820"},0,null,null,null,null,null,null,null,null,null,0,0,0,0]
[null,null,{"$f":"IF($T$12=\"English\",TranslateMain!$C$70,TranslateMain!$D$70)","v":"Input1B - Notification Device 1"},null,null,null,0,null,0,0,0,0,null,{"$f":"+'4004RConfigurator'!L52*'4004R(Conventional)'!G89","v":0},{"$f":"+'4004RConfigurator'!M52","v":0},{"$f":"IF(G89>0,AddonDevice!J112,\"\")","v":""},0,0,null,{"$f":"+'4004RConfigurator'!C52","v":"Customised 1"},0,null,null,null,null,null,null,null,null,null,0,0,0,0]
[null,null,{"$f":"IF($T$12=\"English\",TranslateMain!$C$71,TranslateMain!$D$71)","v":"Input2B - Notification Device 2"},null,null,null,0,null,0,0,0,0,null,{"$f":"+'4004RConfigurator'!L53*'4004R(Conventional)'!G90","v":0},{"$f":"+'4004RConfigurator'!M53","v":0},{"$f":"IF(G90>0,AddonDevice!J113,\"\")","v":""},0,0,null,{"$f":"+'4004RConfigurator'!C53","v":"Customised 2"},0,null,null,null,null,null,null,null,null,null,0,0,0,0]
[null,null,{"$f":"IF($T$12=\"English\",TranslateMain!$C$72,TranslateMain!$D$72)","v":"Input3B - Notification Device 3"},null,null,null,0,null,0,0,0,0,null,{"$f":"+'4004RConfigurator'!L54*'4004R(Conventional)'!G91","v":0},{"$f":"+'4004RConfigurator'!M54","v":0},{"$f":"IF(G91>0,AddonDevice!J114,\"\")","v":""},0,0,null,{"$f":"+'4004RConfigurator'!C54","v":"Customised 3"},0,null,null,null,null,null,null,null,null,null,0,0,0,0]
[null,null,{"$f":"IF($T$12=\"English\",TranslateMain!$C$73,TranslateMain!$D$73)","v":"Input4B - Notification Device 4"},null,null,null,0,null,0,0,0,0,null,{"$f":"+'4004RConfigurator'!L55*'4004R(Conventional)'!G92","v":0},{"$f":"+'4004RConfigurator'!M55","v":0},{"$f":"IF(G92>0,AddonDevice!J115,\"\")","v":""},0,0,null,{"$f":"+'4004RConfigurator'!C55","v":"Customised 4"},0,null,null,null,null,null,null,null,null,null,0,0,0,0]
[null,null,{"$f":"IF($T$12=\"English\",TranslateMain!$C$74,TranslateMain!$D$74)","v":"Input5B - Notification Device 5"},null,null,null,0,null,0,0,0,0,null,{"$f":"+'4004RConfigurator'!L56*'4004R(Conventional)'!G93","v":0},{"$f":"+'4004RConfigurator'!M56","v":0},{"$f":"IF(G93>0,AddonDevice!J116,\"\")","v":""},0,0,null,{"$f":"+'4004RConfigurator'!C56","v":"Customised 5"},0,null,null,null,null,null,null,null,null,null,0,0,0,0]
[null,null,{"$f":"IF($T$12=\"English\",TranslateMain!$C$75,TranslateMain!$D$75)","v":"Input6B - Notifiation Device 6"},null,null,null,0,null,0,0,0,0,null,{"$f":"+'4004RConfigurator'!L57*'4004R(Conventional)'!G94","v":0},{"$f":"+'4004RConfigurator'!M57","v":0},{"$f":"IF(G94>0,AddonDevice!J117,\"\")","v":""},0,"Subtotal",null,{"$f":"+'4004RConfigurator'!C57","v":"Customised 6"},0]
[null,null,null,null,null,null,"Total Current @ Cct",null,null,{"$f":"+(I84*O84)+(I85*O85)+(I86*O86)+(I87*O87)+(I88*O88)+(I89*O89)+(I90*O90)+(I91*O91)+(I92*O92)+(I93*O93)+(I94*O94)","v":54},null,{"$f":"+(K84*O84)+(K85*O85)+(K86*O86)+(K87*O87)+(K88*O88)+(K89*O89)+(K90*O90)+(K91*O91)+(K92*O92)+(K93*O93)+(K94*O94)","v":150},null,null,null,"Total Aux",{"$f":"SUM(Q24:Q94)","v":0},{"$f":"SUM(R17:R94)","v":383}]
[null,null,null,null,null,null,null,null,null,null,null,null,null,null,null,null,null,0]
[null,null,{"$f":"IF($T$12=\"English\",TranslateMain!$C$76,TranslateMain!$D$76)","v":"Step 8: Panel Notification Circuits Loading"},null,null,null,"Circuits Types Selection - RAC or NAC",null,null,null,null,null,null,null,null,null,null,0,null," ",null," "]
[null,null,{"$f":"IF($T$12=\"English\",TranslateMain!$C$77,TranslateMain!$D$77)","v":"Conventional RAC Circuit 1"},null,null," ",{"$f":"+I81","v":438},null,null," ",null,null,null,null,null,null,null,0,null," "," "," "]
[null,null,{"$f":"IF($T$12=\"English\",TranslateMain!$C$78,TranslateMain!$D$78)","v":"Conventional RAC Circuit 2"},null,null," ",{"$f":"+J81","v":0},null,null," ",null,null,null,null,null,null,null,0,null,null," "," "]
[null,null,{"$f":"IF($T$12=\"English\",TranslateMain!$C$79,TranslateMain!$D$79)","v":"Conventional NAC Circuit 1"},null,null," ",{"$f":"+J95","v":54},null,null," ",null,null,null,null,null,null,null,0,null,null," "," "]
[null,null,{"$f":"IF($T$12=\"English\",TranslateMain!$C$80,TranslateMain!$D$80)","v":"Conventional NAC Circuit 2"},null,null," ",{"$f":"+L95","v":150},null,null," ",null,null,null,null,null,null,null,0,null,null," "," "]
[null,null,null,null,null,null,{"$f":"SUM(G98:G101)","v":642},null,null,null,null,null,null,null,null,null,null,0,null,null," "]
[null,null,{"$f":"IF($T$12=\"English\",TranslateMain!$C$81,TranslateMain!$D$81)","v":"Step 9:Notification or Release Actuator Circuit Cable Length"},null,null,null,null,null," ",null,null,null,null,null,null,null,null,0,null,null," "]
[null,null,{"$f":"IF($T$12=\"English\",TranslateMain!$C$82,TranslateMain!$D$82)","v":"Cables Property Selection to match RAC max Length Requirements"},null,null,null,"Cables Properties used for RAC Wiring",null,null,null," ",null,null,null,null,null,null,0]
[null,null,{"$f":"IF($T$12=\"English\",TranslateMain!$C$83,TranslateMain!$D$83)","v":"Wire Gauge"},null,null,null,"2.5mm2","Select the Wire Gauge Required for better Distance coverage.",null,null,null,"Cable Thickness",null,null,null,null,null,{"$f":"IF(L105=\"Aux PS\",#REF!,0)","v":0},null,null,null,null,null,null,null,10,null,null,null,null,"16AWG"]
[null,null,{"$f":"IF($T$12=\"English\",TranslateMain!$C$84,TranslateMain!$D$84)","v":"Wire Temperature"},null,null,null,{"$f":"IF(G98>250,(IF(G98>749,(IF(G98>999,(IF(G98>1249,(IF(G98>1499,(IF(G98>1749,(IF(G98>1999,'Actuator Cable Distance'!$M22,'Actuator Cable Distance'!$K68)),'Actuator Cable Distance'!$K67)),'Actuator Cable Distance'!$K66)),'Actuator Cable Distance'!$K65)),'Actuator Cable Distance'!$K64)),'Actuator Cable Distance'!$K63)),'Actuator Cable Distance'!$K62)","v":3.1},"Line Resistance Dependant on Solenoid Current Rating",null,null,null,"Ohm",null,null,null,null,null,{"$f":"IF(L106=\"Aux PS\",#REF!,0)","v":0}]
[null,null,{"$f":"IF($T$12=\"English\",TranslateMain!$C$85,TranslateMain!$D$85)","v":"Unit of Measure"},null,null,null,{"$f":"IF(G98<1751,\"Vdrop=3.4V\",\"Vdrop=1.2V\")","v":"Vdrop=3.4V"},"Maximum Voltage Drop Dependant on Solenoid Current Rating",null,null,null,"Volts",null,null,null,null,null,{"$f":"IF(L107=\"Aux PS\",#REF!,0)","v":0}]
[null,null,{"$f":"IF($T$12=\"English\",TranslateMain!$C$86,TranslateMain!$D$86)","v":"Ohms / Km"},null,null,null,null,null,null,null,null,null,null,null,null,null,null,{"$f":"IF(L108=\"Aux PS\",#REF!,0)","v":0}]
[null,null,{"$f":"IF($T$12=\"English\",TranslateMain!$C$87,TranslateMain!$D$87)","v":"Quick Estimated NAC Circuit Length Calculator"},null,null,null,"RAC Maximum Distance Run to Solenoid base on Wiring Gauge, Max Voltage Drop and Line Resistance.",null,null,null,null,null,null,null,null,null,null,0]
[null,null,{"$f":"IF($T$12=\"English\",TranslateMain!$C$88,TranslateMain!$D$88)","v":"Est max wire length - Worst Case - RAC1-SRP"},null,null," ","RAC1 Usage -Solenoid1",null,null,{"$f":"IF(J74>0,(_xlfn.IFS($G$105=\"18AWG\",'Actuator Cable Distance'!$C$72,$G$105=\"16AWG\",'Actuator Cable Distance'!$D$72,$G$105=\"14AWG\",'Actuator Cable Distance'!$E$72,$G$105=\"12AWG\",'Actuator Cable Distance'!$H$72,$G$105=\"1.5mm2\",'Actuator Cable Distance'!$G$72,$G$105=\"2.5mm2\",'Actuator Cable Distance'!$H$72)),\"Solenoid not Selected\")","v":256.98526200000003}," ** Note: RAC Distance reference taken from 4004R installation Guide",null,null,null,null,null,null,0]
[null,null,{"$f":"IF($T$12=\"English\",TranslateMain!$C$89,TranslateMain!$D$89)","v":"Est max wire length - Worst Case - RAC2-SRP"},null,null," ","RAC2 Usage -Solenoid2",null,null,{"$f":"IF(L75>0,(_xlfn.IFS($G$105=\"18AWG\",'Actuator Cable Distance'!$C$36,$G$105=\"16AWG\",'Actuator Cable Distance'!$D$36,$G$105=\"14AWG\",'Actuator Cable Distance'!$E$36,$G$105=\"12AWG\",'Actuator Cable Distance'!$H$36,$G$105=\"1.5mm2\",'Actuator Cable Distance'!$G$36,$G$105=\"2.5mm2\",'Actuator Cable Distance'!$H$36)),\"Discharge Display \")","v":"Discharge Display "}," ",null,null,null,null,null,null,0]
[null,null,{"$f":"IF($T$12=\"English\",TranslateMain!$C$90,TranslateMain!$D$90)","v":"Cables Property Selection to match RAC max Length Requirements"},null,null,null,"Cables Properties used for NAC Wiring",null,null,null," ",null,null,null,null,null,null,null,null,"Standby and Alarm Battery AH Calculation"]
[null,null,{"$f":"IF($T$12=\"English\",TranslateMain!$C$91,TranslateMain!$D$91)","v":"Wire Gauge"},null,null,null,"2.5mm2","Select the Wire Gauge Required for better Distance coverage.",null,null,null,"Cable Thickness",null,null,null,null,null,null,null,null,"Minutes","Hours",null,null,null,11,null,null,null,null,"16AWG"]
[null,null,{"$f":"IF($T$12=\"English\",TranslateMain!$C$92,TranslateMain!$D$92)","v":"Wire Temperature"},null,null,null,"75°C (167°F)","Select the type of Temperature properties for cables.",null,null,null,"Cable Temp",null,null,null,null,null,null,null,"Standby Hours",null,{"$f":"IF(G20=\"Preaction/Deluge\",L134,J133)","v":24},null,null,null,null,null,null,null,null,"75°C (167°F)"]
[null,null,{"$f":"IF($T$12=\"English\",TranslateMain!$C$93,TranslateMain!$D$93)","v":"Unit of Measure"},null,null,null,"Meters","Default at metre",null,null,null,"Metric",null,null,null,null,null,null,null,"Alarm Mins",{"$f":"+J134","v":5},{"$f":"+U115/60","v":8.3333333333333329E-2},null,null,null,null,null,null,null,null,"Meters"]
[null,null,{"$f":"IF($T$12=\"English\",TranslateMain!$C$94,TranslateMain!$D$94)","v":"Ohms / Km"},null,null,null,{"$f":"IF(G114=\"50°C (122°F)\",(_xlfn.IFS($G$113=\"18AWG\",IdnetAddr!$H$3,$G$113=\"16AWG\",IdnetAddr!$I$3,$G$113=\"14AWG\",IdnetAddr!$J$3,$G$113=\"12AWG\",IdnetAddr!$K$3,$G$113=\"1.5mm2\",IdnetAddr!$L$3,$G$113=\"2.5mm2\",IdnetAddr!$M$3)),(_xlfn.IFS($G$113=\"18AWG\",IdnetAddr!$N$3,$G$113=\"16AWG\",IdnetAddr!$O$3,$G$113=\"14AWG\",IdnetAddr!$Q$3,$G$113=\"12AWG\",IdnetAddr!$P$3,$G$113=\"1.5mm2\",IdnetAddr!$Q$3,$G$113=\"2.5mm2\",IdnetAddr!$R$3)))","v":13.582677186},"Automatic from references",null,null,null,"ohm/Km",null,null,null,null,null,null,null,null,"Minutes","Hours",null,null,null,null,null,null,null,null,{"$f":"IF(AE114=\"50°C (122°F)\",(_xlfn.IFS($G$113=\"18AWG\",IdnetAddr!$H$3,$G$113=\"16AWG\",IdnetAddr!$I$3,$G$113=\"14AWG\",IdnetAddr!$J$3,$G$113=\"12AWG\",IdnetAddr!$K$3,$G$113=\"1.5mm2\",IdnetAddr!$L$3,$G$113=\"2.5mm2\",IdnetAddr!$M$3)),(_xlfn.IFS($G$113=\"18AWG\",IdnetAddr!$N$3,$G$113=\"16AWG\",IdnetAddr!$O$3,$G$113=\"14AWG\",IdnetAddr!$Q$3,$G$113=\"12AWG\",IdnetAddr!$P$3,$G$113=\"1.5mm2\",IdnetAddr!$Q$3,$G$113=\"2.5mm2\",IdnetAddr!$R$3)))","v":13.582677186}]
[null,null,{"$f":"IF($T$12=\"English\",TranslateMain!$C$95,TranslateMain!$D$95)","v":"Wiorst Case Maximum Cable Length for NAC wiring"},null,null,null,"Worst Case Only for NAC Wiring",null,null,null,null,null,null,null,null,null,null,0]
[null,null,{"$f":"IF($T$12=\"English\",TranslateMain!$C$96,TranslateMain!$D$96)","v":"Est max wire length - Worst Case - NAC 1"},null,null," ","NAC1 Notification Circuit 1 - Bells",null,null,{"$f":"(IF(J95>0,((((WorseV/(J95/C_Amp))/Res_CB)*C_Res)/Core_2),\"NA\"))","v":2726.7847516255501}," ",null,null,null,null,null,null,0,null,"Panel Calculated Value base on loading"]
[null,null,{"$f":"IF($T$12=\"English\",TranslateMain!$C$97,TranslateMain!$D$97)","v":"Est max wire length - Worst Case - NAC 2"},null,null," ","NAC2 Notification Circuit 1 - Bells",null,null,{"$f":"IF((LEFT(G119,4))=\"RAC1\",(_xlfn.IFS($G$113=\"18AWG\",'Actuator Cable Distance'!$C$38,$G$113=\"16AWG\",'Actuator Cable Distance'!$D$38,$G$113=\"14AWG\",'Actuator Cable Distance'!$E$38,$G$113=\"12AWG\",'Actuator Cable Distance'!$H$38,$G$113=\"1.5mm2\",'Actuator Cable Distance'!$G$38,$G$113=\"2.5mm2\",'Actuator Cable Distance'!$H$38)),(IF(L95>0,((((WorseV/(L95/C_Amp))/Res_CB)*C_Res)/Core_2),\"NA\")))","v":981.64251058519812}," ",null,null,null,null,null,null,0,null," ","mA","Amp"]
[null,null,{"$f":"IF($T$12=\"English\",TranslateMain!$C$98,TranslateMain!$D$98)","v":"Mean Case Maximum Cable Length for NAC Wiring"},null,null,null,"Mean Case only for NAC Wiring",null,null," ",null,null,null,null,null,null,null,0,null,"Stby Current",{"$f":"+I128*1000","v":250.4},{"$f":"+U120/1000","v":0.25040000000000001}]
[null,null,{"$f":"IF($T$12=\"English\",TranslateMain!$C$99,TranslateMain!$D$99)","v":"Est max wire length - Mean + 20% - NAC 1"},null,null,null,{"$f":"+G118","v":"NAC1 Notification Circuit 1 - Bells"},null,null,{"$f":"IF((LEFT(G118,4))=\"RAC3\",(_xlfn.IFS($G$113=\"18AWG\",'Actuator Cable Distance'!$C$38,$G$113=\"16AWG\",'Actuator Cable Distance'!$D$38,$G$113=\"14AWG\",'Actuator Cable Distance'!$E$38,$G$113=\"12AWG\",'Actuator Cable Distance'!$H$38,$G$113=\"1.5mm2\",'Actuator Cable Distance'!$G$38,$G$113=\"2.5mm2\",'Actuator Cable Distance'!$H$38)),(IF(J95>0,((((MeanV/(J95/C_Amp))/Res_CB)*C_Res)/Core_2),\"NA\")))","v":4546.9135733356052}," ",null,null,null,null,null,null,0,null,"Alarm Current",{"$f":"+J128*1000","v":1132},{"$f":"+U121/1000","v":1.1319999999999999}]
[null,null,{"$f":"IF($T$12=\"English\",TranslateMain!$C$100,TranslateMain!$D$100)","v":"Est max wire length - Mean + 20% - NAC 2"},null,null,null,{"$f":"+G119","v":"NAC2 Notification Circuit 1 - Bells"},null,null,{"$f":"IF((LEFT(G119,4))=\"RAC3\",(_xlfn.IFS($G$113=\"18AWG\",'Actuator Cable Distance'!$C$38,$G$113=\"16AWG\",'Actuator Cable Distance'!$D$38,$G$113=\"14AWG\",'Actuator Cable Distance'!$E$38,$G$113=\"12AWG\",'Actuator Cable Distance'!$H$38,$G$113=\"1.5mm2\",'Actuator Cable Distance'!$G$38,$G$113=\"2.5mm2\",'Actuator Cable Distance'!$H$38)),(IF(L95>0,((((MeanV/(L95/C_Amp))/Res_CB)*C_Res)/Core_2),\"NA\")))","v":1636.8888864008179}," ",null,null,null,null,null,null,0,null,"Stby Battery Capacity",{"$f":"+V120*V114","v":6.0096000000000007}]
[null,null,null,null,null,null,{"$f":"SUM(G119:G122)","v":0},null,null,null,null,null,null,null,null,null,null,0,null,"Alarm Battery Capacity",{"$f":"+V121*V115","v":9.4333333333333325E-2}]
[null,null,null,null,null,null,{"$f":"SUM(G120:G123)","v":0},null,null,null,null,null,null,null,null,null,null,0,null,"Total Battery Capacity",{"$f":"+U123+U122","v":6.1039333333333339}]
[null,null,null,null,null,null," ",null,null," ",null,null,null,null,null,null,null,0,null,"Typical Safety factor of 20%",{"$f":"+J135","v":0.25}]
[null,null,{"$f":"IF($T$12=\"English\",TranslateMain!$C$101,TranslateMain!$D$101)","v":"Step 10: Auxillary Power Supply"},null,null,null,"Aux or SNAC",null,{"$f":"+Q95","v":0},{"$f":"+R95","v":383},null,null,null,null,null,null,null,0,null,"Final Battery Capacity",{"$f":"+U124*(1+U125)","v":7.6299166666666673}]
[null,null,{"$f":"IF($T$12=\"English\",TranslateMain!$C$102,TranslateMain!$D$102)","v":"Aux Power or Simple NAC Load - Max 2000mA"},null,null,null,null,"Aux Power Remain",{"$f":"750-I126","v":750},{"$f":"750-J126","v":367},"(Only those items with \"Aux PS\"",null,null,null,null,null,null,0,null,"Market Standard Batteries offering"]
[null,null," ",null,null,null,750,null,{"$f":"(((SUM(N18:N94))-I126+(SUM(N18:N19)))/1000)","v":0.25040000000000001},{"$f":"((SUM(O27:O94)-J126+SUM(O18:O19))/1000)","v":1.1319999999999999},"**Note: Adds up Panel Current, Auxillary Power, RAC and NAC consumption",null,null,null,null,null,null,0,null,"Built in Battery Charger",6.2]
[null,null,{"$f":"IF($T$12=\"English\",TranslateMain!$C$103,TranslateMain!$D$103)","v":"Step 11: Battery Calculation"},null,null,null,{"$f":"3-J128","v":1.8680000000000001},null,{"$f":"IF(G129<0,\"Error , Exceeded Power of Panel\",\"\")","v":""},null,null,null,null,null,null,null,null,0,null,"Built in Battery Charger",10,null,null,null,null,null,"4009 NAC Repeater Standard Batteries offering",null,null,"Total"]
[null,null,{"$f":"IF($T$12=\"English\",TranslateMain!$C$104,TranslateMain!$D$104)","v":"Total Standby and Alarm Loads Amps"},null,null,null,null,null,"Panel Power = 3 Amps",null,"Once Exceed you need to use 4007ES addressable panel in place.",null,null,null,null,null,null,0,null,"Built in Battery Charger",12.7,null,null,null,null,null,"Built in Battery Charger",null,6.2,{"$f":"IF($J$139=6.2,1,0)","v":0}]
[null,null,{"$f":"IF($T$12=\"English\",TranslateMain!$C$105,TranslateMain!$D$105)","v":"Total Standby and Alarm Loads Ampere Hours"},null,null,null,null,null,{"$f":"+I128*24","v":6.0096000000000007},{"$f":"(J128*I134)","v":9.4333333333333325E-2},"The calculated Standby and Alarm Ah",null,null,null,null,null,null,0,null,"Built in Battery Charger",18,null,null,null,null,null,"Built in Battery Charger",null,10,{"$f":"IF($J$139=AC131,1,0)","v":1}]
[null,null," ",null,null,null,null,null,{"$f":"+#REF!+#REF!","v":{"$error":"#REF!"}},{"$f":"+I132*1.2","v":{"$error":"#REF!"}},{"$f":"IF(G20=\"Preaction/Deluge\",\"Warning Auto Standby hrs Changes, cell J114 will be overide\",\"\")","v":""},null,null,null,null,null,null,0,null,"External Battery charger",25,null,null,null,null,null,"Built in Battery Charger",null,12.7,0]
[null,null,{"$f":"IF($T$12=\"English\",TranslateMain!$C$106,TranslateMain!$D$106)","v":"Battery Calculation Standby Hours"},null,null,null,null,null,null,24,{"$f":"IF(G20=\"Preaction/Deluge\",\"** Preaction/Deluge Chosen\",\"\")","v":""},null,null,null,null,null,null,null,null,"External Battery charger",33,null,null,null,null,12,"External Battery Charger",null,18,0,24]
[null,null,{"$f":"IF($T$12=\"English\",TranslateMain!$C$107,TranslateMain!$D$107)","v":"Battery Calculation Alarm Minutes"},null,null,null,null,null,{"$f":"+J134/60","v":8.3333333333333329E-2},5,{"$f":"IF(G20=\"Preaction/Deluge\",\"Standby\",\"\")","v":""},{"$f":"IF(G20=\"Preaction/Deluge\",90,0)","v":0},null,null,null,null,null,null,null,"External Battery charger",50,null,null,null,null,null,"External Battery Charger",null,25,0,5]
[null,null,{"$f":"IF($T$12=\"English\",TranslateMain!$C$108,TranslateMain!$D$108)","v":"Battery Calculation Battery Factor"},null,null,null,null,null,null,0.25,"** Above Appear when Preaction is selected",null,null,null,null,null,null,null,null,"External Battery charger",110,null,null,null,null,null,"External Battery Charger",null,33,0,0.2]
[null,null,null,null,null,null,null,null,null,null,null,null,null,null,null,null,null,null,null,"Base on Logic function",{"$f":"IF(U126<U128,U128,IF(U126<U129,U129,(IF(U126<U129,U129,IF(U126<U132,U132,IF(U126<U133,U133,IF(U126<U134,U134,IF(U126<U135,U135,0))))))))","v":10},null,null,null,null,null,"External Battery charger",null,50,0]
[null,null,{"$f":"IF($T$12=\"English\",TranslateMain!$C$109,TranslateMain!$D$109)","v":"Step 12: Final Battery Ah requirements and if charger required."},null,null,null,null,null,"Total Stby & Alm",{"$f":"+I131+J131","v":6.1039333333333339},null,null,null,null,null,null,null,null,null,"If <12.70=12.70Ah",null,null,null,null,null,null,"External Battery charger",null,110,0]
[null,null,{"$f":"IF($T$12=\"English\",TranslateMain!$C$110,TranslateMain!$D$110)","v":"Total Ampere Hours"},null,null,null,null,null,"20% Safety Factor",{"$f":"+J137*(1+J135)","v":7.6299166666666673},null,null,null,null,null,null,null,null,null,"If <18=18Ah",null,null,null,null,null,null,"Battery Charger from 18 to 50Ah",null,null,{"$f":"SUM(AD133:AD136)","v":0}]
[null,null,{"$f":"IF($T$12=\"English\",TranslateMain!$C$111,TranslateMain!$D$111)","v":"Minimum Calculated Battery Size Required "},null,null,null,{"$f":"IF(J138>U130,\"External Charger\",\"Internal Panel\")","v":"Internal Panel"},0,"Nearest BatteryAh",{"$f":"IF(U126<U128,U128,IF(U126<U129,U129,(IF(U126<U129,U129,IF(U126<U132,U132,IF(U126<U133,U133,IF(U126<U134,U134,IF(U126<U135,U135,0))))))))","v":10},null,null,null,null,null,null,null,null,null,"If <25=25Ah",null,null,null,null,null,null,"Battery Charger from 110AH",null,null,{"$f":"+AD137","v":0}]
[null,null,null,null,null,null,null,null,null,null,null,null,null,null,null,null,null,null,null,"If <50=50Ah"]
[null,null,null,null,null,null,null,null,null,null,null,null,null,null,null,null,null,null,null,"If<110=110Ah"]

{"sheet":"4004RConfigurator","index":5,"n_rows":148,"n_cols":17,"rows_kept":148,"cut":false,"hidden":false,"merged":[[0,3,0,8],[4,0,4,2],[4,3,4,4],[4,11,4,15],[1,4,2,4]]}
[null,null,null,"Simplex Releasing Fire Detection Solution - Manual Overide"]
[null,null,null,null,"** Note: Before Clicing Create BOM\n1.  Goto to 4007ESBOM, Click Clear BOM otherwise old data remains.\n2.  Next Click Filter off, then Filter on to get the latest configuration.\n3.  Finally Click Create BOM.",null,null,null,null,null,null,null,null,null,null,{"$f":"+'4004R(Conventional)'!T12","v":"English"}]
[]
[null,null,null,null,null,"**Note : Filter On is to view all those with>1 on column Qty Setup"]
[" ",null,null,null,null,"**Note: Filter off is to view all including \"0\" value on Column Qty Setup to allow Qty Manual input",null,null,null,null,null,"Equipment Current"]
["POS.","No","Part number","Function","Product Description","Listing","Datasheet","Qty\nSetup","Qty\nManual","Qty\nFinal",null,"Stby Current","Alarm Current",null,0,"Remarks"]
["A"," ","4004R Conventional Suppression Panel",null,null,null,null,{"$f":"SUM(H8:H15)","v":1},null,{"$f":"SUM(J8:J16)","v":1},null," ",null,null,{"$f":"+O6+1","v":1}]
[null,1,"4004-9301","Conventional Panel","4004R Suppression Panel Biege (Std Offering) - Beige","UL & FM Listed","PDF",{"$f":"+'4004R(Conventional)'!U18","v":0},0,{"$f":"+I8+H8","v":0},null,100,264,"Red",2,"Panel"]
[null,{"$f":"+B8+1","v":2},"4004-9302","Conventional Panel","4004R Suppression Panel Red (Std Offering) - Red","UL & FM Listed","PDF",{"$f":"+'4004R(Conventional)'!U19","v":1},0,{"$f":"+I9+H9","v":1},null,100,264,"Platinium",3,"Panel"]
[null,{"$f":"+B9+1","v":3},"4004-9860","Panel Option","Auxillary Relay Board - Max 2","UL & FM Listed","PDF",{"$f":"+'4004R(Conventional)'!G66","v":0},0,0,null,null,null,"Yes",{"$f":"+O9+1","v":4},"Panel"]
[null,{"$f":"+B10+1","v":4},"4004-9864(Class A)","Panel Option","Class A adapter for 2 Cct for IDC or SPM or NAC(Max 4)","UL & FM Listed","PDF",{"$f":"+'4004R(Conventional)'!U20","v":0},0,0,null,20,70,"No",5,"Panel"]
[null,{"$f":"+B11+1","v":5},{"$f":"+AddonDevice!C8","v":"Counter"},{"$f":"+AddonDevice!D8","v":"Countdown Timer"},{"$f":"+AddonDevice!E8","v":"Count Down Timer Locally Source"},{"$f":"+AddonDevice!F8","v":"Local"},null,0,0,0,null,{"$f":"+AddonDevice!H8","v":30},{"$f":"+AddonDevice!I8","v":120},"Invalid",6,{"$f":"+AddonDevice!J8","v":"Aux PS"}]
[null,6,{"$f":"+AddonDevice!C9","v":"Customised 2"},{"$f":"+AddonDevice!D9","v":"Input2A"},{"$f":"+AddonDevice!E9","v":"4004R Panel Input2B"},{"$f":"+AddonDevice!F9","v":"Input2C"},null,0,0,0,null,{"$f":"+AddonDevice!H9","v":0},{"$f":"+AddonDevice!I9","v":0},"Invalid",7,{"$f":"+AddonDevice!J9","v":"Please input \"Aux PS\" if needed"}]
[null,7,{"$f":"+AddonDevice!C10","v":"Customised 3"},{"$f":"+AddonDevice!D10","v":"Input3A"},{"$f":"+AddonDevice!E10","v":"4004R Panel Input3B"},{"$f":"+AddonDevice!F10","v":"Input3C"},null,0,0,0,null,{"$f":"+AddonDevice!H10","v":0},{"$f":"+AddonDevice!I10","v":0},"Invalid",8,{"$f":"+AddonDevice!J10","v":"Please input \"Aux PS\" if needed"}]
[null,8,{"$f":"+AddonDevice!C11","v":"Customised 4"},{"$f":"+AddonDevice!D11","v":"Input4A"},{"$f":"+AddonDevice!E11","v":"4004R Panel Input4B"},{"$f":"+AddonDevice!F11","v":"Input4C"},null,0,0,0,null,{"$f":"+AddonDevice!H11","v":0},{"$f":"+AddonDevice!I11","v":0},"Invalid",9,{"$f":"+AddonDevice!J11","v":"Please input \"Aux PS\" if needed"}]
[null,null,null,null,null,null,null,null,null,0,null,null,null,"Red",10]
["B"," ","Conventional Field Devices",null,null,null,null,{"$f":"SUM(H18:H28)","v":16}," ",{"$f":"SUM(J18:J21)","v":16}]
[null,1,"516.900.201","Conventional Device",{"$f":"IF(P2=\"English\",TranslateMain!$C$12,TranslateMain!$D$12)","v":"721P Smoke Detector UL268 7th Edition"},"UL 268 7th Edition","PDF",{"$f":"+'4004R(Conventional)'!U24","v":8},0,{"$f":"+I18+H18","v":8},null,0.05,35,null,null,"Powered by IDC"]
[null,{"$f":"+B18+1","v":2},"516.900.203","Conventional Device",{"$f":"IF(P2=\"English\",TranslateMain!$C$13,TranslateMain!$D$13)","v":"721H  ROR Heat Detector UL Listed"},"UL & FM ","PDF",{"$f":"+'4004R(Conventional)'!U25","v":0},0,{"$f":"+I19+H19","v":0},null,3.6999999999999998E-2,35,null,null,"Powered by IDC"]
[null,{"$f":"+B19+1","v":3},"516.900.204","Conventional Device",{"$f":"IF(P2=\"English\",TranslateMain!$C$14,TranslateMain!$D$14)","v":"722H Fixed Temp Heat "},"UL & FM ","PDF",{"$f":"+'4004R(Conventional)'!U26","v":0},0,{"$f":"+I20+H20","v":0},null,3.6999999999999998E-2,35,null,null,"Powered by IDC"]
[null,{"$f":"+B20+1","v":4},"516.900.206","Conventional Device",{"$f":"IF(P2=\"English\",TranslateMain!$C$15,TranslateMain!$D$15)","v":"700 Series Detector Base(Base on nos of Smoke & Heat Det)"},"UL & FM ","PDF",{"$f":"+'4004R(Conventional)'!U27","v":8},0,{"$f":"+I21+H21","v":8},null,null,null,null,null,"Powered by IDC"]
[null,null,null,null,null,null,null,0,null,{"$f":"SUM(J23:J29)","v":0},null,null,null,null,null,"IDC"]
[null,{"$f":"+B21+1","v":5},"516.900.205","Conventional Device",{"$f":"IF(P2=\"English\",TranslateMain!$C$16,TranslateMain!$D$16)","v":"723H - HEAT FIX 200F DET UL"},"UL & FM","PDF",0,0,{"$f":"+I23+H23","v":0},null,3.6999999999999998E-2,35,null,null,"Powered by IDC"]
[null,{"$f":"+B23+1","v":6},"516.900.202","Conventional Device",{"$f":"IF(P2=\"English\",TranslateMain!$C$17,TranslateMain!$D$17)","v":"721PH - OPT&HEAT DET UL"},"UL & FM","PDF",0,0,0,null,0.06,35,null,null,"Powered by IDC"]
[null,7,{"$f":"+AddonDevice!C99","v":"Customised 1"},{"$f":"+AddonDevice!D99","v":"Input1A"},{"$f":"IF(P2=\"English\",TranslateMain!$C$18,TranslateMain!$D$18)","v":"Customised input - 2 Wire Powered Device"},{"$f":"+AddonDevice!F99","v":"Input1C"},null,0,0,0,null,{"$f":"+AddonDevice!H99","v":0},{"$f":"+AddonDevice!I99","v":0},null,null,{"$f":"+AddonDevice!J99","v":"Powered by IDC"}]
[null,8,{"$f":"+AddonDevice!C100","v":"Customised 2"},{"$f":"+AddonDevice!D100","v":"Input2A"},{"$f":"IF(P2=\"English\",TranslateMain!$C$19,TranslateMain!$D$19)","v":"Customised input - 2 Wire Powered Device"},{"$f":"+AddonDevice!F100","v":"Input2C"},null,0,0,0,null,{"$f":"+AddonDevice!H100","v":0},{"$f":"+AddonDevice!I100","v":0},null,null,{"$f":"+AddonDevice!J100","v":"Powered by IDC"}]
[null,9,{"$f":"+AddonDevice!C101","v":"Customised 3"},{"$f":"+AddonDevice!D101","v":"Input3A"},{"$f":"IF(P2=\"English\",TranslateMain!$C$20,TranslateMain!$D$20)","v":"Customised input - 2 Wire Powered Device"},{"$f":"+AddonDevice!F101","v":"Input3C"},null,0,0,0,null,{"$f":"+AddonDevice!H101","v":0},{"$f":"+AddonDevice!I101","v":0},null,null,{"$f":"+AddonDevice!J101","v":"Powered by IDC"}]
[null,10,{"$f":"+AddonDevice!C102","v":"Customised 4"},{"$f":"+AddonDevice!D102","v":"Input4A"},{"$f":"IF(P2=\"English\",TranslateMain!$C$21,TranslateMain!$D$21)","v":"Customised input - 2 Wire Powered Device"},{"$f":"+AddonDevice!F102","v":"Input4C"},null,0,0,0,null,{"$f":"+AddonDevice!H102","v":0},{"$f":"+AddonDevice!I102","v":0},null,null,{"$f":"+AddonDevice!J102","v":"Powered by IDC"}]
[null,null,null,null,null,null,null,0,null,0]
["C",null,"Conventional Field Devices - Special",null,null,null,null,{"$f":"SUM(H31:H43)","v":0},null,{"$f":"IF(SUM(J31:J37)>0,1,0)","v":0}]
[null,1,"601F","Conventional Device",{"$f":"IF(P2=\"English\",TranslateMain!$C$22,TranslateMain!$D$22)","v":"Zettler Single IR Point Flame Detector"},"EN54-10","PDF",{"$f":"+'4004R(Conventional)'!U34","v":0},0,0,null,0,0,null,null,"Power by IDC"]
[null,{"$f":"+B31+1","v":2},"FV400","Conventional Device",{"$f":"IF(P2=\"English\",TranslateMain!$C$23,TranslateMain!$D$23)","v":"Zettler Triple IR Flame Detector"},"EN54 Approval &FM ","PDF",{"$f":"+'4004R(Conventional)'!U35","v":0},0,0,null,8,20,null,null,"Aux PS"]
[null,null,"Option Camera","Built in",{"$f":"IF(P2=\"English\",TranslateMain!$C$24,TranslateMain!$D$24)","v":"Zettler Triple IR Flame Detection Optional Camera"},{"$f":"+F32","v":"EN54 Approval &FM "},"PDF",{"$f":"+'4004R(Conventional)'!G36","v":0},0,{"$f":"+I33+H33","v":0},null,85,85,null,null,"Aux PS"]
[null,null,"Window Heater","Built in",{"$f":"IF(P2=\"English\",TranslateMain!$C$25,TranslateMain!$D$25)","v":"Zettler Triple IR Flame Detection Optional Heater"},{"$f":"+F33","v":"EN54 Approval &FM "},"PDF",{"$f":"+'4004R(Conventional)'!G37","v":0},0,0,null,245,245,null,null,"Aux PS"]
[null,{"$f":"+B32+1","v":3},"ProReact","Conventional Device",{"$f":"IF(P2=\"English\",TranslateMain!$C$26,TranslateMain!$D$26)","v":"Zettler Linear Heat Detector Copper"},"UL 521","PDF",{"$f":"+'4004R(Conventional)'!U38","v":0},0,0,null,70,100,null,null,"Aux PS"]
[null,{"$f":"+B35+1","v":4},"APSensing","Conventional Device",{"$f":"IF(P2=\"English\",TranslateMain!$C$27,TranslateMain!$D$27)","v":"Zettler Linear Heat Detector Fiber Optic"},"EN 54/5-A1 & VDS","PDF",{"$f":"+'4004R(Conventional)'!U39","v":0},0,{"$f":"+I36+H36","v":0},null,0,0,null,null,"TBA"]
[null,5,"FireRay","Conventional Device",{"$f":"IF(P2=\"English\",TranslateMain!$C$28,TranslateMain!$D$28)","v":"Zettler Beam Detector"},"UL268 &VDS","PDF",{"$f":"+'4004R(Conventional)'!U40","v":0},0,{"$f":"+I37+H37","v":0},null,5.5,35,null,null,"Aux PS"]
[null,null,null,null,null,null,null,0,null,0,null,null,null,null,null,"Aux PS*"]
[null,{"$f":"+B36+1","v":5},{"$f":"+AddonDevice!C105","v":"Customised 1"},{"$f":"+AddonDevice!D105","v":"Input1A"},{"$f":"IF(P2=\"English\",TranslateMain!$C$29,TranslateMain!$D$29)","v":"Customised input Wired Powered by IDC"},{"$f":"+AddonDevice!F105","v":"Input1C"},null,0,0,0,null,{"$f":"+AddonDevice!H105","v":0},{"$f":"+AddonDevice!I105","v":0},null,null,{"$f":"+AddonDevice!J105","v":"Aux PS"}]
[null,{"$f":"+B39+1","v":6},{"$f":"+AddonDevice!C106","v":"Customised 2"},{"$f":"+AddonDevice!D106","v":"Input2A"},{"$f":"IF(P2=\"English\",TranslateMain!$C$30,TranslateMain!$D$30)","v":"Customised input Wired Powered by IDC"},{"$f":"+AddonDevice!F106","v":"Input2C"},null,0,0,0,null,{"$f":"+AddonDevice!H106","v":0},{"$f":"+AddonDevice!I106","v":0},null,null,{"$f":"+AddonDevice!J106","v":"Aux PS"}]
[null,7,{"$f":"+AddonDevice!C107","v":"Customised 3"},{"$f":"+AddonDevice!D107","v":"Input3A"},{"$f":"IF(P2=\"English\",TranslateMain!$C$31,TranslateMain!$D$31)","v":"Customised input Wired Powered by IDC"},{"$f":"+AddonDevice!F107","v":"Input3C"},null,0,0,0,null,{"$f":"+AddonDevice!H107","v":0},{"$f":"+AddonDevice!I107","v":0},null,null,{"$f":"+AddonDevice!J107","v":"Aux PS"}]
[null,8,{"$f":"+AddonDevice!C108","v":"Customised 4"},{"$f":"+AddonDevice!D108","v":"Input4A"},{"$f":"IF(P2=\"English\",TranslateMain!$C$32,TranslateMain!$D$32)","v":"Customised input Wired Powered by IDC"},{"$f":"+AddonDevice!F108","v":"Input4C"},null,0,0,0,null,{"$f":"+AddonDevice!H108","v":0},{"$f":"+AddonDevice!I108","v":0},null,null,{"$f":"+AddonDevice!J108","v":"Aux PS"}]
[null,9,{"$f":"+AddonDevice!C109","v":"Customised 5"},{"$f":"+AddonDevice!D109","v":"Input5A"},{"$f":"IF(P2=\"English\",TranslateMain!$C$33,TranslateMain!$D$33)","v":"Customised input Wired Powered by IDC"},{"$f":"+AddonDevice!F109","v":"Input5C"},null,0,0,0,null,{"$f":"+AddonDevice!H109","v":0},{"$f":"+AddonDevice!I109","v":0},null,null,{"$f":"+AddonDevice!J109","v":"Aux PS"}]
[null,null," "," "," "," ",null,0," ",{"$f":"IF(SUM(J31:J37)>0,1,0)","v":0},null," "," ",null,null," "]
["D"," ","Conventional Notification Devices",null,null,null,null,{"$f":"SUM(#REF!)","v":{"$error":"#REF!"}},null,{"$f":"SUM(J46:J50)","v":4}]
[" ",1,"4901-9820","Horn Only","Red Wall Mounted Horn","UL & FM ","PDF",{"$f":"+'4004R(Conventional)'!U88","v":0},0,{"$f":"+I46+H46","v":0},null,0,27,null,null,"Powered by NAC"]
["  ",2,"4906-9127","Horn & Strobe","15 cd Red Wall Horn Strobe","UL & FM ","PDF",{"$f":"+'4004R(Conventional)'!U85","v":2},0,{"$f":"+I47+H47","v":2},null,0,75,null,null,"Powered by NAC"]
[" ",3,"4906-9127","Horn & Strobe","30 cd Red Wall Horn Strobe","UL & FM ","PDF",{"$f":"+'4004R(Conventional)'!U86","v":0},0,{"$f":"+I48+H48","v":0},null,0,116,null,null,"Powered by NAC"]
[" ",4,"4906-9127","Horn & Strobe","75 cd Red Wall Horn Strobe","UL & FM ","PDF",{"$f":"+'4004R(Conventional)'!U87","v":0},0,{"$f":"+I49+H49","v":0},null,0,221,null,null,"Powered by NAC"]
[" ",5,"43T-G6-24-R","Bell","Vibrating Bell 6\" - 24 VDC","UL","PDF",{"$f":"+'4004R(Conventional)'!U84","v":2},0,{"$f":"+I50+H50","v":2},null,0,41,null,null,"Powered by NAC"]
[null,null,null,null,null,null,null,0,null,{"$f":"SUM(J52:J57)","v":0}]
[null,{"$f":"+B50+1","v":6},{"$f":"+AddonDevice!C112","v":"Customised 1"},{"$f":"+AddonDevice!D112","v":"Input1A"},{"$f":"+AddonDevice!E112","v":"Input1B - Notification Device 1"},{"$f":"+AddonDevice!F112","v":"Input1C"}," ",{"$f":"+'4004R(Conventional)'!U89","v":0},0,{"$f":"+I52+H52","v":0},null,0,0,null,null,{"$f":"+AddonDevice!J112","v":"NAC Powered"}]
[null,{"$f":"+B52+1","v":7},{"$f":"+AddonDevice!C113","v":"Customised 2"},{"$f":"+AddonDevice!D113","v":"Input2A"},{"$f":"+AddonDevice!E113","v":"Input2B - Notification Device 2"},{"$f":"+AddonDevice!F113","v":"Input2C"}," ",{"$f":"+'4004R(Conventional)'!U90","v":0},0,0,null,0,0,null,null,{"$f":"+P52","v":"NAC Powered"}]
[null,8,{"$f":"+AddonDevice!C114","v":"Customised 3"},{"$f":"+AddonDevice!D114","v":"Input3A"},{"$f":"+AddonDevice!E114","v":"Input3B - Notification Device 3"},{"$f":"+AddonDevice!F114","v":"Input3C"},null,{"$f":"+'4004R(Conventional)'!U91","v":0},0,0,null,0,0,null,null,{"$f":"+P53","v":"NAC Powered"}]
[null,9,{"$f":"+AddonDevice!C115","v":"Customised 4"},{"$f":"+AddonDevice!D115","v":"Input4A"},{"$f":"+AddonDevice!E115","v":"Input4B - Notification Device 4"},{"$f":"+AddonDevice!F115","v":"Input4C"},null,{"$f":"+'4004R(Conventional)'!U92","v":0},0,0,null,0,0,null,null,{"$f":"+P54","v":"NAC Powered"}]
[null,10,{"$f":"+AddonDevice!C116","v":"Customised 5"},{"$f":"+AddonDevice!D116","v":"Input5A"},{"$f":"+AddonDevice!E116","v":"Input5B - Notification Device 5"},{"$f":"+AddonDevice!F116","v":"Input5C"},null,{"$f":"+'4004R(Conventional)'!U93","v":0},0,0,null,0,0,null,null,{"$f":"+P55","v":"NAC Powered"}]
[null,11,{"$f":"+AddonDevice!C117","v":"Customised 6"},{"$f":"+AddonDevice!D117","v":"Input6A"},{"$f":"+AddonDevice!E117","v":"Input6B - Notifiation Device 6"},{"$f":"+AddonDevice!F117","v":"Input6C"},null,{"$f":"+'4004R(Conventional)'!U94","v":0},0,0,null,0,0,null,null,{"$f":"+P56","v":"NAC Powered"}]
["E"," ","NAC Circuits : Installation Info on Max Distance Run from 4004R Panel NAC circuit to Notification Devices",null,null,null,null,{"$f":"SUM(H66:H111)","v":14},null,{"$f":"SUM(J59:J65)","v":3926.0099393967485}]
[null,{"$f":"+B57+1","v":12},"Max Cable Distance","Zone 1","Maximum NAC Distance Run from 4004R Panel NAC Circuit to Notification Zone last Devices.","Worse Case ",null,{"$f":"+'4004R(Conventional)'!J118","v":2726.7847516255501},0,{"$f":"+H59+I59","v":2726.7847516255501}]
[null,{"$f":"+B59+1","v":13},"Current Loading","Zone 1","Current Loading Base on Notification Devices Selected",null,null,{"$f":"+'4004R(Conventional)'!G100","v":54},0,{"$f":"+H60+I60","v":54}]
[null,{"$f":"+B60+1","v":14},"Max Cable Distance","Zone 2","Maximum NAC Distance Run from 4004R Panel NAC Circuit to Notification Zone last Devices.","Worse Case ",null,{"$f":"+'4004R(Conventional)'!J119","v":981.64251058519812},0,{"$f":"+H61+I61","v":981.64251058519812}]
[null,{"$f":"+B61+1","v":15},"Current Loading","Zone 2","Current Loading Base on Notification Devices Selected",null,null,{"$f":"+'4004R(Conventional)'!G101","v":150},0,{"$f":"+H62+I62","v":150}]
[null,{"$f":"+B62+1","v":16},"Cable Wire Gauge","Common Both Zones","Cable Wire Gauge Selected",null,null,{"$f":"+'4004R(Conventional)'!G113","v":"2.5mm2"},0,{"$f":"+H63","v":"2.5mm2"}]
[null,{"$f":"+B63+1","v":17},"Cable Ohm/Km","Ohm per Kilometer","Maximum Ohm per Kilometer for Cables used",null,null,{"$f":"+Res_CB","v":13.582677186},0,{"$f":"+H64+I64","v":13.582677186}]
[null,null,null,null,null,null,null,0,null," ",null,null,null,null,null,{"$f":"+AddonDevice!J26","v":0}]
["F"," ","Releasing Peripherals( Conventional)",null,null," ",null,{"$f":"SUM(H67:H80)","v":6},null,{"$f":"SUM(J67:J73)","v":5}]
[null,1,"2099-9149","Conventional Device","Conventional Manual Overide Pullstation","UL268 & FM","PDF",{"$f":"+'4004R(Conventional)'!U55","v":1},0,1,null,null,null,null,null,"Input Monitoring"]
[null,{"$f":"+B67+1","v":2},"4099-9802","Sticker","Pull Station Suppression Label Kit for Specific Application","NA",null,{"$f":"+'4004R(Conventional)'!G56","v":1},0,{"$f":"+I68+H68","v":1},null,null,null,null,null,"Label Kit"]
[null,{"$f":"+B68+1","v":3},"2081-9046","RAC Accessories","Coil Supervision Module (01 Each RAC)","UL Listed","PDF",{"$f":"+'4004R(Conventional)'!U80","v":1},0,1,null,0,0,null,null,"RAC Accessories"]
[null,{"$f":"+B69+1","v":4},"2081-9067","Accessories","Abort Switch","UL Listed","PDF",{"$f":"+'4004R(Conventional)'!U54","v":1},0,1,null,null,null,null,null,"Input Monitoring"]
[null,5,"2080-9059","Accessories","Maintenance Switch without Lights","UL Listed","PDF",{"$f":"+'4004R(Conventional)'!U79","v":0},0,0,null,null,null,null,null,"RAC Accessories"]
[null,{"$f":"+B71+1","v":6},"2080-9069","Accessories","Maintenance Switch with Lights","UL Listed","PDF",{"$f":"+'4004R(Conventional)'!U78","v":1},0,1,null,0,83,null,null,"Aux PS"]
[null," "," "," "," "," "," "," "," "," "," "," "," ",null,null," "]
[null,null,null,null,null,null,null,0,null,{"$f":"SUM(J75:J81)","v":1}]
[null,{"$f":"+B72+1","v":7},{"$f":"+AddonDevice!C42","v":"Local"},{"$f":"+AddonDevice!D42","v":"Discharge Signage"},{"$f":"AddonDevice!E42","v":"Discharge Display  Signage"},{"$f":"+AddonDevice!F42","v":"Local"},null,{"$f":"+'4004R(Conventional)'!U70+(IF('4004R(Conventional)'!B75=\"R2\",'4004R(Conventional)'!G75,0))","v":1},0,{"$f":"+I75+H75","v":1},null,{"$f":"+AddonDevice!H42","v":0},180,null,null,"Aux PS"]
[null,{"$f":"+B75+1","v":8},{"$f":"+AddonDevice!C43","v":"Local"},{"$f":"+AddonDevice!D43","v":"1st Alarm Signage"},{"$f":"+AddonDevice!E43","v":"Pre Release Display Signage"},{"$f":"+AddonDevice!F43","v":"Local"},null,{"$f":"+'4004R(Conventional)'!U62","v":0},0,0,null,{"$f":"+AddonDevice!H43","v":0},180,null,null,"Aux PS"]
[null,9,{"$f":"+AddonDevice!C44","v":"Customised 3"},{"$f":"+AddonDevice!D44","v":"Input1A"},{"$f":"+AddonDevice!E44","v":"Releasing Peripherals Input3B"},{"$f":"+AddonDevice!F44","v":"Input3C"},null,0,0,0,null,{"$f":"+AddonDevice!H44","v":0},{"$f":"+AddonDevice!I44","v":0},null,null,{"$f":"+AddonDevice!L44","v":0}]
[null,10,{"$f":"+AddonDevice!C45","v":"Customised 4"},{"$f":"+AddonDevice!D45","v":"Input4A"},{"$f":"+AddonDevice!E45","v":"Releasing Peripherals Input4B"},{"$f":"+AddonDevice!F45","v":"Input4C"},null,0,0,0,null,{"$f":"+AddonDevice!H45","v":0},{"$f":"+AddonDevice!I45","v":0},null,null,{"$f":"+AddonDevice!L45","v":0}]
[null,11,{"$f":"+AddonDevice!C46","v":"Customised 5"},{"$f":"+AddonDevice!D46","v":"Input5A"},{"$f":"+AddonDevice!E46","v":"Releasing Peripherals Input5B"},{"$f":"+AddonDevice!F46","v":"Input5C"},null,0,0,0,null,{"$f":"+AddonDevice!H46","v":0},{"$f":"+AddonDevice!I46","v":0},null,null,{"$f":"+AddonDevice!L46","v":0}]
[null,12,{"$f":"+AddonDevice!C47","v":"Customised 6"},{"$f":"+AddonDevice!D47","v":"Input6A"},{"$f":"+AddonDevice!E47","v":"Releasing Peripherals Input6B"},{"$f":"+AddonDevice!F47","v":"Input6C"},null,0,0,0,null,{"$f":"+AddonDevice!H47","v":0},{"$f":"+AddonDevice!I47","v":0},null,null,{"$f":"+AddonDevice!L47","v":0}]
[null,null,null,null,null,null,null,0,null," "]
["G"," ","Releasing Actuators",null,null," ",null,{"$f":"SUM(H85:H130)","v":1},null,{"$f":"SUM(J83:J130)","v":1}]
[" ","R2",null,"RAC2","The RAC2 is being used for Discharge Display Signal.",null,null,{"$f":"IF('4004R(Conventional)'!B76=R1,0,0)","v":0},0,{"$f":"+I83+H83","v":0},null,0,0,null,null,"For Selection only"]
[null,0," ","No Selection","No Actuator Selected",null,null,{"$f":"IF('4004R(Conventional)'!B79=0,0,0)","v":0},0,{"$f":"+I84+H84","v":0},null,0,0,null,null,0]
[null,1," ",{"$f":"+AddonDevice!D50","v":"Ansul"},{"$f":"+AddonDevice!E50","v":"AUTOMAN II-C Assembly (solenoid 17728; coil 25924)"},null,null,{"$f":"(IF('4004R(Conventional)'!$B$77=1,'4004R(Conventional)'!$G$74,0))+(IF('4004R(Conventional)'!$B$78=1,'4004R(Conventional)'!$G$75,0))","v":0},0,{"$f":"+I85+H85","v":0},null,{"$f":"+AddonDevice!H50","v":0},{"$f":"+AddonDevice!I50","v":750},{"$f":"+AddonDevice!J50","v":"RAC Powered"},{"$f":"+AddonDevice!K50","v":0},{"$f":"+AddonDevice!J50","v":"RAC Powered"}]
[null,{"$f":"+B85+1","v":2}," ",{"$f":"+AddonDevice!D51","v":"Ansul"},{"$f":"+AddonDevice!E51","v":"AUTOMAN II-C Explosion-Proof Releasing Device (solenoid 31492; coil 31438)"},null,null,{"$f":"(IF('4004R(Conventional)'!$B$77=2,'4004R(Conventional)'!$G$74,0))+(IF('4004R(Conventional)'!$B$78=2,'4004R(Conventional)'!$G$75,0))","v":0},0,0,null,{"$f":"+AddonDevice!H51","v":0},{"$f":"+AddonDevice!I51","v":750},{"$f":"+AddonDevice!J51","v":"RAC Powered"},{"$f":"+AddonDevice!K51","v":0},{"$f":"+AddonDevice!J51","v":"RAC Powered"}]
[null,{"$f":"+B86+1","v":3}," ",{"$f":"+AddonDevice!D52","v":"Ansul"},{"$f":"+AddonDevice!E52","v":"AUTOMAN II-C Assembly (solenoid 68739; coil 25924)"},null,null,{"$f":"(IF('4004R(Conventional)'!$B$77=3,'4004R(Conventional)'!$G$74,0))+(IF('4004R(Conventional)'!$B$78=3,'4004R(Conventional)'!$G$75,0))","v":0},0,0,null,{"$f":"+AddonDevice!H52","v":0},{"$f":"+AddonDevice!I52","v":750},{"$f":"+AddonDevice!J52","v":"RAC Powered"},{"$f":"+AddonDevice!K52","v":0},{"$f":"+AddonDevice!J52","v":"RAC Powered"}]
[null,{"$f":"+B87+1","v":4}," ",{"$f":"+AddonDevice!D53","v":"Ansul"},{"$f":"+AddonDevice!E53","v":"Solenoid Electric Actuator (solenoid 73111; coil 73097)"},null,null,{"$f":"(IF('4004R(Conventional)'!$B$77=4,'4004R(Conventional)'!$G$74,0))+(IF('4004R(Conventional)'!$B$78=4,'4004R(Conventional)'!$G$75,0))","v":0},0,0,null,{"$f":"+AddonDevice!H53","v":0},{"$f":"+AddonDevice!I53","v":1000},{"$f":"+AddonDevice!J53","v":"RAC Powered"},{"$f":"+AddonDevice!K53","v":0},{"$f":"+AddonDevice!J53","v":"RAC Powered"}]
[null,5," ",{"$f":"+AddonDevice!D54","v":"Ansul"},{"$f":"+AddonDevice!E54","v":"*CV90 HF Electric Actuator 73327"},null,null,{"$f":"(IF('4004R(Conventional)'!$B$77=5,'4004R(Conventional)'!$G$74,0))+(IF('4004R(Conventional)'!$B$78=5,'4004R(Conventional)'!$G$75,0))","v":0},0,0,null,{"$f":"+AddonDevice!H54","v":0},{"$f":"+AddonDevice!I54","v":570},{"$f":"+AddonDevice!J54","v":"RAC Powered"},{"$f":"+AddonDevice!K54","v":0},{"$f":"+AddonDevice!J54","v":"RAC Powered"}]
[null,6," ",{"$f":"+AddonDevice!D55","v":"Ansul"},{"$f":"+AddonDevice!E55","v":"LP CO2 w/ASCO solenoid 422934"},null,null,{"$f":"(IF('4004R(Conventional)'!$B$77=6,'4004R(Conventional)'!$G$74,0))+(IF('4004R(Conventional)'!$B$78=6,'4004R(Conventional)'!$G$75,0))","v":0},0,0,null,{"$f":"+AddonDevice!H55","v":0},{"$f":"+AddonDevice!I55","v":442},{"$f":"+AddonDevice!J55","v":"RAC Powered"},{"$f":"+AddonDevice!K55","v":0},{"$f":"+AddonDevice!J55","v":"RAC Powered"}]
[null,7," ",{"$f":"+AddonDevice!D56","v":"Ansul"},{"$f":"+AddonDevice!E56","v":"LP CO2 double action 24 VDC solenoid 430948"},null,null,{"$f":"(IF('4004R(Conventional)'!$B$77=7,'4004R(Conventional)'!$G$74,0))+(IF('4004R(Conventional)'!$B$78=7,'4004R(Conventional)'!$G$75,0))","v":1},0,1,null,{"$f":"+AddonDevice!H56","v":0},{"$f":"+AddonDevice!I56","v":438},{"$f":"+AddonDevice!J56","v":"RAC Powered"},{"$f":"+AddonDevice!K56","v":0},{"$f":"+AddonDevice!J56","v":"RAC Powered"}]
[null,8," ",{"$f":"+AddonDevice!D57","v":"Ansul"},{"$f":"+AddonDevice!E57","v":"LP CO2 3-way selector valve solenoid 433419"},null,null,{"$f":"(IF('4004R(Conventional)'!$B$77=8,'4004R(Conventional)'!$G$74,0))+(IF('4004R(Conventional)'!$B$78=8,'4004R(Conventional)'!$G$75,0))","v":0},0,0,null,{"$f":"+AddonDevice!H57","v":0},{"$f":"+AddonDevice!I57","v":438},{"$f":"+AddonDevice!J57","v":"RAC Powered"},{"$f":"+AddonDevice!K57","v":0},{"$f":"+AddonDevice!J57","v":"RAC Powered"}]
[null,9," ",{"$f":"+AddonDevice!D58","v":"Ansul"},{"$f":"+AddonDevice!E58","v":"Electric Actuator 24 VDC solenoid 570537"},null,null,{"$f":"(IF('4004R(Conventional)'!$B$77=9,'4004R(Conventional)'!$G$74,0))+(IF('4004R(Conventional)'!$B$78=9,'4004R(Conventional)'!$G$75,0))","v":0},0,0,null,{"$f":"+AddonDevice!H58","v":0},{"$f":"+AddonDevice!I58","v":250},{"$f":"+AddonDevice!J58","v":"RAC Powered"},{"$f":"+AddonDevice!K58","v":0},{"$f":"+AddonDevice!J58","v":"RAC Powered"}]
[null,10," ",{"$f":"+AddonDevice!D59","v":"ASCO"},{"$f":"+AddonDevice!E59","v":"8210A107 (097617-005D coil)"},null,null,{"$f":"(IF('4004R(Conventional)'!$B$77=10,'4004R(Conventional)'!$G$74,0))+(IF('4004R(Conventional)'!$B$78=10,'4004R(Conventional)'!$G$75,0))","v":0},0,0,null,{"$f":"+AddonDevice!H59","v":0},{"$f":"+AddonDevice!I59","v":750},{"$f":"+AddonDevice!J59","v":"RAC Powered"},{"$f":"+AddonDevice!K59","v":0},{"$f":"+AddonDevice!J59","v":"RAC Powered"}]
[null,11," ",{"$f":"+AddonDevice!D60","v":"ASCO"},{"$f":"+AddonDevice!E60","v":"8210G207 (238310 coil)"},null,null,{"$f":"(IF('4004R(Conventional)'!$B$77=11,'4004R(Conventional)'!$G$74,0))+(IF('4004R(Conventional)'!$B$78=11,'4004R(Conventional)'!$G$75,0))","v":0},0,0,null,{"$f":"+AddonDevice!H60","v":0},{"$f":"+'4004R(Conventional)'!J74","v":438},{"$f":"+AddonDevice!J60","v":"RAC Powered"},{"$f":"+AddonDevice!K60","v":0},{"$f":"+AddonDevice!J60","v":"RAC Powered"}]
[null,12," ",{"$f":"+AddonDevice!D61","v":"ASCO"},{"$f":"+AddonDevice!E61","v":"8211A107 (097617-005D coil)"},null,null,{"$f":"(IF('4004R(Conventional)'!$B$77=12,'4004R(Conventional)'!$G$74,0))+(IF('4004R(Conventional)'!$B$78=12,'4004R(Conventional)'!$G$75,0))","v":0},0,0,null,{"$f":"+AddonDevice!H61","v":0},{"$f":"+AddonDevice!I61","v":750},{"$f":"+AddonDevice!J61","v":"RAC Powered"},{"$f":"+AddonDevice!K61","v":0},{"$f":"+AddonDevice!J61","v":"RAC Powered"}]
[null,13," ",{"$f":"+AddonDevice!D62","v":"ASCO"},{"$f":"+AddonDevice!E62","v":"8262H182 (238910 coil)"},null,null,{"$f":"(IF('4004R(Conventional)'!$B$77=13,'4004R(Conventional)'!$G$74,0))+(IF('4004R(Conventional)'!$B$78=13,'4004R(Conventional)'!$G$75,0))","v":0},0,0,null,{"$f":"+AddonDevice!H62","v":0},{"$f":"+AddonDevice!I62","v":483},{"$f":"+AddonDevice!J62","v":"RAC Powered"},{"$f":"+AddonDevice!K62","v":0},{"$f":"+AddonDevice!J62","v":"RAC Powered"}]
[null,14," ",{"$f":"+AddonDevice!D63","v":"ASCO"},{"$f":"+AddonDevice!E63","v":"EF8210G001MBMO"},null,null,{"$f":"(IF('4004R(Conventional)'!$B$77=14,'4004R(Conventional)'!$G$74,0))+(IF('4004R(Conventional)'!$B$78=14,'4004R(Conventional)'!$G$75,0))","v":0},0,0,null,{"$f":"+AddonDevice!H63","v":0},{"$f":"+AddonDevice!I63","v":450},{"$f":"+AddonDevice!J63","v":"RAC Powered"},{"$f":"+AddonDevice!K63","v":0},{"$f":"+AddonDevice!J63","v":"RAC Powered"}]
[null,15," ",{"$f":"+AddonDevice!D64","v":"ASCO"},{"$f":"+AddonDevice!E64","v":"HV2628571 (23810 coil)"},null,null,{"$f":"(IF('4004R(Conventional)'!$B$77=15,'4004R(Conventional)'!$G$74,0))+(IF('4004R(Conventional)'!$B$78=15,'4004R(Conventional)'!$G$75,0))","v":0},0,0,null,{"$f":"+AddonDevice!H64","v":0},{"$f":"+AddonDevice!I64","v":442},{"$f":"+AddonDevice!J64","v":"RAC Powered"},{"$f":"+AddonDevice!K64","v":0},{"$f":"+AddonDevice!J64","v":"RAC Powered"}]
[null,16," ",{"$f":"+AddonDevice!D65","v":"ASCO"},{"$f":"+AddonDevice!E65","v":"HV2648581 (23810 coil)"},null,null,{"$f":"(IF('4004R(Conventional)'!$B$77=16,'4004R(Conventional)'!$G$74,0))+(IF('4004R(Conventional)'!$B$78=16,'4004R(Conventional)'!$G$75,0))","v":0},0,0,null,{"$f":"+AddonDevice!H65","v":0},{"$f":"+AddonDevice!I65","v":442},{"$f":"+AddonDevice!J65","v":"RAC Powered"},{"$f":"+AddonDevice!K65","v":0},{"$f":"+AddonDevice!J65","v":"RAC Powered"}]
[null,17," ",{"$f":"+AddonDevice!D66","v":"ASCO"},{"$f":"+AddonDevice!E66","v":"R8210A107 (097617-005D coil)"},null,null,{"$f":"(IF('4004R(Conventional)'!$B$77=17,'4004R(Conventional)'!$G$74,0))+(IF('4004R(Conventional)'!$B$78=17,'4004R(Conventional)'!$G$75,0))","v":0},0,0,null,{"$f":"+AddonDevice!H66","v":0},{"$f":"+AddonDevice!I66","v":700},{"$f":"+AddonDevice!J66","v":"RAC Powered"},{"$f":"+AddonDevice!K66","v":0},{"$f":"+AddonDevice!J66","v":"RAC Powered"}]
[null,18," ",{"$f":"+AddonDevice!D67","v":"ASCO"},{"$f":"+AddonDevice!E67","v":"T8210A107 (097617-005D coil)"},null,null,{"$f":"(IF('4004R(Conventional)'!$B$77=18,'4004R(Conventional)'!$G$74,0))+(IF('4004R(Conventional)'!$B$78=18,'4004R(Conventional)'!$G$75,0))","v":0},0,0,null,{"$f":"+AddonDevice!H67","v":0},{"$f":"+AddonDevice!I67","v":700},{"$f":"+AddonDevice!J67","v":"RAC Powered"},{"$f":"+AddonDevice!K67","v":0},{"$f":"+AddonDevice!J67","v":"RAC Powered"}]
[null,19," ",{"$f":"+AddonDevice!D68","v":"Hygood"},{"$f":"+AddonDevice!E68","v":"304.205.010 – Electrical Actuator Suppression Diode"},null,null,{"$f":"(IF('4004R(Conventional)'!$B$77=19,'4004R(Conventional)'!$G$74,0))+(IF('4004R(Conventional)'!$B$78=19,'4004R(Conventional)'!$G$75,0))","v":0},0,0,null,{"$f":"+AddonDevice!H68","v":0},{"$f":"+AddonDevice!I68","v":250},{"$f":"+AddonDevice!J68","v":"RAC Powered"},{"$f":"+AddonDevice!K68","v":0},{"$f":"+AddonDevice!J68","v":"RAC Powered"}]
[null,20," ",{"$f":"+AddonDevice!D69","v":"Hygood"},{"$f":"+AddonDevice!E69","v":"304.209.001 – Electrical Actuator Bridge Rectifier"},null,null,{"$f":"(IF('4004R(Conventional)'!$B$77=20,'4004R(Conventional)'!$G$74,0))+(IF('4004R(Conventional)'!$B$78=20,'4004R(Conventional)'!$G$75,0))","v":0},0,0,null,{"$f":"+AddonDevice!H69","v":0},{"$f":"+AddonDevice!I69","v":250},{"$f":"+AddonDevice!J69","v":"RAC Powered"},{"$f":"+AddonDevice!K69","v":0},{"$f":"+AddonDevice!J69","v":"RAC Powered"}]
[null,21," ",{"$f":"+AddonDevice!D70","v":"Pyrochem"},{"$f":"+AddonDevice!E70","v":"ECH Electrical Control Head (551201)"},null,null,{"$f":"(IF('4004R(Conventional)'!$B$77=21,'4004R(Conventional)'!$G$74,0))+(IF('4004R(Conventional)'!$B$78=21,'4004R(Conventional)'!$G$75,0))","v":0},0,0,null,{"$f":"+AddonDevice!H70","v":0},{"$f":"+AddonDevice!I70","v":1700},{"$f":"+AddonDevice!J70","v":"RAC Powered"},{"$f":"+AddonDevice!K70","v":0},{"$f":"+AddonDevice!J70","v":"RAC Powered"}]
[null,22," ",{"$f":"+AddonDevice!D71","v":"Pyrochem"},{"$f":"+AddonDevice!E71","v":"Explosion-Proof Electric Actuator (570147)"},null,null,{"$f":"(IF('4004R(Conventional)'!$B$77=22,'4004R(Conventional)'!$G$74,0))+(IF('4004R(Conventional)'!$B$78=22,'4004R(Conventional)'!$G$75,0))","v":0},0,0,null,{"$f":"+AddonDevice!H71","v":0},{"$f":"+AddonDevice!I71","v":396},{"$f":"+AddonDevice!J71","v":"RAC Powered"},{"$f":"+AddonDevice!K71","v":0},{"$f":"+AddonDevice!J71","v":"RAC Powered"}]
[null,23," ",{"$f":"+AddonDevice!D72","v":"Pyrochem"},{"$f":"+AddonDevice!E72","v":"Removable Electric Actuator (570209)"},null,null,{"$f":"(IF('4004R(Conventional)'!$B$77=23,'4004R(Conventional)'!$G$74,0))+(IF('4004R(Conventional)'!$B$78=23,'4004R(Conventional)'!$G$75,0))","v":0},0,0,null,{"$f":"+AddonDevice!H72","v":0},{"$f":"+AddonDevice!I72","v":200},{"$f":"+AddonDevice!J72","v":"RAC Powered"},{"$f":"+AddonDevice!K72","v":0},{"$f":"+AddonDevice!J72","v":"RAC Powered"}]
[null,24," ",{"$f":"+AddonDevice!D73","v":"Skinner"},{"$f":"+AddonDevice!E73","v":"71395SN2ENJ1N0H111C2 (Skinner coil H111C2)"},null,null,{"$f":"(IF('4004R(Conventional)'!$B$77=24,'4004R(Conventional)'!$G$74,0))+(IF('4004R(Conventional)'!$B$78=24,'4004R(Conventional)'!$G$75,0))","v":0},0,0,null,{"$f":"+AddonDevice!H73","v":0},{"$f":"+AddonDevice!I73","v":420},{"$f":"+AddonDevice!J73","v":"RAC Powered"},{"$f":"+AddonDevice!K73","v":0},{"$f":"+AddonDevice!J73","v":"RAC Powered"}]
[null,25," ",{"$f":"+AddonDevice!D74","v":"Skinner"},{"$f":"+AddonDevice!E74","v":"73212BN4TN00N0C111C2 (Skinner coil C111C2)"},null,null,{"$f":"(IF('4004R(Conventional)'!$B$77=25,'4004R(Conventional)'!$G$74,0))+(IF('4004R(Conventional)'!$B$78=25,'4004R(Conventional)'!$G$75,0))","v":0},0,0,null,{"$f":"+AddonDevice!H74","v":0},{"$f":"+AddonDevice!I74","v":420},{"$f":"+AddonDevice!J74","v":"RAC Powered"},{"$f":"+AddonDevice!K74","v":0},{"$f":"+AddonDevice!J74","v":"RAC Powered"}]
[null,26," ",{"$f":"+AddonDevice!D75","v":"Skinner"},{"$f":"+AddonDevice!E75","v":"73212BN4TNLVN0C322C2 (Skinner coil C322C2)"},null,null,{"$f":"(IF('4004R(Conventional)'!$B$77=26,'4004R(Conventional)'!$G$74,0))+(IF('4004R(Conventional)'!$B$78=26,'4004R(Conventional)'!$G$75,0))","v":0},0,0,null,{"$f":"+AddonDevice!H75","v":0},{"$f":"+AddonDevice!I75","v":830},{"$f":"+AddonDevice!J75","v":"RAC Powered"},{"$f":"+AddonDevice!K75","v":0},{"$f":"+AddonDevice!J75","v":"RAC Powered"}]
[null,27," ",{"$f":"+AddonDevice!D76","v":"Skinner"},{"$f":"+AddonDevice!E76","v":"73218BN4UNLVN0H111C2 (Skinner coil H111C2)"},null,null,{"$f":"(IF('4004R(Conventional)'!$B$77=27,'4004R(Conventional)'!$G$74,0))+(IF('4004R(Conventional)'!$B$78=27,'4004R(Conventional)'!$G$75,0))","v":0},0,0,null,{"$f":"+AddonDevice!H76","v":0},{"$f":"+AddonDevice!I76","v":410},{"$f":"+AddonDevice!J76","v":"RAC Powered"},{"$f":"+AddonDevice!K76","v":0},{"$f":"+AddonDevice!J76","v":"RAC Powered"}]
[null,28," ",{"$f":"+AddonDevice!D77","v":"Skinner"},{"$f":"+AddonDevice!E77","v":"73218BN4UNLVN0C111C2 (Skinner coil C111C2)"},null,null,{"$f":"(IF('4004R(Conventional)'!$B$77=28,'4004R(Conventional)'!$G$74,0))+(IF('4004R(Conventional)'!$B$78=28,'4004R(Conventional)'!$G$75,0))","v":0},0,0,null,{"$f":"+AddonDevice!H77","v":0},{"$f":"+AddonDevice!I77","v":410},{"$f":"+AddonDevice!J77","v":"RAC Powered"},{"$f":"+AddonDevice!K77","v":0},{"$f":"+AddonDevice!J77","v":"RAC Powered"}]
[null,29," ",{"$f":"+AddonDevice!D78","v":"Minimax"},{"$f":"+AddonDevice!E78","v":"MX1230 without diode"},null,null,{"$f":"(IF('4004R(Conventional)'!$B$77=29,'4004R(Conventional)'!$G$74,0))+(IF('4004R(Conventional)'!$B$78=29,'4004R(Conventional)'!$G$75,0))","v":0},0,0,null,{"$f":"+AddonDevice!H78","v":0},{"$f":"+AddonDevice!I78","v":420},{"$f":"+AddonDevice!J78","v":"RAC Powered"},{"$f":"+AddonDevice!K78","v":0},{"$f":"+AddonDevice!J78","v":"RAC Powered"}]
[null,30," ",{"$f":"+AddonDevice!D79","v":"Burkert"},{"$f":"+AddonDevice!E79","v":"5282 2/2-Way Solenoid Valve"},null,null,{"$f":"(IF('4004R(Conventional)'!$B$77=30,'4004R(Conventional)'!$G$74,0))+(IF('4004R(Conventional)'!$B$78=30,'4004R(Conventional)'!$G$75,0))","v":0},0,0,null,{"$f":"+AddonDevice!H79","v":0},{"$f":"+AddonDevice!I79","v":333},{"$f":"+AddonDevice!J79","v":"RAC Powered"},{"$f":"+AddonDevice!K79","v":0},{"$f":"+AddonDevice!J79","v":"RAC Powered"}]
[null,31," ",{"$f":"+AddonDevice!D80","v":"Versa"},{"$f":"+AddonDevice!E80","v":"CGS-4292-NB3-S20000"},null,null,{"$f":"(IF('4004R(Conventional)'!$B$77=31,'4004R(Conventional)'!$G$74,0))+(IF('4004R(Conventional)'!$B$78=31,'4004R(Conventional)'!$G$75,0))","v":0},0,0,null,{"$f":"+AddonDevice!H80","v":0},{"$f":"+AddonDevice!I80","v":438},{"$f":"+AddonDevice!J80","v":"RAC Powered"},{"$f":"+AddonDevice!K80","v":0},{"$f":"+AddonDevice!J80","v":"RAC Powered"}]
[null,32," ",{"$f":"+AddonDevice!D81","v":"Tyco"},{"$f":"+AddonDevice!E81","v":"Model TSP 304205030"},null,null,{"$f":"(IF('4004R(Conventional)'!$B$77=32,'4004R(Conventional)'!$G$74,0))+(IF('4004R(Conventional)'!$B$78=32,'4004R(Conventional)'!$G$75,0))","v":0},0,0,null,{"$f":"+AddonDevice!H81","v":0},{"$f":"+AddonDevice!I81","v":500},{"$f":"+AddonDevice!J81","v":"RAC Powered"},{"$f":"+AddonDevice!K81","v":0},{"$f":"+AddonDevice!J81","v":"RAC Powered"}]
[null,33," ",{"$f":"+AddonDevice!D82","v":"Tyco"},{"$f":"+AddonDevice!E82","v":"Model TSP 304700001"},null,null,{"$f":"(IF('4004R(Conventional)'!$B$77=33,'4004R(Conventional)'!$G$74,0))+(IF('4004R(Conventional)'!$B$78=33,'4004R(Conventional)'!$G$75,0))","v":0},0,0,null,{"$f":"+AddonDevice!H82","v":0},{"$f":"+AddonDevice!I82","v":830},{"$f":"+AddonDevice!J82","v":"RAC Powered"},{"$f":"+AddonDevice!K82","v":0},{"$f":"+AddonDevice!J82","v":"RAC Powered"}]
[null,34," ",{"$f":"+AddonDevice!D83","v":"Masteco"},{"$f":"+AddonDevice!E83","v":"Model MSC-01"},null,null,{"$f":"(IF('4004R(Conventional)'!$B$77=34,'4004R(Conventional)'!$G$74,0))+(IF('4004R(Conventional)'!$B$78=34,'4004R(Conventional)'!$G$75,0))","v":0},0,0,null,{"$f":"+AddonDevice!H83","v":0},{"$f":"+AddonDevice!I83","v":1700},{"$f":"+AddonDevice!J83","v":"RAC Powered"},{"$f":"+AddonDevice!K83","v":0},{"$f":"+AddonDevice!J83","v":"RAC Powered"}]
[null,{"$f":"+B118+1","v":35},{"$f":"+AddonDevice!C84","v":"Alan"},{"$f":"+AddonDevice!D84","v":"Alan Customised 1"},{"$f":"+AddonDevice!E84","v":"Alan Test Release Actuators'1250mA"},{"$f":"+AddonDevice!F84","v":"Input 1C"},null,{"$f":"(IF('4004R(Conventional)'!$B$77=35,'4004R(Conventional)'!$G$74,0))+(IF('4004R(Conventional)'!$B$78=35,'4004R(Conventional)'!$G$75,0))","v":0},0,{"$f":"+I119+H119","v":0},null,0,{"$f":"+AddonDevice!I84","v":1250},null,null,{"$f":"+AddonDevice!J84","v":"RAC Powered"}]
[null,36,{"$f":"+AddonDevice!C85","v":"Alan"},{"$f":"+AddonDevice!D85","v":"Test2"},{"$f":"+AddonDevice!E85","v":"Release Actuators'1500mA"},{"$f":"+AddonDevice!F85","v":"Input 2C"},null,{"$f":"(IF('4004R(Conventional)'!$B$77=36,'4004R(Conventional)'!$G$74,0))+(IF('4004R(Conventional)'!$B$78=36,'4004R(Conventional)'!$G$75,0))","v":0},0,0,null,0,{"$f":"+AddonDevice!I85","v":1500},null,null,{"$f":"+AddonDevice!J85","v":"RAC Powered"}]
[null,37,{"$f":"+AddonDevice!C86","v":"Alan"},{"$f":"+AddonDevice!D86","v":"Test2"},{"$f":"+AddonDevice!E86","v":"Release Actuators'1750mA"},{"$f":"+AddonDevice!F86","v":"Input 3C"},null,{"$f":"(IF('4004R(Conventional)'!$B$77=37,'4004R(Conventional)'!$G$74,0))+(IF('4004R(Conventional)'!$B$78=37,'4004R(Conventional)'!$G$75,0))","v":0},0,0,null,0,{"$f":"+AddonDevice!I86","v":1750},null,null,{"$f":"+AddonDevice!J86","v":"RAC Powered"}]
[null,38,{"$f":"+AddonDevice!C87","v":"Alan"},{"$f":"+AddonDevice!D87","v":"Test2"},{"$f":"+AddonDevice!E87","v":"Release Actuators2000mA"},{"$f":"+AddonDevice!F87","v":"Input 4C"},null,{"$f":"(IF('4004R(Conventional)'!$B$77=38,'4004R(Conventional)'!$G$74,0))+(IF('4004R(Conventional)'!$B$78=38,'4004R(Conventional)'!$G$75,0))","v":0},0,0,null,0,{"$f":"+AddonDevice!I87","v":2000},null,null,{"$f":"+AddonDevice!J87","v":"RAC Powered"}]
[null,39,{"$f":"+AddonDevice!C88","v":"Customised 5"},{"$f":"+AddonDevice!D88","v":"Input5A"},{"$f":"+AddonDevice!E88","v":"Release Actuators Input5B"},{"$f":"+AddonDevice!F88","v":"Input5C"},null,{"$f":"(IF('4004R(Conventional)'!$B$77=40,'4004R(Conventional)'!$G$74,0))+(IF('4004R(Conventional)'!$B$78=40,'4004R(Conventional)'!$G$75,0))","v":0},0,0,null,0,{"$f":"+AddonDevice!I88","v":0},null,null,{"$f":"IF(M123>0,\"Current Input\",AddonDevice!J88)","v":"RAC Powered"}]
[null,40,{"$f":"+AddonDevice!C89","v":"Customised 6"},{"$f":"+AddonDevice!D89","v":"Input6A"},{"$f":"+AddonDevice!E89","v":"Release ActuatorsInput6B"},{"$f":"+AddonDevice!F89","v":"Input6C"},null,{"$f":"(IF('4004R(Conventional)'!$B$77=41,'4004R(Conventional)'!$G$74,0))+(IF('4004R(Conventional)'!$B$78=41,'4004R(Conventional)'!$G$75,0))","v":0},0,0,null,0,{"$f":"+AddonDevice!I89","v":0},null,null,{"$f":"IF(M124>0,\"Current Input\",AddonDevice!J89)","v":"RAC Powered"}]
[null,41,{"$f":"+AddonDevice!C90","v":"Customised 7"},{"$f":"+AddonDevice!D90","v":"Input7A"},{"$f":"+AddonDevice!E90","v":"Release ActuatorsInput7B"},{"$f":"+AddonDevice!F90","v":"Input7C"},null,{"$f":"(IF('4004R(Conventional)'!$B$77=42,'4004R(Conventional)'!$G$74,0))+(IF('4004R(Conventional)'!$B$78=42,'4004R(Conventional)'!$G$75,0))","v":0},0,0,null,0,{"$f":"+AddonDevice!I90","v":0},null,null,{"$f":"IF(M125>0,\"Current Input\",AddonDevice!J90)","v":"RAC Powered"}]
[null,42,{"$f":"+AddonDevice!C91","v":"Customised 8"},{"$f":"+AddonDevice!D91","v":"Input8A"},{"$f":"+AddonDevice!E91","v":"Release ActuatorsInput8B"},{"$f":"+AddonDevice!F91","v":"Input8C"},null,{"$f":"(IF('4004R(Conventional)'!$B$77=43,'4004R(Conventional)'!$G$74,0))+(IF('4004R(Conventional)'!$B$78=43,'4004R(Conventional)'!$G$75,0))","v":0},0,0,null,0,{"$f":"+AddonDevice!I91","v":0},null,null,{"$f":"IF(M126>0,\"Current Input\",AddonDevice!J91)","v":"RAC Powered"}]
[null,43,{"$f":"+AddonDevice!C92","v":"Customised 9"},{"$f":"+AddonDevice!D92","v":"Input9A"},{"$f":"+AddonDevice!E92","v":"Release ActuatorsInput9B"},{"$f":"+AddonDevice!F92","v":"Input9C"},null,{"$f":"(IF('4004R(Conventional)'!$B$77=44,'4004R(Conventional)'!$G$74,0))+(IF('4004R(Conventional)'!$B$78=44,'4004R(Conventional)'!$G$75,0))","v":0},0,0,null,0,{"$f":"+AddonDevice!I92","v":0},null,null,{"$f":"IF(M127>0,\"Current Input\",AddonDevice!J92)","v":"RAC Powered"}]
[null,44,{"$f":"+AddonDevice!C93","v":"Customised 10"},{"$f":"+AddonDevice!D93","v":"Input10A"},{"$f":"+AddonDevice!E93","v":"Release ActuatorsInput10B"},{"$f":"+AddonDevice!F93","v":"Input10C"},null,{"$f":"(IF('4004R(Conventional)'!$B$77=45,'4004R(Conventional)'!$G$74,0))+(IF('4004R(Conventional)'!$B$78=45,'4004R(Conventional)'!$G$75,0))","v":0},0,0,null,0,{"$f":"+AddonDevice!I93","v":0},null,null,{"$f":"IF(M128>0,\"Current Input\",AddonDevice!J93)","v":"RAC Powered"}]
[null,45,{"$f":"+AddonDevice!C94","v":"Customised 11"},{"$f":"+AddonDevice!D94","v":"Input11A"},{"$f":"+AddonDevice!E94","v":"Release ActuatorsInput11B"},{"$f":"+AddonDevice!F94","v":"Input11C"},null,{"$f":"(IF('4004R(Conventional)'!$B$77=46,'4004R(Conventional)'!$G$74,0))+(IF('4004R(Conventional)'!$B$78=46,'4004R(Conventional)'!$G$75,0))","v":0},0,0,null,0,{"$f":"+AddonDevice!I94","v":0},null,null,{"$f":"IF(M129>0,\"Current Input\",AddonDevice!J94)","v":"RAC Powered"}]
[null,46,{"$f":"+AddonDevice!C95","v":"Customised 12"},{"$f":"+AddonDevice!D95","v":"Input12A"},{"$f":"+AddonDevice!E95","v":"Release ActuatorsInput12B"},{"$f":"+AddonDevice!F95","v":"Input12C"},null,{"$f":"(IF('4004R(Conventional)'!$B$77=47,'4004R(Conventional)'!$G$74,0))+(IF('4004R(Conventional)'!$B$78=47,'4004R(Conventional)'!$G$75,0))","v":0},0,0,null,0,{"$f":"+AddonDevice!I95","v":0},null,null,{"$f":"IF(M130>0,\"Current Input\",AddonDevice!J95)","v":"RAC Powered"}]
["H"," ","Installation Info on Max Distance Run from 4004R Panel RAC circuit to Solenoid.",null,null,null,null,{"$f":"SUM(H137:H182)","v":1},null,{"$f":"SUM(J132:J136)","v":698.08526200000006}]
[null,{"$f":"+B130+1","v":47},"Max Cable Distance",null,"Maximum RAC Distance Run from 4004R Panel RAC 1 to Solenoid",null,null,{"$f":"+'4004R(Conventional)'!$J$110","v":256.98526200000003},0,{"$f":"+$H$132+$I$132","v":256.98526200000003}]
[null,{"$f":"+B132+1","v":48},"Cable Wire Gauge",null,"Cable Wire Gauge Selected",null,null,{"$f":"+'4004R(Conventional)'!$G$105","v":"2.5mm2"},0,{"$f":"+$H$133","v":"2.5mm2"}]
[null,{"$f":"+B133","v":48},"Cable line Resistance",null,"Maximum Line Resistance for Cables Properties",null,null,{"$f":"+'4004R(Conventional)'!$G$106","v":3.1},0,{"$f":"+$H$134+$I$134","v":3.1}]
[null,{"$f":"+B134+1","v":49},"RAC Loading",null,"Current Loading for this RAC Circuits",null,null,{"$f":"+'4004R(Conventional)'!$G$98","v":438},0,{"$f":"+$H$135+$I$135","v":438}]
[null,null,null,null,null,null,null,0,null," ",null,null,null,null,null,{"$f":"+AddonDevice!J96","v":0}]
["I"," ","Batteries and Charger for Reference - Local purchase",null,null,null,null,null,null,{"$f":"SUM(J138:J148)","v":1}]
[" ",1,"2081-9272","Lead Acid Battery only","6.2 Ah battery, 12 V","Internal Panel Mounting",null,{"$f":"+'4004R(Conventional)'!$AD$130","v":0},0,{"$f":"+I138+H138","v":0},null,0,0,null,null," ",{"$f":"+'4004R(Conventional)'!J139","v":10}]
[null,2,"2081-9274","Lead Acid Battery only","10 Ah battery, 12 V","Internal Panel Mounting",null,{"$f":"+'4004R(Conventional)'!$AD$131","v":1},0,1,null,0,0,null,null,0]
[null,3,"2081-9288","Lead Acid Battery only","12.7 Ah battery, 12 V","Internal Panel Mounting",null,{"$f":"+'4004R(Conventional)'!$AD$132","v":0},0,0,null,0," ",null,null," "]
[null,4,"4081-9301","Beige","Battery cabinet with charger, 120 VAC input","External Battery Charger from 25 to 50Ah",null,{"$f":"+'4004R(Conventional)'!$AD$138","v":0},0,{"$f":"+I141+H141","v":0}]
[null,5,"4081-9302","Red","Battery cabinet with charger, 120 VAC input","External Battery Charger from 25 to 50Ah",null,0,0,0]
[null,6,"2081-9275","Lead Acid Battery only","18 Ah battery, 12 V","External Panel Charger & Mounting",null,{"$f":"+'4004R(Conventional)'!$AD$133","v":0},0,{"$f":"+I143+H143","v":0},null,0," ",null,null," "]
[null,7,"2081-9287","Lead Acid Battery only","25 Ah battery, 12 V","External Panel Charger & Mounting",null,{"$f":"+'4004R(Conventional)'!$AD$134","v":0},0,0,null,0," ",null,null,{"$f":"+P143","v":" "}]
[null,8,"2081-9276","Lead Acid Battery only","33 Ah battery, 12 V","External Panel Charger & Mounting",null,{"$f":"+'4004R(Conventional)'!$AD$135","v":0},0,{"$f":"+I145+H145","v":0}]
[null,9,"2081-9296","Lead Acid Battery only","50 Ah battery, 12 V","External Panel Charger & Mounting",null,{"$f":"+'4004R(Conventional)'!$AD$136","v":0},0,0]
[null,10,"2081-9279","Lead Acid Battery only","110Ah battery, 12V","External Panel Charger & Mounting",null,{"$f":"+'4004R(Conventional)'!$AD$137","v":0},0,0]
[null,11,"4081-9308","Battery Charger","External Battery Charger up to 110Ah","External Batter Charger",null,{"$f":"+'4004R(Conventional)'!$AD$139","v":0},0,{"$f":"+I148+H148","v":0}]

{"sheet":"4004RBOM","index":6,"n_rows":6,"n_cols":8,"rows_kept":6,"cut":false,"hidden":false,"merged":[[2,2,2,6]]}
[]
[]
[null,null,"  4004R  Conventional Releasing Fire Detection Solution -Final Bill of Material"]
[]
[]
["POS.","No","Part number","Function","Product Description","Listing","Qty\nFinal","Remarks"]

{"sheet":"AddonDevice","index":7,"n_rows":118,"n_cols":13,"rows_kept":118,"cut":false,"hidden":false,"merged":[[0,3,0,8],[4,0,4,2],[4,7,4,9]]}
[null,null,null,"Suppression Fire Detection Solution - Additional Devices(3rd Party or add on to appear on Configurator Sheet)"]
[]
[]
[]
[" ",null,null,null,null,null,null,"Equipment Current"]
["POS.","No","Part number","Function","Product Description","Listing",null,"Stby Current","Alarm Current","Remarks"]
["A",null,"4004R Conventional Suppression Panel"]
[null,1,"Counter","Countdown Timer","Count Down Timer Locally Source","Local"," ",30,120,"Aux PS","Customised",{"$f":"IF((EXACT((LEFT(C8,10)),K8))=TRUE,0,1)","v":1}]
[null,{"$f":"+B8+1","v":2},"Customised 2","Input2A","4004R Panel Input2B","Input2C",null,0,0,"Please input \"Aux PS\" if needed","Customised",{"$f":"IF((EXACT((LEFT(C9,10)),K9))=TRUE,0,1)","v":0}]
[null,3,"Customised 3","Input3A","4004R Panel Input3B","Input3C",null,0,0,"Please input \"Aux PS\" if needed","Customised",0]
[null,4,"Customised 4","Input4A","4004R Panel Input4B","Input4C",null,0,0,"Please input \"Aux PS\" if needed","Customised",0]
[null,null,null,null,null,null,null,null,null,null," "," "]
["B",null,"4007ES Addressable Suppression Panel",null,null,null,null,0,null,null," "," "]
[null,1,"Counter","Countdown Timer","Count Down Timer Locally Source","Local"," ",50,180,"Aux PS","Customised",{"$f":"IF((EXACT((LEFT(C14,10)),K14))=TRUE,0,1)","v":1}," "]
[null,{"$f":"+B14+1","v":2},"Customised 2","Input2A","4007ES Addr Panel Input2B","Input2C",null,0,0,"Input \"Aux PS\" As Reqd","Customised",0]
[null,3,"Customised 3","Input3A","4007ES Addr Panel IInput3B","Input3C",null,0,0,"Input \"Aux PS\" As Reqd","Customised",0]
[null,4,"Customised 4","Input4A","4007ES Addr Panel IInput4B","Input4C",null,0,0,"Input \"Aux PS\" As Reqd","Customised",0]
[null,5,"Customised 5","Input5A","4007ES Addr Panel IInput5B","Input5C",null,0,0,"Input \"Aux PS\" As Reqd","Customised",0]
[null,6,"Customised 6","Input6A","4007ES Addr Panel IInput6B","Input6C",null,0,0,"Input \"Aux PS\" As Reqd","Customised",0]
[null,null,null,null,null,null,null,null,null,null," "," "]
["C",null,"4009 Addressable Notification Circuits Repeater",null,null,null,null,null,null,null," "," "]
[null,1,"4009-9808","Class A Adapter","Dual Class A adapter(No Additional Current)","UL Listed",null,0,0,"Input \"Aux PS\" As Reqd","Customised",{"$f":"IF((EXACT((LEFT(C22,10)),K22))=TRUE,0,1)","v":1}]
[null,{"$f":"+B22+1","v":2},"4009-9809","Idnet Repeater","IDNet Repeater, output is Class A or Class B(If Required due to distance)","UL Listed",null,0,0,"Input \"Aux PS\" As Reqd","Customised",1]
[null,3,"Customised 3","Input3A","Input3B","Input3C",null,0,0,"Input \"Aux PS\" As Reqd","Customised",0]
[null,null,null,null,null,null,null,null,null,null," "," "]
["D"," ","Addressable Field Devices - Standard ",null,null,null,null,null,null,null," "," "]
[null,1,"Customised 1","Input1A","Addressable Field Devices Input1B","Listing Input1C",null,0,0,"Input \"Aux PS\" As Reqd","Customised",{"$f":"IF((EXACT((LEFT(C27,10)),K27))=TRUE,0,1)","v":0}]
[null,{"$f":"+B27+1","v":2},"Customised 2","Input2A","Addressable Field Devices Input2B","Listing Input2C",null,0,0,"Input \"Aux PS\" As Reqd","Customised",0]
[null,3,"Customised 3","Input3A","Addressable Field Devices Input3B","Listing Input3C",null,0,0,"Input \"Aux PS\" As Reqd","Customised",0]
[null,4,"Customised 4","Input4A","Addressable Field Devices Input4B","Listing Input4C",null,0,0,"Input \"Aux PS\" As Reqd","Customised",0]
[null,5,"Customised 5","Input5A","Addressable Field Devices Input5B","Listing Input5C",null,0,0,"Input \"Aux PS\" As Reqd","Customised",0]
[null,6,"Customised 6","Input6A","Addressable Field Devices Input 6B","Listing Input6C",null,0,0,"Input \"Aux PS\" As Reqd","Customised",0]
[null,null,null,null,null,null,null,null,null,null," "," "]
["E",null,"Addressable/Conventional Field Devices - Special",null,null,null,null,null,null,null," "," "]
[null,1,"Customised 1","Input1A","Special Device Input1B","Input1C",null,0,0,"Input \"Aux PS\" As Reqd","Customised",{"$f":"IF((EXACT((LEFT(C35,10)),K35))=TRUE,0,1)","v":0}]
[null,{"$f":"+B35+1","v":2},"Customised 2","Input2A","Special Device Input2B","Input2C",null,0,0,"Input \"Aux PS\" As Reqd","Customised",0]
[null,3,"Customised 3","Input3A","Special Device Input3B","Input3C",null,0,0,"Input \"Aux PS\" As Reqd","Customised",0]
[null,4,"Customised 4","Input4A","Special Device Input4B","Input4C",null,0,0,"Input \"Aux PS\" As Reqd","Customised",0]
[null,5,"Customised 5","Input5A","Special Device Input5B","Input5C",null,0,0,"Input \"Aux PS\" As Reqd","Customised",0]
[null,null,null,null,null,null,null,null,null,null," "," "]
["F",null,"Releasing Peripherals(Addressable and Conventional)",null,null," ",null,null,null,null," "," "]
[null,1,"Local","Discharge Signage","Discharge Display  Signage","Local",null,0,150,"Aux PS","Customised",{"$f":"IF((EXACT((LEFT(C42,10)),K42))=TRUE,0,1)","v":1}]
[null,{"$f":"+B42+1","v":2},"Local","1st Alarm Signage","Pre Release Display Signage","Local",null,0,150,"Aux PS","Customised",1]
[null,3,"Customised 3","Input1A","Releasing Peripherals Input3B","Input3C",null,null,null,"Input \"Aux PS\" As Reqd","Customised",0]
[null,4,"Customised 4","Input4A","Releasing Peripherals Input4B","Input4C",null,null,null,"Input \"Aux PS\" As Reqd","Customised",0]
[null,5,"Customised 5","Input5A","Releasing Peripherals Input5B","Input5C",null,null,null,"Input \"Aux PS\" As Reqd","Customised",0]
[null,6,"Customised 6","Input6A","Releasing Peripherals Input6B","Input6C",null,null,null,"Input \"Aux PS\" As Reqd","Customised",0]
[null,null,null,null,null,null,null,null,null,null," "," "]
["F",null,"Releasing Actuators",null,null," ",null,null,null,null," "," "]
[null,1," ","Ansul","AUTOMAN II-C Assembly (solenoid 17728; coil 25924)","UL listed",null,null,750,"RAC Powered"]
[null,{"$f":"+B50+1","v":2}," ","Ansul","AUTOMAN II-C Explosion-Proof Releasing Device (solenoid 31492; coil 31438)","UL listed",null,null,750,"RAC Powered"]
[null,{"$f":"+B51+1","v":3}," ","Ansul","AUTOMAN II-C Assembly (solenoid 68739; coil 25924)","UL listed",null,null,750,"RAC Powered"]
[null,4," ","Ansul","Solenoid Electric Actuator (solenoid 73111; coil 73097)","UL listed",null,null,1000,"RAC Powered"]
[null,5," ","Ansul","*CV90 HF Electric Actuator 73327","UL listed",null,null,570,"RAC Powered"]
[null,6," ","Ansul","LP CO2 w/ASCO solenoid 422934","UL listed",null,null,442,"RAC Powered"]
[null,7," ","Ansul","LP CO2 double action 24 VDC solenoid 430948","UL listed",null,null,438,"RAC Powered"]
[null,8," ","Ansul","LP CO2 3-way selector valve solenoid 433419","UL listed",null,null,438,"RAC Powered"]
[null,9," ","Ansul","Electric Actuator 24 VDC solenoid 570537","UL listed",null,null,250,"RAC Powered"]
[null,10," ","ASCO","8210A107 (097617-005D coil)","UL listed",null,null,750,"RAC Powered"]
[null,11,"  ","ASCO","8210G207 (238310 coil)","UL listed",null,null,440,"RAC Powered"]
[null,12," ","ASCO","8211A107 (097617-005D coil)","UL listed",null,null,750,"RAC Powered"]
[null,13," ","ASCO","8262H182 (238910 coil)","UL listed",null,null,483,"RAC Powered"]
[null,14," ","ASCO","EF8210G001MBMO","UL listed",null,null,450,"RAC Powered"]
[null,15," ","ASCO","HV2628571 (23810 coil)","UL listed",null,null,442,"RAC Powered"]
[null,16," ","ASCO","HV2648581 (23810 coil)","UL listed",null,null,442,"RAC Powered"]
[null,17," ","ASCO","R8210A107 (097617-005D coil)","UL listed",null,null,700,"RAC Powered"]
[null,18," ","ASCO","T8210A107 (097617-005D coil)","UL listed",null,null,700,"RAC Powered"]
[null,19," ","Hygood","304.205.010 – Electrical Actuator Suppression Diode","UL listed",null,null,250,"RAC Powered"]
[null,20," ","Hygood","304.209.001 – Electrical Actuator Bridge Rectifier","UL listed",null,null,250,"RAC Powered"]
[null,21," ","Pyrochem","ECH Electrical Control Head (551201)","UL listed",null,null,1700,"RAC Powered"]
[null,22," ","Pyrochem","Explosion-Proof Electric Actuator (570147)","UL listed",null,null,396,"RAC Powered"]
[null,23," ","Pyrochem","Removable Electric Actuator (570209)","UL listed",null,null,200,"RAC Powered"]
[null,24," ","Skinner","71395SN2ENJ1N0H111C2 (Skinner coil H111C2)","UL listed",null,null,420,"RAC Powered"]
[null,25," ","Skinner","73212BN4TN00N0C111C2 (Skinner coil C111C2)","UL listed",null,null,420,"RAC Powered"]
[null,26," ","Skinner","73212BN4TNLVN0C322C2 (Skinner coil C322C2)","UL listed",null,null,830,"RAC Powered"]
[null,27," ","Skinner","73218BN4UNLVN0H111C2 (Skinner coil H111C2)","UL listed",null,null,410,"RAC Powered"]
[null,28," ","Skinner","73218BN4UNLVN0C111C2 (Skinner coil C111C2)","UL listed",null,null,410,"RAC Powered"]
[null,29," ","Minimax","MX1230 without diode","UL listed",null,null,420,"RAC Powered"]
[null,30," ","Burkert","5282 2/2-Way Solenoid Valve","UL listed",null,null,333,"RAC Powered"]
[null,31," ","Versa","CGS-4292-NB3-S20000","UL listed",null,null,438,"RAC Powered"]
[null,32," ","Tyco","Model TSP 304205030","UL listed",null,null,500,"RAC Powered"]
[null,33," ","Tyco","Model TSP 304700001","UL listed",null,null,830,"RAC Powered"]
[null,34," ","Masteco","Model MSC-01","UL listed",null,null,1700,"RAC Powered"]
[null,35,"Alan","Alan Customised 1","Alan Test Release Actuators'1250mA","Input 1C",null,0,1250,"RAC Powered","Customised",{"$f":"IF((EXACT((LEFT(C84,10)),K84))=TRUE,0,1)","v":1}]
[null,36,"Alan","Test2","Release Actuators'1500mA","Input 2C",null,0,1500,{"$f":"+J84","v":"RAC Powered"},"Customised",1]
[null,37,"Alan","Test2","Release Actuators'1750mA","Input 3C",null,0,1750,{"$f":"+J85","v":"RAC Powered"},"Customised",1]
[null,38,"Alan","Test2","Release Actuators2000mA","Input 4C",null,0,2000,"RAC Powered","Customised",1]
[null,39,"Customised 5","Input5A","Release Actuators Input5B","Input5C",null,0,0,"RAC Powered","Customised",0]
[null,40,"Customised 6","Input6A","Release ActuatorsInput6B","Input6C",null,0,0,"RAC Powered","Customised",0]
[null,41,"Customised 7","Input7A","Release ActuatorsInput7B","Input7C",null,0,0,"RAC Powered","Customised",0]
[null,42,"Customised 8","Input8A","Release ActuatorsInput8B","Input8C",null,0,0,"RAC Powered","Customised",0]
[null,43,"Customised 9","Input9A","Release ActuatorsInput9B","Input9C",null,0,0,"RAC Powered","Customised",0]
[null,44,"Customised 10","Input10A","Release ActuatorsInput10B","Input10C",null,0,0,"RAC Powered","Customised",0]
[null,45,"Customised 11","Input11A","Release ActuatorsInput11B","Input11C",null,0,0,"RAC Powered","Customised",0]
[null,46,"Customised 12","Input12A","Release ActuatorsInput12B","Input12C",null,0,0,"RAC Powered","Customised",0]
[null,null,null,null,null,null,null,null,null,null," "," "]
["G",null,"Conventional Field Devices",null,null,null,null,null,null,null," "," "]
[null,"A","2 Wire Devices Powered by IDC or Zone Addressable Modules"]
[null,1,"Customised 1","Input1A","Input1B - 2 Wire Powered Device","Input1C",null,null,null,"Powered by IDC","Customised",{"$f":"IF((EXACT((LEFT(#REF!,10)),K99))=TRUE,0,1)","v":{"$error":"#REF!"}}]
[null,{"$f":"+B99+1","v":2},"Customised 2","Input2A","Input2B - 2 Wire Powered Device","Input2C",null,null,null,"Powered by IDC","Customised",{"$f":"IF((EXACT((LEFT(#REF!,10)),K100))=TRUE,0,1)","v":{"$error":"#REF!"}}]
[null,3,"Customised 3","Input3A","Input3B - 2 Wire Powered Device","Input3C",null,null,null,"Powered by IDC","Customised",{"$f":"IF((EXACT((LEFT(C99,10)),K101))=TRUE,0,1)","v":0}]
[null,4,"Customised 4","Input4A","Input4B - 2 Wire Powered Device","Input4C",null,null,null,"Powered by IDC","Customised",{"$f":"IF((EXACT((LEFT(C100,10)),K102))=TRUE,0,1)","v":0}]
[]
[null,"B","2 Wire Devices Powered by Auxillary Power Supply"]
[null,{"$f":"+B97+1","v":1},"Customised 1","Input1A","Input1B- 2 Wired Powered by IDC","Input1C",null,null,null,"Aux PS","Customised",{"$f":"IF((EXACT((LEFT(#REF!,10)),K105))=TRUE,0,1)","v":{"$error":"#REF!"}}]
[null,{"$f":"+B105+1","v":2},"Customised 2","Input2A","Input2B- 2 Wired Powered by IDC","Input2C",null,null,null,"Aux PS","Customised",{"$f":"IF((EXACT((LEFT(#REF!,10)),K106))=TRUE,0,1)","v":{"$error":"#REF!"}}]
[null,3,"Customised 3","Input3A","Input3B- 2 Wired Powered by IDC","Input3C",null,null,null,"Aux PS","Customised",{"$f":"IF((EXACT((LEFT(C105,10)),K107))=TRUE,0,1)","v":0}]
[null,4,"Customised 4","Input4A","Input4B- 2 Wired Powered by IDC","Input4C",null,null,null,"Aux PS","Customised",{"$f":"IF((EXACT((LEFT(C106,10)),K108))=TRUE,0,1)","v":0}]
[null,5,"Customised 5","Input5A","Input5B- 2 Wired Powered by IDC","Input5C",null,null,null,"Aux PS","Customised",{"$f":"IF((EXACT((LEFT(C107,10)),K109))=TRUE,0,1)","v":0}]
[null,null,null,null,null,null,null,null,null,null," "," "]
["H",null,"Conventional Notification Devices",null,null,null,null,null,null,null," "," "]
[" ",{"$f":"+B111+1","v":1},"Customised 1","Input1A","Input1B - Notification Device 1","Input1C",null," ",0,"NAC Powered","Customised",{"$f":"IF((EXACT((LEFT(C112,10)),K112))=TRUE,0,1)","v":0}]
["  ",2,"Customised 2","Input2A","Input2B - Notification Device 2","Input2C",null,0,0,{"$f":"+J112","v":"NAC Powered"},"Customised",0]
[" ",3,"Customised 3","Input3A","Input3B - Notification Device 3","Input3C",null,0,0,{"$f":"+J113","v":"NAC Powered"},"Customised",0]
[" ",4,"Customised 4","Input4A","Input4B - Notification Device 4","Input4C",null,0,0,{"$f":"+J114","v":"NAC Powered"},"Customised",0]
[" ",5,"Customised 5","Input5A","Input5B - Notification Device 5","Input5C",null,0,0,{"$f":"+J115","v":"NAC Powered"},"Customised",0]
[null,6,"Customised 6","Input6A","Input6B - Notifiation Device 6","Input6C",null,0,0,{"$f":"+J116","v":"NAC Powered"},"Customised",0]
[null,null,null,null,null,null,null,null," ",null," "," "]

{"sheet":"4004RDrawing","index":8,"n_rows":0,"n_cols":0,"rows_kept":0,"cut":false,"hidden":false,"merged":[]}

{"sheet":"IdnetAddr","index":9,"n_rows":255,"n_cols":19,"rows_kept":255,"cut":false,"hidden":true,"merged":[[0,13,0,18],[0,7,0,12],[13,7,13,12],[13,13,13,18]]}
[0,null,"Notification Circuits Wiring Distance Calculation",null,null,null,null,"50°C (122°F)",null,null,null,null,null,"75°C (167°F)"]
[{"$f":"+A1+1","v":1},null,"Calculation Factors","Voltage Drop","mA to Amp","R@1K","Dual Core","18AWG","16AWG","14AWG","12AWG","1.5mm2","2.5mm2","18AWG","16AWG","14AWG","12AWG","1.5mm2","2.5mm2"]
[{"$f":"+A2+1","v":2},null,"Worst Scenario",4,1000,1000,2,23.425196885999998,14.763779550000001,9.251968518,5.807086623,12.500000019000002,7.5131233710000007,25.492126023000001,16.043307111000001,10.072178492999999,6.3320210069999998,13.582677186,8.14]
[3,null,"Mean Scenario",6.67,1000,1000,2,23.425196885999998,14.763779550000001,9.251968518,5.807086623,12.500000019000002,7.5131233710000007,25.492126023000001,16.043307111000001,10.072178492999999,6.3320210069999998,13.582677186,{"$f":"+S3","v":8.14}]
[4,null,"Type of Cables","Deg","Unit"]
[null,null,"No Selection"]
[{"$f":"+A5+1","v":5},null,"1.5mm2","50°C (122°F)","Meter"]
[6,null,"2.5mm2","75°C (167°F)","Feet"]
[7,null,"18AWG"]
[8,null,"16AWG"]
[9,null,"14AWG"]
[10,null,"12AWG"]
[11]
[12,null,"Release Actuator Circuits Distance Calculation",null,null,null,null,"50°C (122°F)",null,null,null,null,null,"75°C (167°F)"]
[13,null,"RAC Actuator Current",null,"mA to Amp","R@1K","Dual Core","18AWG","16AWG","14AWG","12AWG","1.5mm2","2.5mm2","18AWG","16AWG","14AWG","12AWG","1.5mm2","2.5mm2"]
[14,null,500,3.4,1000,1000,2,3.58,14.763779550000001,9.251968518,5.807086623,12.500000019000002,7.5131233710000007,25.492126023000001,16.043307111000001,10.072178492999999,6.3320210069999998,13.582677186,8.14]
[15,null,750,3.4,1000,1000,2,2.39,14.763779550000001,9.251968518,5.807086623,12.500000019000002,7.5131233710000007,25.492126023000001,16.043307111000001,10.072178492999999,6.3320210069999998,13.582677186,{"$f":"+S16","v":8.14}]
[16,null,1000,3.4,1000,1000,2,1.79,14.763779550000001,9.251968518,5.807086623,12.500000019000002,7.5131233710000007,25.492126023000001,16.043307111000001,10.072178492999999,6.3320210069999998,13.582677186,{"$f":"+S17","v":8.14}]
[17,null,1250,3.4,1000,1000,2,1.43,14.763779550000001,9.251968518,5.807086623,12.500000019000002,7.5131233710000007,25.492126023000001,16.043307111000001,10.072178492999999,6.3320210069999998,13.582677186,8.14]
[18,null,1500,3.4,1000,1000,2,1.19,14.763779550000001,9.251968518,5.807086623,12.500000019000002,7.5131233710000007,25.492126023000001,16.043307111000001,10.072178492999999,6.3320210069999998,13.582677186,8.14]
[19,null,1750,3.4,1000,1000,2,1.02,14.763779550000001,9.251968518,5.807086623,12.500000019000002,7.5131233710000007,25.492126023000001,16.043307111000001,10.072178492999999,6.3320210069999998,13.582677186,8.14]
[20,null,2000,1.2,1000,1000,2,0.36,14.763779550000001,9.251968518,5.807086623,12.500000019000002,7.5131233710000007,25.492126023000001,16.043307111000001,10.072178492999999,6.3320210069999998,13.582677186,8.14]
[21]
[22,"NAC1","NAC1 Usage-Notification Device"]
[null,"NAC2","NAC2 Usage Notification Device"]
[null,"NAC3","NAC3 Usage Notification Device"]
[null,"NAC4","NAC4 Usage Notification Device"]
[{"$f":"+A24+1","v":23},"RAC1","RAC1 Usage -Actuator1"]
[24,"RAC2","RAC2 Usage-Actuator2"]
[25,"RAC3","RAC3 Usage-Actuator3"]
[26,null,null,null,null,null,null," "]
[27,"NAC1","NAC1 Usage-Notification Device",null,null,null,null," "]
[28,"RAC1","RAC1 Usage -Actuator1",null,null,null,null," "]
[29,"NAC2","NAC2 Usage-Notification Device"]
[30,"RAC2","RAC2 Usage -Actuator1"]
[31,"NAC3","NAC3 Usage-Notification Device"]
[32,"RAC3","RAC3 Usage -Actuator1"]
[33,"NAC4","NAC4 Usage Notification Device"]
[34]
[35,null," "]
[36,null,null," "]
[37]
[38]
[39]
[40]
[41]
[42]
[43]
[44]
[45]
[46]
[47]
[48]
[49]
[50]
[51]
[52]
[53]
[54]
[55]
[56]
[57]
[58]
[59]
[60]
[61]
[62]
[63]
[64]
[65]
[{"$f":"+A70+1","v":66}]
[67]
[68]
[69]
[70]
[71]
[72]
[73]
[74]
[75]
[76]
[77]
[78]
[79]
[80]
[81]
[82]
[83]
[84]
[85]
[86]
[87]
[88]
[89]
[90]
[91]
[92]
[93]
[94]
[95]
[96]
[97]
[98]
[99]
[100]
[101]
[102]
[103]
[104]
[105]
[106]
[107]
[108]
[109]
[110]
[111]
[112]
[113]
[114]
[115]
[116]
[117]
[118]
[119]
[120]
[121]
[122]
[123]
[124]
[125]
[126]
[127]
[128]
[129]
[{"$f":"+A134+1","v":130}]
[131]
[132]
[{"$f":"+A137+1","v":133}]
[134]
[135]
[136]
[137]
[138]
[139]
[140]
[141]
[142]
[143]
[144]
[145]
[146]
[147]
[148]
[149]
[150]
[151]
[152]
[153]
[154]
[155]
[156]
[157]
[158]
[159]
[160]
[161]
[162]
[163]
[164]
[165]
[166]
[167]
[168]
[169]
[170]
[171]
[172]
[173]
[174]
[175]
[176]
[177]
[178]
[179]
[180]
[181]
[182]
[183]
[184]
[185]
[186]
[187]
[188]
[189]
[190]
[191]
[192]
[193]
[{"$f":"+A198+1","v":194}]
[195]
[196]
[197]
[198]
[199]
[200]
[201]
[202]
[203]
[204]
[205]
[206]
[207]
[208]
[209]
[210]
[211]
[212]
[213]
[214]
[215]
[216]
[217]
[218]
[219]
[220]
[221]
[222]
[223]
[224]
[225]
[226]
[227]
[228]
[229]
[230]
[231]
[232]
[233]
[234]
[235]
[236]
[237]
[238]
[239]
[240]
[241]
[242]
[243]
[244]
[245]
[246]
[247]
[248]
[249]
[250]

{"sheet":"Aux & `Panel Current","index":10,"n_rows":78,"n_cols":42,"rows_kept":78,"cut":false,"hidden":true,"merged":[[68,10,68,11],[68,12,68,13],[47,2,47,3],[35,2,35,3],[35,4,35,5],[35,6,35,7],[35,8,35,9],[68,4,68,5],[68,6,68,7],[68,8,68,9]]}
["Auxillary Current summary"]
["PID","Description","H1 Stby","H1 Alm","H2 Stby","H2 Alm","H3 Stby","H3 Alm","H4 Stby","H4 Alm","H5 Stby","H5 Alm","H6 Stby","H6 Alm","H7 Stby","H7 Alm","H8 Stby","H8 Alm","H9 Stby","H9 Alm","H10 Stby","H10 Alm","H11 Stby","H11 Alm","H12 Stby","H12 Alm","H13 Stby","H13 Alm","H14 Stby","H14 Alm","H15 Stby","H15 Alm","H16 Stby","H16 Alm","H17 Stby","H17 Alm","H18 Stby","H18 Alm","H19 Stby","H19 Alm","H20 Stby","H20 Alm"]
[{"$f":"+'4007ES(Addr)'!I62","v":"2080-9069"},{"$f":"+'4007ES(Addr)'!C62","v":"Maintenance Switch with Lights(UL)"},{"$f":"+'4007ES(Addr)'!$K$62*'4007ES(Addr)'!$AF$62","v":0},{"$f":"+'4007ES(Addr)'!$K$62*'4007ES(Addr)'!$AG$62","v":0},{"$f":"+'4007ES(Addr)'!L$62*'4007ES(Addr)'!$AF$62","v":0},{"$f":"+'4007ES(Addr)'!L$62*'4007ES(Addr)'!$AG$62","v":0},{"$f":"+'4007ES(Addr)'!M$62*'4007ES(Addr)'!$AF$62","v":0},{"$f":"+'4007ES(Addr)'!M$62*'4007ES(Addr)'!$AG$62","v":0},{"$f":"+'4007ES(Addr)'!N$62*'4007ES(Addr)'!$AF$62","v":0},{"$f":"+'4007ES(Addr)'!N$62*'4007ES(Addr)'!$AG$62","v":0},{"$f":"+'4007ES(Addr)'!$O$62*'4007ES(Addr)'!$AF$62","v":0},{"$f":"+'4007ES(Addr)'!$O$62*'4007ES(Addr)'!$AG$62","v":0},{"$f":"+'4007ES(Addr)'!$P$62*'4007ES(Addr)'!$AF$62","v":0},{"$f":"+'4007ES(Addr)'!$P$62*'4007ES(Addr)'!$AG$62","v":0},{"$f":"+'4007ES(Addr)'!$Q$62*'4007ES(Addr)'!$AF$62","v":0},{"$f":"+'4007ES(Addr)'!$Q$62*'4007ES(Addr)'!$AG$62","v":0},{"$f":"+'4007ES(Addr)'!$R$62*'4007ES(Addr)'!$AF$62","v":0},{"$f":"+'4007ES(Addr)'!$R$62*'4007ES(Addr)'!$AG$62","v":0},{"$f":"+'4007ES(Addr)'!$P$62*'4007ES(Addr)'!$AF$62","v":0},{"$f":"+'4007ES(Addr)'!$P$62*'4007ES(Addr)'!$AG$62","v":0},{"$f":"+'4007ES(Addr)'!$Q$62*'4007ES(Addr)'!$AF$62","v":0},{"$f":"+'4007ES(Addr)'!$Q$62*'4007ES(Addr)'!$AG$62","v":0},{"$f":"+'4007ES(Addr)'!$R$62*'4007ES(Addr)'!$AF$62","v":0},{"$f":"+'4007ES(Addr)'!$R$62*'4007ES(Addr)'!$AG$62","v":0},{"$f":"+'4007ES(Addr)'!$S$62*'4007ES(Addr)'!$AF$62","v":0},{"$f":"+'4007ES(Addr)'!$S$62*'4007ES(Addr)'!$AG$62","v":0},{"$f":"+'4007ES(Addr)'!$T$62*'4007ES(Addr)'!$AF$62","v":0},{"$f":"+'4007ES(Addr)'!$T$62*'4007ES(Addr)'!$AG$62","v":0},{"$f":"+'4007ES(Addr)'!$U$62*'4007ES(Addr)'!$AF$62","v":0},{"$f":"+'4007ES(Addr)'!$U$62*'4007ES(Addr)'!$AG$62","v":0},{"$f":"+'4007ES(Addr)'!$V$62*'4007ES(Addr)'!$AF$62","v":0},{"$f":"+'4007ES(Addr)'!$V$62*'4007ES(Addr)'!$AG$62","v":0},{"$f":"+'4007ES(Addr)'!$W$62*'4007ES(Addr)'!$AF$62","v":0},{"$f":"+'4007ES(Addr)'!$W$62*'4007ES(Addr)'!$AG$62","v":0},{"$f":"+'4007ES(Addr)'!$X$62*'4007ES(Addr)'!$AF$62","v":0},{"$f":"+'4007ES(Addr)'!$X$62*'4007ES(Addr)'!$AG$62","v":0},{"$f":"+'4007ES(Addr)'!$Y$62*'4007ES(Addr)'!$AF$62","v":0},{"$f":"+'4007ES(Addr)'!$Y$62*'4007ES(Addr)'!$AG$62","v":0},{"$f":"+'4007ES(Addr)'!$Z$62*'4007ES(Addr)'!$AF$62","v":0},{"$f":"+'4007ES(Addr)'!$Z$62*'4007ES(Addr)'!$AG$62","v":0},{"$f":"+'4007ES(Addr)'!$AA$62*'4007ES(Addr)'!$AF$62","v":0},{"$f":"+'4007ES(Addr)'!$AA$62*'4007ES(Addr)'!$AG$62","v":0}]
[{"$f":"+'4007ES(Addr)'!I$67","v":"Discharge Signage"},{"$f":"+'4007ES(Addr)'!C$67","v":"Local Discharge Signage"},{"$f":"+'4007ES(Addr)'!$K$67*'4007ES(Addr)'!$AF$67","v":0},{"$f":"+'4007ES(Addr)'!$K$67*'4007ES(Addr)'!$AG$67","v":0},{"$f":"+'4007ES(Addr)'!L$67*'4007ES(Addr)'!$AF$67","v":0},{"$f":"+'4007ES(Addr)'!L$67*'4007ES(Addr)'!$AG$67","v":0},{"$f":"+'4007ES(Addr)'!M$67*'4007ES(Addr)'!$AF$67","v":0},{"$f":"+'4007ES(Addr)'!M$67*'4007ES(Addr)'!$AG$67","v":0},{"$f":"+'4007ES(Addr)'!N$67*'4007ES(Addr)'!$AF$67","v":0},{"$f":"+'4007ES(Addr)'!N$67*'4007ES(Addr)'!$AG$67","v":0},{"$f":"+'4007ES(Addr)'!$O$67*'4007ES(Addr)'!$AF$67","v":0},{"$f":"+'4007ES(Addr)'!$O$67*'4007ES(Addr)'!$AG$67","v":0},{"$f":"+'4007ES(Addr)'!$P$67*'4007ES(Addr)'!$AF$67","v":0},{"$f":"+'4007ES(Addr)'!$P$67*'4007ES(Addr)'!$AG$67","v":0},{"$f":"+'4007ES(Addr)'!$Q$67*'4007ES(Addr)'!$AF$67","v":0},{"$f":"+'4007ES(Addr)'!$Q$67*'4007ES(Addr)'!$AG$67","v":0},{"$f":"+'4007ES(Addr)'!$R$67*'4007ES(Addr)'!$AF$67","v":0},{"$f":"+'4007ES(Addr)'!$R$67*'4007ES(Addr)'!$AG$67","v":0},{"$f":"+'4007ES(Addr)'!$P$67*'4007ES(Addr)'!$AF$67","v":0},{"$f":"+'4007ES(Addr)'!$P$67*'4007ES(Addr)'!$AG$67","v":0},{"$f":"+'4007ES(Addr)'!$Q$67*'4007ES(Addr)'!$AF$67","v":0},{"$f":"+'4007ES(Addr)'!$Q$67*'4007ES(Addr)'!$AG$67","v":0},{"$f":"+'4007ES(Addr)'!$R$67*'4007ES(Addr)'!$AF$67","v":0},{"$f":"+'4007ES(Addr)'!$R$67*'4007ES(Addr)'!$AG$67","v":0},{"$f":"+'4007ES(Addr)'!$S$67*'4007ES(Addr)'!$AF$67","v":0},{"$f":"+'4007ES(Addr)'!$S$67*'4007ES(Addr)'!$AG$67","v":0},{"$f":"+'4007ES(Addr)'!$T$67*'4007ES(Addr)'!$AF$67","v":0},{"$f":"+'4007ES(Addr)'!$T$67*'4007ES(Addr)'!$AG$67","v":0},{"$f":"+'4007ES(Addr)'!$U$67*'4007ES(Addr)'!$AF$67","v":0},{"$f":"+'4007ES(Addr)'!$U$67*'4007ES(Addr)'!$AG$67","v":0},{"$f":"+'4007ES(Addr)'!$V$67*'4007ES(Addr)'!$AF$67","v":0},{"$f":"+'4007ES(Addr)'!$V$67*'4007ES(Addr)'!$AG$67","v":0},{"$f":"+'4007ES(Addr)'!$W$67*'4007ES(Addr)'!$AF$67","v":0},{"$f":"+'4007ES(Addr)'!$W$67*'4007ES(Addr)'!$AG$67","v":0},{"$f":"+'4007ES(Addr)'!$X$67*'4007ES(Addr)'!$AF$67","v":0},{"$f":"+'4007ES(Addr)'!$X$67*'4007ES(Addr)'!$AG$67","v":0},{"$f":"+'4007ES(Addr)'!$Y$67*'4007ES(Addr)'!$AF$67","v":0},{"$f":"+'4007ES(Addr)'!$Y$67*'4007ES(Addr)'!$AG$67","v":0},{"$f":"+'4007ES(Addr)'!$Z$67*'4007ES(Addr)'!$AF$67","v":0},{"$f":"+'4007ES(Addr)'!$Z$67*'4007ES(Addr)'!$AG$67","v":0},{"$f":"+'4007ES(Addr)'!$AA$67*'4007ES(Addr)'!$AF$67","v":0},{"$f":"+'4007ES(Addr)'!$AA$67*'4007ES(Addr)'!$AG$67","v":0}]
[{"$f":"+'4007ES(Addr)'!I68","v":"1st Alarm Signage"},{"$f":"+'4007ES(Addr)'!C68","v":"Pre Release Display Signage"},{"$f":"+'4007ES(Addr)'!$K$68*'4007ES(Addr)'!$AF$68","v":0},{"$f":"+'4007ES(Addr)'!$K$68*'4007ES(Addr)'!$AG$68","v":0},{"$f":"+'4007ES(Addr)'!L$68*'4007ES(Addr)'!$AF$68","v":0},{"$f":"+'4007ES(Addr)'!L$68*'4007ES(Addr)'!$AG$68","v":0},{"$f":"+'4007ES(Addr)'!M$68*'4007ES(Addr)'!$AF$68","v":0},{"$f":"+'4007ES(Addr)'!M$68*'4007ES(Addr)'!$AG$68","v":0},{"$f":"+'4007ES(Addr)'!N$68*'4007ES(Addr)'!$AF$68","v":0},{"$f":"+'4007ES(Addr)'!N$68*'4007ES(Addr)'!$AG$68","v":0},{"$f":"+'4007ES(Addr)'!$O$68*'4007ES(Addr)'!$AF$68","v":0},{"$f":"+'4007ES(Addr)'!$O$68*'4007ES(Addr)'!$AG$68","v":0},{"$f":"+'4007ES(Addr)'!$P$68*'4007ES(Addr)'!$AF$68","v":0},{"$f":"+'4007ES(Addr)'!$P$68*'4007ES(Addr)'!$AG$68","v":0},{"$f":"+'4007ES(Addr)'!$Q$68*'4007ES(Addr)'!$AF$68","v":0},{"$f":"+'4007ES(Addr)'!$Q$68*'4007ES(Addr)'!$AG$68","v":0},{"$f":"+'4007ES(Addr)'!$R$68*'4007ES(Addr)'!$AF$68","v":0},{"$f":"+'4007ES(Addr)'!$R$68*'4007ES(Addr)'!$AG$68","v":0},{"$f":"+'4007ES(Addr)'!$P$68*'4007ES(Addr)'!$AF$68","v":0},{"$f":"+'4007ES(Addr)'!$P$68*'4007ES(Addr)'!$AG$68","v":0},{"$f":"+'4007ES(Addr)'!$Q$68*'4007ES(Addr)'!$AF$68","v":0},{"$f":"+'4007ES(Addr)'!$Q$68*'4007ES(Addr)'!$AG$68","v":0},{"$f":"+'4007ES(Addr)'!$R$68*'4007ES(Addr)'!$AF$68","v":0},{"$f":"+'4007ES(Addr)'!$R$68*'4007ES(Addr)'!$AG$68","v":0},{"$f":"+'4007ES(Addr)'!$S$68*'4007ES(Addr)'!$AF$68","v":0},{"$f":"+'4007ES(Addr)'!$S$68*'4007ES(Addr)'!$AG$68","v":0},{"$f":"+'4007ES(Addr)'!$T$68*'4007ES(Addr)'!$AF$68","v":0},{"$f":"+'4007ES(Addr)'!$T$68*'4007ES(Addr)'!$AG$68","v":0},{"$f":"+'4007ES(Addr)'!$U$68*'4007ES(Addr)'!$AF$68","v":0},{"$f":"+'4007ES(Addr)'!$U$68*'4007ES(Addr)'!$AG$68","v":0},{"$f":"+'4007ES(Addr)'!$V$68*'4007ES(Addr)'!$AF$68","v":0},{"$f":"+'4007ES(Addr)'!$V$68*'4007ES(Addr)'!$AG$68","v":0},{"$f":"+'4007ES(Addr)'!$W$68*'4007ES(Addr)'!$AF$68","v":0},{"$f":"+'4007ES(Addr)'!$W$68*'4007ES(Addr)'!$AG$68","v":0},{"$f":"+'4007ES(Addr)'!$X$68*'4007ES(Addr)'!$AF$68","v":0},{"$f":"+'4007ES(Addr)'!$X$68*'4007ES(Addr)'!$AG$68","v":0},{"$f":"+'4007ES(Addr)'!$Y$68*'4007ES(Addr)'!$AF$68","v":0},{"$f":"+'4007ES(Addr)'!$Y$68*'4007ES(Addr)'!$AG$68","v":0},{"$f":"+'4007ES(Addr)'!$Z$68*'4007ES(Addr)'!$AF$68","v":0},{"$f":"+'4007ES(Addr)'!$Z$68*'4007ES(Addr)'!$AG$68","v":0},{"$f":"+'4007ES(Addr)'!$AA$68*'4007ES(Addr)'!$AF$68","v":0},{"$f":"+'4007ES(Addr)'!$AA$68*'4007ES(Addr)'!$AG$68","v":0}]
[{"$f":"+'4007ES(Addr)'!I96","v":"4098-VEP-A00-1P"},{"$f":"+'4007ES(Addr)'!C96","v":"Addressable 4098-VEP-A00-1P"},{"$f":"+'4007ES(Addr)'!$K$96*'4007ES(Addr)'!$AF$96","v":0},{"$f":"+'4007ES(Addr)'!$K$96*'4007ES(Addr)'!$AG$96","v":0},{"$f":"+'4007ES(Addr)'!L$96*'4007ES(Addr)'!$AF$96","v":0},{"$f":"+'4007ES(Addr)'!L$96*'4007ES(Addr)'!$AG$96","v":0},{"$f":"+'4007ES(Addr)'!M$96*'4007ES(Addr)'!$AF$96","v":0},{"$f":"+'4007ES(Addr)'!M$96*'4007ES(Addr)'!$AG$96","v":0},{"$f":"+'4007ES(Addr)'!N$96*'4007ES(Addr)'!$AF$96","v":0},{"$f":"+'4007ES(Addr)'!N$96*'4007ES(Addr)'!$AG$96","v":0},{"$f":"+'4007ES(Addr)'!$O$96*'4007ES(Addr)'!$AF$96","v":0},{"$f":"+'4007ES(Addr)'!$O$96*'4007ES(Addr)'!$AG$96","v":0},{"$f":"+'4007ES(Addr)'!$P$96*'4007ES(Addr)'!$AF$96","v":0},{"$f":"+'4007ES(Addr)'!$P$96*'4007ES(Addr)'!$AG$96","v":0},{"$f":"+'4007ES(Addr)'!$Q$96*'4007ES(Addr)'!$AF$96","v":0},{"$f":"+'4007ES(Addr)'!$Q$96*'4007ES(Addr)'!$AG$96","v":0},{"$f":"+'4007ES(Addr)'!$R$96*'4007ES(Addr)'!$AF$96","v":0},{"$f":"+'4007ES(Addr)'!$R$96*'4007ES(Addr)'!$AG$96","v":0},{"$f":"+'4007ES(Addr)'!$P$96*'4007ES(Addr)'!$AF$96","v":0},{"$f":"+'4007ES(Addr)'!$P$96*'4007ES(Addr)'!$AG$96","v":0},{"$f":"+'4007ES(Addr)'!$Q$96*'4007ES(Addr)'!$AF$96","v":0},{"$f":"+'4007ES(Addr)'!$Q$96*'4007ES(Addr)'!$AG$96","v":0},{"$f":"+'4007ES(Addr)'!$R$96*'4007ES(Addr)'!$AF$96","v":0},{"$f":"+'4007ES(Addr)'!$R$96*'4007ES(Addr)'!$AG$96","v":0},{"$f":"+'4007ES(Addr)'!$S$96*'4007ES(Addr)'!$AF$96","v":0},{"$f":"+'4007ES(Addr)'!$S$96*'4007ES(Addr)'!$AG$96","v":0},{"$f":"+'4007ES(Addr)'!$T$96*'4007ES(Addr)'!$AF$96","v":0},{"$f":"+'4007ES(Addr)'!$T$96*'4007ES(Addr)'!$AG$96","v":0},{"$f":"+'4007ES(Addr)'!$U$96*'4007ES(Addr)'!$AF$96","v":0},{"$f":"+'4007ES(Addr)'!$U$96*'4007ES(Addr)'!$AG$96","v":0},{"$f":"+'4007ES(Addr)'!$V$96*'4007ES(Addr)'!$AF$96","v":0},{"$f":"+'4007ES(Addr)'!$V$96*'4007ES(Addr)'!$AG$96","v":0},{"$f":"+'4007ES(Addr)'!$W$96*'4007ES(Addr)'!$AF$96","v":0},{"$f":"+'4007ES(Addr)'!$W$96*'4007ES(Addr)'!$AG$96","v":0},{"$f":"+'4007ES(Addr)'!$X$96*'4007ES(Addr)'!$AF$96","v":0},{"$f":"+'4007ES(Addr)'!$X$96*'4007ES(Addr)'!$AG$96","v":0},{"$f":"+'4007ES(Addr)'!$Y$96*'4007ES(Addr)'!$AF$96","v":0},{"$f":"+'4007ES(Addr)'!$Y$96*'4007ES(Addr)'!$AG$96","v":0},{"$f":"+'4007ES(Addr)'!$Z$96*'4007ES(Addr)'!$AF$96","v":0},{"$f":"+'4007ES(Addr)'!$Z$96*'4007ES(Addr)'!$AG$96","v":0},{"$f":"+'4007ES(Addr)'!$AA$96*'4007ES(Addr)'!$AF$96","v":0},{"$f":"+'4007ES(Addr)'!$AA$96*'4007ES(Addr)'!$AG$96","v":0}]
[{"$f":"+'4007ES(Addr)'!I97","v":"4098-VEP-A00-P"},{"$f":"+'4007ES(Addr)'!C97","v":"Addressable 4098-VEP-A00-P"},{"$f":"+'4007ES(Addr)'!$K$97*'4007ES(Addr)'!$AF$97","v":0},{"$f":"+'4007ES(Addr)'!$K$97*'4007ES(Addr)'!$AG$97","v":0},{"$f":"+'4007ES(Addr)'!L$97*'4007ES(Addr)'!$AF$97","v":0},{"$f":"+'4007ES(Addr)'!L$97*'4007ES(Addr)'!$AG$97","v":0},{"$f":"+'4007ES(Addr)'!M$97*'4007ES(Addr)'!$AF$97","v":0},{"$f":"+'4007ES(Addr)'!M$97*'4007ES(Addr)'!$AG$97","v":0},{"$f":"+'4007ES(Addr)'!N$97*'4007ES(Addr)'!$AF$97","v":0},{"$f":"+'4007ES(Addr)'!N$97*'4007ES(Addr)'!$AG$97","v":0},{"$f":"+'4007ES(Addr)'!$O$97*'4007ES(Addr)'!$AF$97","v":0},{"$f":"+'4007ES(Addr)'!$O$97*'4007ES(Addr)'!$AG$97","v":0},{"$f":"+'4007ES(Addr)'!$P$97*'4007ES(Addr)'!$AF$97","v":0},{"$f":"+'4007ES(Addr)'!$P$97*'4007ES(Addr)'!$AG$97","v":0},{"$f":"+'4007ES(Addr)'!$Q$97*'4007ES(Addr)'!$AF$97","v":0},{"$f":"+'4007ES(Addr)'!$Q$97*'4007ES(Addr)'!$AG$97","v":0},{"$f":"+'4007ES(Addr)'!$R$97*'4007ES(Addr)'!$AF$97","v":0},{"$f":"+'4007ES(Addr)'!$R$97*'4007ES(Addr)'!$AG$97","v":0},{"$f":"+'4007ES(Addr)'!$P$97*'4007ES(Addr)'!$AF$97","v":0},{"$f":"+'4007ES(Addr)'!$P$97*'4007ES(Addr)'!$AG$97","v":0},{"$f":"+'4007ES(Addr)'!$Q$97*'4007ES(Addr)'!$AF$97","v":0},{"$f":"+'4007ES(Addr)'!$Q$97*'4007ES(Addr)'!$AG$97","v":0},{"$f":"+'4007ES(Addr)'!$R$97*'4007ES(Addr)'!$AF$97","v":0},{"$f":"+'4007ES(Addr)'!$R$97*'4007ES(Addr)'!$AG$97","v":0},{"$f":"+'4007ES(Addr)'!$S$97*'4007ES(Addr)'!$AF$97","v":0},{"$f":"+'4007ES(Addr)'!$S$97*'4007ES(Addr)'!$AG$97","v":0},{"$f":"+'4007ES(Addr)'!$T$97*'4007ES(Addr)'!$AF$97","v":0},{"$f":"+'4007ES(Addr)'!$T$97*'4007ES(Addr)'!$AG$97","v":0},{"$f":"+'4007ES(Addr)'!$U$97*'4007ES(Addr)'!$AF$97","v":0},{"$f":"+'4007ES(Addr)'!$U$97*'4007ES(Addr)'!$AG$97","v":0},{"$f":"+'4007ES(Addr)'!$V$97*'4007ES(Addr)'!$AF$97","v":0},{"$f":"+'4007ES(Addr)'!$V$97*'4007ES(Addr)'!$AG$97","v":0},{"$f":"+'4007ES(Addr)'!$W$97*'4007ES(Addr)'!$AF$97","v":0},{"$f":"+'4007ES(Addr)'!$W$97*'4007ES(Addr)'!$AG$97","v":0},{"$f":"+'4007ES(Addr)'!$X$97*'4007ES(Addr)'!$AF$97","v":0},{"$f":"+'4007ES(Addr)'!$X$97*'4007ES(Addr)'!$AG$97","v":0},{"$f":"+'4007ES(Addr)'!$Y$97*'4007ES(Addr)'!$AF$97","v":0},{"$f":"+'4007ES(Addr)'!$Y$97*'4007ES(Addr)'!$AG$97","v":0},{"$f":"+'4007ES(Addr)'!$Z$97*'4007ES(Addr)'!$AF$97","v":0},{"$f":"+'4007ES(Addr)'!$Z$97*'4007ES(Addr)'!$AG$97","v":0},{"$f":"+'4007ES(Addr)'!$AA$97*'4007ES(Addr)'!$AF$97","v":0},{"$f":"+'4007ES(Addr)'!$AA$97*'4007ES(Addr)'!$AG$97","v":0}]
[{"$f":"+'4007ES(Addr)'!I98","v":"4098-VEP-A10-P "},{"$f":"+'4007ES(Addr)'!C98","v":"Addressable 4098-VEP-A10-P "},{"$f":"+'4007ES(Addr)'!$K$98*'4007ES(Addr)'!$AF$98","v":0},{"$f":"+'4007ES(Addr)'!$K$98*'4007ES(Addr)'!$AG$98","v":0},{"$f":"+'4007ES(Addr)'!L$98*'4007ES(Addr)'!$AF$98","v":0},{"$f":"+'4007ES(Addr)'!L$98*'4007ES(Addr)'!$AG$98","v":0},{"$f":"+'4007ES(Addr)'!M$98*'4007ES(Addr)'!$AF$98","v":0},{"$f":"+'4007ES(Addr)'!M$98*'4007ES(Addr)'!$AG$98","v":0},{"$f":"+'4007ES(Addr)'!N$98*'4007ES(Addr)'!$AF$98","v":0},{"$f":"+'4007ES(Addr)'!N$98*'4007ES(Addr)'!$AG$98","v":0},{"$f":"+'4007ES(Addr)'!$O$98*'4007ES(Addr)'!$AF$98","v":0},{"$f":"+'4007ES(Addr)'!$O$98*'4007ES(Addr)'!$AG$98","v":0},{"$f":"+'4007ES(Addr)'!$P$98*'4007ES(Addr)'!$AF$98","v":0},{"$f":"+'4007ES(Addr)'!$P$98*'4007ES(Addr)'!$AG$98","v":0},{"$f":"+'4007ES(Addr)'!$Q$98*'4007ES(Addr)'!$AF$98","v":0},{"$f":"+'4007ES(Addr)'!$Q$98*'4007ES(Addr)'!$AG$98","v":0},{"$f":"+'4007ES(Addr)'!$R$98*'4007ES(Addr)'!$AF$98","v":0},{"$f":"+'4007ES(Addr)'!$R$98*'4007ES(Addr)'!$AG$98","v":0},{"$f":"+'4007ES(Addr)'!$P$98*'4007ES(Addr)'!$AF$98","v":0},{"$f":"+'4007ES(Addr)'!$P$98*'4007ES(Addr)'!$AG$98","v":0},{"$f":"+'4007ES(Addr)'!$Q$98*'4007ES(Addr)'!$AF$98","v":0},{"$f":"+'4007ES(Addr)'!$Q$98*'4007ES(Addr)'!$AG$98","v":0},{"$f":"+'4007ES(Addr)'!$R$98*'4007ES(Addr)'!$AF$98","v":0},{"$f":"+'4007ES(Addr)'!$R$98*'4007ES(Addr)'!$AG$98","v":0},{"$f":"+'4007ES(Addr)'!$S$98*'4007ES(Addr)'!$AF$98","v":0},{"$f":"+'4007ES(Addr)'!$S$98*'4007ES(Addr)'!$AG$98","v":0},{"$f":"+'4007ES(Addr)'!$T$98*'4007ES(Addr)'!$AF$98","v":0},{"$f":"+'4007ES(Addr)'!$T$98*'4007ES(Addr)'!$AG$98","v":0},{"$f":"+'4007ES(Addr)'!$U$98*'4007ES(Addr)'!$AF$98","v":0},{"$f":"+'4007ES(Addr)'!$U$98*'4007ES(Addr)'!$AG$98","v":0},{"$f":"+'4007ES(Addr)'!$V$98*'4007ES(Addr)'!$AF$98","v":0},{"$f":"+'4007ES(Addr)'!$V$98*'4007ES(Addr)'!$AG$98","v":0},{"$f":"+'4007ES(Addr)'!$W$98*'4007ES(Addr)'!$AF$98","v":0},{"$f":"+'4007ES(Addr)'!$W$98*'4007ES(Addr)'!$AG$98","v":0},{"$f":"+'4007ES(Addr)'!$X$98*'4007ES(Addr)'!$AF$98","v":0},{"$f":"+'4007ES(Addr)'!$X$98*'4007ES(Addr)'!$AG$98","v":0},{"$f":"+'4007ES(Addr)'!$Y$98*'4007ES(Addr)'!$AF$98","v":0},{"$f":"+'4007ES(Addr)'!$Y$98*'4007ES(Addr)'!$AG$98","v":0},{"$f":"+'4007ES(Addr)'!$Z$98*'4007ES(Addr)'!$AF$98","v":0},{"$f":"+'4007ES(Addr)'!$Z$98*'4007ES(Addr)'!$AG$98","v":0},{"$f":"+'4007ES(Addr)'!$AA$98*'4007ES(Addr)'!$AF$98","v":0},{"$f":"+'4007ES(Addr)'!$AA$98*'4007ES(Addr)'!$AG$98","v":0}]
[{"$f":"+'4007ES(Addr)'!I99","v":"4098-VEU-A00"},{"$f":"+'4007ES(Addr)'!C99","v":"Addressable 4098-VEU-A00"},{"$f":"+'4007ES(Addr)'!$K$99*'4007ES(Addr)'!$AF$99","v":0},{"$f":"+'4007ES(Addr)'!$K$99*'4007ES(Addr)'!$AG$99","v":0},{"$f":"+'4007ES(Addr)'!L$99*'4007ES(Addr)'!$AF$99","v":0},{"$f":"+'4007ES(Addr)'!L$99*'4007ES(Addr)'!$AG$99","v":0},{"$f":"+'4007ES(Addr)'!M$99*'4007ES(Addr)'!$AF$99","v":0},{"$f":"+'4007ES(Addr)'!M$99*'4007ES(Addr)'!$AG$99","v":0},{"$f":"+'4007ES(Addr)'!N$99*'4007ES(Addr)'!$AF$99","v":0},{"$f":"+'4007ES(Addr)'!N$99*'4007ES(Addr)'!$AG$99","v":0},{"$f":"+'4007ES(Addr)'!$O$99*'4007ES(Addr)'!$AF$99","v":0},{"$f":"+'4007ES(Addr)'!$O$99*'4007ES(Addr)'!$AG$99","v":0},{"$f":"+'4007ES(Addr)'!$P$99*'4007ES(Addr)'!$AF$99","v":0},{"$f":"+'4007ES(Addr)'!$P$99*'4007ES(Addr)'!$AG$99","v":0},{"$f":"+'4007ES(Addr)'!$Q$99*'4007ES(Addr)'!$AF$99","v":0},{"$f":"+'4007ES(Addr)'!$Q$99*'4007ES(Addr)'!$AG$99","v":0},{"$f":"+'4007ES(Addr)'!$R$99*'4007ES(Addr)'!$AF$99","v":0},{"$f":"+'4007ES(Addr)'!$R$99*'4007ES(Addr)'!$AG$99","v":0},{"$f":"+'4007ES(Addr)'!$P$99*'4007ES(Addr)'!$AF$99","v":0},{"$f":"+'4007ES(Addr)'!$P$99*'4007ES(Addr)'!$AG$99","v":0},{"$f":"+'4007ES(Addr)'!$Q$99*'4007ES(Addr)'!$AF$99","v":0},{"$f":"+'4007ES(Addr)'!$Q$99*'4007ES(Addr)'!$AG$99","v":0},{"$f":"+'4007ES(Addr)'!$R$99*'4007ES(Addr)'!$AF$99","v":0},{"$f":"+'4007ES(Addr)'!$R$99*'4007ES(Addr)'!$AG$99","v":0},{"$f":"+'4007ES(Addr)'!$S$99*'4007ES(Addr)'!$AF$99","v":0},{"$f":"+'4007ES(Addr)'!$S$99*'4007ES(Addr)'!$AG$99","v":0},{"$f":"+'4007ES(Addr)'!$T$99*'4007ES(Addr)'!$AF$99","v":0},{"$f":"+'4007ES(Addr)'!$T$99*'4007ES(Addr)'!$AG$99","v":0},{"$f":"+'4007ES(Addr)'!$U$99*'4007ES(Addr)'!$AF$99","v":0},{"$f":"+'4007ES(Addr)'!$U$99*'4007ES(Addr)'!$AG$99","v":0},{"$f":"+'4007ES(Addr)'!$V$99*'4007ES(Addr)'!$AF$99","v":0},{"$f":"+'4007ES(Addr)'!$V$99*'4007ES(Addr)'!$AG$99","v":0},{"$f":"+'4007ES(Addr)'!$W$99*'4007ES(Addr)'!$AF$99","v":0},{"$f":"+'4007ES(Addr)'!$W$99*'4007ES(Addr)'!$AG$99","v":0},{"$f":"+'4007ES(Addr)'!$X$99*'4007ES(Addr)'!$AF$99","v":0},{"$f":"+'4007ES(Addr)'!$X$99*'4007ES(Addr)'!$AG$99","v":0},{"$f":"+'4007ES(Addr)'!$Y$99*'4007ES(Addr)'!$AF$99","v":0},{"$f":"+'4007ES(Addr)'!$Y$99*'4007ES(Addr)'!$AG$99","v":0},{"$f":"+'4007ES(Addr)'!$Z$99*'4007ES(Addr)'!$AF$99","v":0},{"$f":"+'4007ES(Addr)'!$Z$99*'4007ES(Addr)'!$AG$99","v":0},{"$f":"+'4007ES(Addr)'!$AA$99*'4007ES(Addr)'!$AF$99","v":0},{"$f":"+'4007ES(Addr)'!$AA$99*'4007ES(Addr)'!$AG$99","v":0}]
[{"$f":"+'4007ES(Addr)'!I100","v":"4098-VEU-A10"},{"$f":"+'4007ES(Addr)'!C100","v":"Addressable 4098-VEU-A10"},{"$f":"+'4007ES(Addr)'!$K$100*'4007ES(Addr)'!$AF$100","v":0},{"$f":"+'4007ES(Addr)'!$K$100*'4007ES(Addr)'!$AG$100","v":0},{"$f":"+'4007ES(Addr)'!L$100*'4007ES(Addr)'!$AF$100","v":0},{"$f":"+'4007ES(Addr)'!L$100*'4007ES(Addr)'!$AG$100","v":0},{"$f":"+'4007ES(Addr)'!M$100*'4007ES(Addr)'!$AF$100","v":0},{"$f":"+'4007ES(Addr)'!M$100*'4007ES(Addr)'!$AG$100","v":0},{"$f":"+'4007ES(Addr)'!N$100*'4007ES(Addr)'!$AF$100","v":0},{"$f":"+'4007ES(Addr)'!N$100*'4007ES(Addr)'!$AG$100","v":0},{"$f":"+'4007ES(Addr)'!$O$100*'4007ES(Addr)'!$AF$100","v":0},{"$f":"+'4007ES(Addr)'!$O$100*'4007ES(Addr)'!$AG$100","v":0},{"$f":"+'4007ES(Addr)'!$P$100*'4007ES(Addr)'!$AF$100","v":0},{"$f":"+'4007ES(Addr)'!$P$100*'4007ES(Addr)'!$AG$100","v":0},{"$f":"+'4007ES(Addr)'!$Q$100*'4007ES(Addr)'!$AF$100","v":0},{"$f":"+'4007ES(Addr)'!$Q$100*'4007ES(Addr)'!$AG$100","v":0},{"$f":"+'4007ES(Addr)'!$R$100*'4007ES(Addr)'!$AF$100","v":0},{"$f":"+'4007ES(Addr)'!$R$100*'4007ES(Addr)'!$AG$100","v":0},{"$f":"+'4007ES(Addr)'!$P$100*'4007ES(Addr)'!$AF$100","v":0},{"$f":"+'4007ES(Addr)'!$P$100*'4007ES(Addr)'!$AG$100","v":0},{"$f":"+'4007ES(Addr)'!$Q$100*'4007ES(Addr)'!$AF$100","v":0},{"$f":"+'4007ES(Addr)'!$Q$100*'4007ES(Addr)'!$AG$100","v":0},{"$f":"+'4007ES(Addr)'!$R$100*'4007ES(Addr)'!$AF$100","v":0},{"$f":"+'4007ES(Addr)'!$R$100*'4007ES(Addr)'!$AG$100","v":0},{"$f":"+'4007ES(Addr)'!$S$100*'4007ES(Addr)'!$AF$100","v":0},{"$f":"+'4007ES(Addr)'!$S$100*'4007ES(Addr)'!$AG$100","v":0},{"$f":"+'4007ES(Addr)'!$T$100*'4007ES(Addr)'!$AF$100","v":0},{"$f":"+'4007ES(Addr)'!$T$100*'4007ES(Addr)'!$AG$100","v":0},{"$f":"+'4007ES(Addr)'!$U$100*'4007ES(Addr)'!$AF$100","v":0},{"$f":"+'4007ES(Addr)'!$U$100*'4007ES(Addr)'!$AG$100","v":0},{"$f":"+'4007ES(Addr)'!$V$100*'4007ES(Addr)'!$AF$100","v":0},{"$f":"+'4007ES(Addr)'!$V$100*'4007ES(Addr)'!$AG$100","v":0},{"$f":"+'4007ES(Addr)'!$W$100*'4007ES(Addr)'!$AF$100","v":0},{"$f":"+'4007ES(Addr)'!$W$100*'4007ES(Addr)'!$AG$100","v":0},{"$f":"+'4007ES(Addr)'!$X$100*'4007ES(Addr)'!$AF$100","v":0},{"$f":"+'4007ES(Addr)'!$X$100*'4007ES(Addr)'!$AG$100","v":0},{"$f":"+'4007ES(Addr)'!$Y$100*'4007ES(Addr)'!$AF$100","v":0},{"$f":"+'4007ES(Addr)'!$Y$100*'4007ES(Addr)'!$AG$100","v":0},{"$f":"+'4007ES(Addr)'!$Z$100*'4007ES(Addr)'!$AF$100","v":0},{"$f":"+'4007ES(Addr)'!$Z$100*'4007ES(Addr)'!$AG$100","v":0},{"$f":"+'4007ES(Addr)'!$AA$100*'4007ES(Addr)'!$AF$100","v":0},{"$f":"+'4007ES(Addr)'!$AA$100*'4007ES(Addr)'!$AG$100","v":0}]
[{"$f":"+'4007ES(Addr)'!I101","v":"4098-VES-A00-P"},{"$f":"+'4007ES(Addr)'!C101","v":"Addressable 4098-VES-A00-P"},{"$f":"+'4007ES(Addr)'!$K$101*'4007ES(Addr)'!$AF$101","v":0},{"$f":"+'4007ES(Addr)'!$K$101*'4007ES(Addr)'!$AG$101","v":0},{"$f":"+'4007ES(Addr)'!L$101*'4007ES(Addr)'!$AF$101","v":0},{"$f":"+'4007ES(Addr)'!L$101*'4007ES(Addr)'!$AG$101","v":0},{"$f":"+'4007ES(Addr)'!M$101*'4007ES(Addr)'!$AF$101","v":0},{"$f":"+'4007ES(Addr)'!M$101*'4007ES(Addr)'!$AG$101","v":0},{"$f":"+'4007ES(Addr)'!N$101*'4007ES(Addr)'!$AF$101","v":0},{"$f":"+'4007ES(Addr)'!N$101*'4007ES(Addr)'!$AG$101","v":0},{"$f":"+'4007ES(Addr)'!$O$101*'4007ES(Addr)'!$AF$101","v":0},{"$f":"+'4007ES(Addr)'!$O$101*'4007ES(Addr)'!$AG$101","v":0},{"$f":"+'4007ES(Addr)'!$P$101*'4007ES(Addr)'!$AF$101","v":0},{"$f":"+'4007ES(Addr)'!$P$101*'4007ES(Addr)'!$AG$101","v":0},{"$f":"+'4007ES(Addr)'!$Q$101*'4007ES(Addr)'!$AF$101","v":0},{"$f":"+'4007ES(Addr)'!$Q$101*'4007ES(Addr)'!$AG$101","v":0},{"$f":"+'4007ES(Addr)'!$R$101*'4007ES(Addr)'!$AF$101","v":0},{"$f":"+'4007ES(Addr)'!$R$101*'4007ES(Addr)'!$AG$101","v":0},{"$f":"+'4007ES(Addr)'!$P$101*'4007ES(Addr)'!$AF$101","v":0},{"$f":"+'4007ES(Addr)'!$P$101*'4007ES(Addr)'!$AG$101","v":0},{"$f":"+'4007ES(Addr)'!$Q$101*'4007ES(Addr)'!$AF$101","v":0},{"$f":"+'4007ES(Addr)'!$Q$101*'4007ES(Addr)'!$AG$101","v":0},{"$f":"+'4007ES(Addr)'!$R$101*'4007ES(Addr)'!$AF$101","v":0},{"$f":"+'4007ES(Addr)'!$R$101*'4007ES(Addr)'!$AG$101","v":0},{"$f":"+'4007ES(Addr)'!$S$101*'4007ES(Addr)'!$AF$101","v":0},{"$f":"+'4007ES(Addr)'!$S$101*'4007ES(Addr)'!$AG$101","v":0},{"$f":"+'4007ES(Addr)'!$T$101*'4007ES(Addr)'!$AF$101","v":0},{"$f":"+'4007ES(Addr)'!$T$101*'4007ES(Addr)'!$AG$101","v":0},{"$f":"+'4007ES(Addr)'!$U$101*'4007ES(Addr)'!$AF$101","v":0},{"$f":"+'4007ES(Addr)'!$U$101*'4007ES(Addr)'!$AG$101","v":0},{"$f":"+'4007ES(Addr)'!$V$101*'4007ES(Addr)'!$AF$101","v":0},{"$f":"+'4007ES(Addr)'!$V$101*'4007ES(Addr)'!$AG$101","v":0},{"$f":"+'4007ES(Addr)'!$W$101*'4007ES(Addr)'!$AF$101","v":0},{"$f":"+'4007ES(Addr)'!$W$101*'4007ES(Addr)'!$AG$101","v":0},{"$f":"+'4007ES(Addr)'!$X$101*'4007ES(Addr)'!$AF$101","v":0},{"$f":"+'4007ES(Addr)'!$X$101*'4007ES(Addr)'!$AG$101","v":0},{"$f":"+'4007ES(Addr)'!$Y$101*'4007ES(Addr)'!$AF$101","v":0},{"$f":"+'4007ES(Addr)'!$Y$101*'4007ES(Addr)'!$AG$101","v":0},{"$f":"+'4007ES(Addr)'!$Z$101*'4007ES(Addr)'!$AF$101","v":0},{"$f":"+'4007ES(Addr)'!$Z$101*'4007ES(Addr)'!$AG$101","v":0},{"$f":"+'4007ES(Addr)'!$AA$101*'4007ES(Addr)'!$AF$101","v":0},{"$f":"+'4007ES(Addr)'!$AA$101*'4007ES(Addr)'!$AG$101","v":0}]
[{"$f":"+'4007ES(Addr)'!I102","v":"4098-XAD"},{"$f":"+'4007ES(Addr)'!C102","v":"Addressable 4098-XAD"},{"$f":"+'4007ES(Addr)'!$K$102*'4007ES(Addr)'!$AF$102","v":0},{"$f":"+'4007ES(Addr)'!$K$102*'4007ES(Addr)'!$AG$102","v":0},{"$f":"+'4007ES(Addr)'!L$102*'4007ES(Addr)'!$AF$102","v":0},{"$f":"+'4007ES(Addr)'!L$102*'4007ES(Addr)'!$AG$102","v":0},{"$f":"+'4007ES(Addr)'!M$102*'4007ES(Addr)'!$AF$102","v":0},{"$f":"+'4007ES(Addr)'!M$102*'4007ES(Addr)'!$AG$102","v":0},{"$f":"+'4007ES(Addr)'!N$102*'4007ES(Addr)'!$AF$102","v":0},{"$f":"+'4007ES(Addr)'!N$102*'4007ES(Addr)'!$AG$102","v":0},{"$f":"+'4007ES(Addr)'!$O$102*'4007ES(Addr)'!$AF$102","v":0},{"$f":"+'4007ES(Addr)'!$O$102*'4007ES(Addr)'!$AG$102","v":0},{"$f":"+'4007ES(Addr)'!$P$102*'4007ES(Addr)'!$AF$102","v":0},{"$f":"+'4007ES(Addr)'!$P$102*'4007ES(Addr)'!$AG$102","v":0},{"$f":"+'4007ES(Addr)'!$Q$102*'4007ES(Addr)'!$AF$102","v":0},{"$f":"+'4007ES(Addr)'!$Q$102*'4007ES(Addr)'!$AG$102","v":0},{"$f":"+'4007ES(Addr)'!$R$102*'4007ES(Addr)'!$AF$102","v":0},{"$f":"+'4007ES(Addr)'!$R$102*'4007ES(Addr)'!$AG$102","v":0},{"$f":"+'4007ES(Addr)'!$P$102*'4007ES(Addr)'!$AF$102","v":0},{"$f":"+'4007ES(Addr)'!$P$102*'4007ES(Addr)'!$AG$102","v":0},{"$f":"+'4007ES(Addr)'!$Q$102*'4007ES(Addr)'!$AF$102","v":0},{"$f":"+'4007ES(Addr)'!$Q$102*'4007ES(Addr)'!$AG$102","v":0},{"$f":"+'4007ES(Addr)'!$R$102*'4007ES(Addr)'!$AF$102","v":0},{"$f":"+'4007ES(Addr)'!$R$102*'4007ES(Addr)'!$AG$102","v":0},{"$f":"+'4007ES(Addr)'!$S$102*'4007ES(Addr)'!$AF$102","v":0},{"$f":"+'4007ES(Addr)'!$S$102*'4007ES(Addr)'!$AG$102","v":0},{"$f":"+'4007ES(Addr)'!$T$102*'4007ES(Addr)'!$AF$102","v":0},{"$f":"+'4007ES(Addr)'!$T$102*'4007ES(Addr)'!$AG$102","v":0},{"$f":"+'4007ES(Addr)'!$U$102*'4007ES(Addr)'!$AF$102","v":0},{"$f":"+'4007ES(Addr)'!$U$102*'4007ES(Addr)'!$AG$102","v":0},{"$f":"+'4007ES(Addr)'!$V$102*'4007ES(Addr)'!$AF$102","v":0},{"$f":"+'4007ES(Addr)'!$V$102*'4007ES(Addr)'!$AG$102","v":0},{"$f":"+'4007ES(Addr)'!$W$102*'4007ES(Addr)'!$AF$102","v":0},{"$f":"+'4007ES(Addr)'!$W$102*'4007ES(Addr)'!$AG$102","v":0},{"$f":"+'4007ES(Addr)'!$X$102*'4007ES(Addr)'!$AF$102","v":0},{"$f":"+'4007ES(Addr)'!$X$102*'4007ES(Addr)'!$AG$102","v":0},{"$f":"+'4007ES(Addr)'!$Y$102*'4007ES(Addr)'!$AF$102","v":0},{"$f":"+'4007ES(Addr)'!$Y$102*'4007ES(Addr)'!$AG$102","v":0},{"$f":"+'4007ES(Addr)'!$Z$102*'4007ES(Addr)'!$AF$102","v":0},{"$f":"+'4007ES(Addr)'!$Z$102*'4007ES(Addr)'!$AG$102","v":0},{"$f":"+'4007ES(Addr)'!$AA$102*'4007ES(Addr)'!$AF$102","v":0},{"$f":"+'4007ES(Addr)'!$AA$102*'4007ES(Addr)'!$AG$102","v":0}]
[{"$f":"+'4007ES(Addr)'!I$115","v":"FV400"},{"$f":"+'4007ES(Addr)'!C$115","v":"FV400 Triple IR Flame Detector"},{"$f":"+'4007ES(Addr)'!$K$115*'4007ES(Addr)'!$AF$115","v":0},{"$f":"+'4007ES(Addr)'!$K$115*'4007ES(Addr)'!$AG$115","v":0},{"$f":"+'4007ES(Addr)'!L$115*'4007ES(Addr)'!$AF$115","v":0},{"$f":"+'4007ES(Addr)'!L$115*'4007ES(Addr)'!$AG$115","v":0},{"$f":"+'4007ES(Addr)'!M$115*'4007ES(Addr)'!$AF$115","v":0},{"$f":"+'4007ES(Addr)'!M$115*'4007ES(Addr)'!$AG$115","v":0},{"$f":"+'4007ES(Addr)'!N$115*'4007ES(Addr)'!$AF$115","v":0},{"$f":"+'4007ES(Addr)'!N$115*'4007ES(Addr)'!$AG$115","v":0},{"$f":"+'4007ES(Addr)'!$O$115*'4007ES(Addr)'!$AF$115","v":0},{"$f":"+'4007ES(Addr)'!$O$115*'4007ES(Addr)'!$AG$115","v":0},{"$f":"+'4007ES(Addr)'!$P$115*'4007ES(Addr)'!$AF$115","v":0},{"$f":"+'4007ES(Addr)'!$P$115*'4007ES(Addr)'!$AG$115","v":0},{"$f":"+'4007ES(Addr)'!$Q$115*'4007ES(Addr)'!$AF$115","v":0},{"$f":"+'4007ES(Addr)'!$Q$115*'4007ES(Addr)'!$AG$115","v":0},{"$f":"+'4007ES(Addr)'!$R$115*'4007ES(Addr)'!$AF$115","v":0},{"$f":"+'4007ES(Addr)'!$R$115*'4007ES(Addr)'!$AG$115","v":0},{"$f":"+'4007ES(Addr)'!$P$115*'4007ES(Addr)'!$AF$115","v":0},{"$f":"+'4007ES(Addr)'!$P$115*'4007ES(Addr)'!$AG$115","v":0},{"$f":"+'4007ES(Addr)'!$Q$115*'4007ES(Addr)'!$AF$115","v":0},{"$f":"+'4007ES(Addr)'!$Q$115*'4007ES(Addr)'!$AG$115","v":0},{"$f":"+'4007ES(Addr)'!$R$115*'4007ES(Addr)'!$AF$115","v":0},{"$f":"+'4007ES(Addr)'!$R$115*'4007ES(Addr)'!$AG$115","v":0},{"$f":"+'4007ES(Addr)'!$S$115*'4007ES(Addr)'!$AF$115","v":0},{"$f":"+'4007ES(Addr)'!$S$115*'4007ES(Addr)'!$AG$115","v":0},{"$f":"+'4007ES(Addr)'!$T$115*'4007ES(Addr)'!$AF$115","v":0},{"$f":"+'4007ES(Addr)'!$T$115*'4007ES(Addr)'!$AG$115","v":0},{"$f":"+'4007ES(Addr)'!$U$115*'4007ES(Addr)'!$AF$115","v":0},{"$f":"+'4007ES(Addr)'!$U$115*'4007ES(Addr)'!$AG$115","v":0},{"$f":"+'4007ES(Addr)'!$V$115*'4007ES(Addr)'!$AF$115","v":0},{"$f":"+'4007ES(Addr)'!$V$115*'4007ES(Addr)'!$AG$115","v":0},{"$f":"+'4007ES(Addr)'!$W$115*'4007ES(Addr)'!$AF$115","v":0},{"$f":"+'4007ES(Addr)'!$W$115*'4007ES(Addr)'!$AG$115","v":0},{"$f":"+'4007ES(Addr)'!$X$115*'4007ES(Addr)'!$AF$115","v":0},{"$f":"+'4007ES(Addr)'!$X$115*'4007ES(Addr)'!$AG$115","v":0},{"$f":"+'4007ES(Addr)'!$Y$115*'4007ES(Addr)'!$AF$115","v":0},{"$f":"+'4007ES(Addr)'!$Y$115*'4007ES(Addr)'!$AG$115","v":0},{"$f":"+'4007ES(Addr)'!$Z$115*'4007ES(Addr)'!$AF$115","v":0},{"$f":"+'4007ES(Addr)'!$Z$115*'4007ES(Addr)'!$AG$115","v":0},{"$f":"+'4007ES(Addr)'!$AA$115*'4007ES(Addr)'!$AF$115","v":0},{"$f":"+'4007ES(Addr)'!$AA$115*'4007ES(Addr)'!$AG$115","v":0}]
[{"$f":"+'4007ES(Addr)'!I$116","v":"ProReact"},{"$f":"+'4007ES(Addr)'!C$116","v":"ProReact Copper Linear Heat Detector(ProReact)"},{"$f":"+'4007ES(Addr)'!$K$116*'4007ES(Addr)'!$AF$116","v":0},{"$f":"+'4007ES(Addr)'!$K$116*'4007ES(Addr)'!$AG$116","v":0},{"$f":"+'4007ES(Addr)'!L$116*'4007ES(Addr)'!$AF$116","v":0},{"$f":"+'4007ES(Addr)'!L$116*'4007ES(Addr)'!$AG$116","v":0},{"$f":"+'4007ES(Addr)'!M$116*'4007ES(Addr)'!$AF$116","v":0},{"$f":"+'4007ES(Addr)'!M$116*'4007ES(Addr)'!$AG$116","v":0},{"$f":"+'4007ES(Addr)'!N$116*'4007ES(Addr)'!$AF$116","v":0},{"$f":"+'4007ES(Addr)'!N$116*'4007ES(Addr)'!$AG$116","v":0},{"$f":"+'4007ES(Addr)'!$O$116*'4007ES(Addr)'!$AF$116","v":0},{"$f":"+'4007ES(Addr)'!$O$116*'4007ES(Addr)'!$AG$116","v":0},{"$f":"+'4007ES(Addr)'!$P$116*'4007ES(Addr)'!$AF$116","v":0},{"$f":"+'4007ES(Addr)'!$P$116*'4007ES(Addr)'!$AG$116","v":0},{"$f":"+'4007ES(Addr)'!$Q$116*'4007ES(Addr)'!$AF$116","v":0},{"$f":"+'4007ES(Addr)'!$Q$116*'4007ES(Addr)'!$AG$116","v":0},{"$f":"+'4007ES(Addr)'!$R$116*'4007ES(Addr)'!$AF$116","v":0},{"$f":"+'4007ES(Addr)'!$R$116*'4007ES(Addr)'!$AG$116","v":0},{"$f":"+'4007ES(Addr)'!$P$116*'4007ES(Addr)'!$AF$116","v":0},{"$f":"+'4007ES(Addr)'!$P$116*'4007ES(Addr)'!$AG$116","v":0},{"$f":"+'4007ES(Addr)'!$Q$116*'4007ES(Addr)'!$AF$116","v":0},{"$f":"+'4007ES(Addr)'!$Q$116*'4007ES(Addr)'!$AG$116","v":0},{"$f":"+'4007ES(Addr)'!$R$116*'4007ES(Addr)'!$AF$116","v":0},{"$f":"+'4007ES(Addr)'!$R$116*'4007ES(Addr)'!$AG$116","v":0},{"$f":"+'4007ES(Addr)'!$S$116*'4007ES(Addr)'!$AF$116","v":0},{"$f":"+'4007ES(Addr)'!$S$116*'4007ES(Addr)'!$AG$116","v":0},{"$f":"+'4007ES(Addr)'!$T$116*'4007ES(Addr)'!$AF$116","v":0},{"$f":"+'4007ES(Addr)'!$T$116*'4007ES(Addr)'!$AG$116","v":0},{"$f":"+'4007ES(Addr)'!$U$116*'4007ES(Addr)'!$AF$116","v":0},{"$f":"+'4007ES(Addr)'!$U$116*'4007ES(Addr)'!$AG$116","v":0},{"$f":"+'4007ES(Addr)'!$V$116*'4007ES(Addr)'!$AF$116","v":0},{"$f":"+'4007ES(Addr)'!$V$116*'4007ES(Addr)'!$AG$116","v":0},{"$f":"+'4007ES(Addr)'!$W$116*'4007ES(Addr)'!$AF$116","v":0},{"$f":"+'4007ES(Addr)'!$W$116*'4007ES(Addr)'!$AG$116","v":0},{"$f":"+'4007ES(Addr)'!$X$116*'4007ES(Addr)'!$AF$116","v":0},{"$f":"+'4007ES(Addr)'!$X$116*'4007ES(Addr)'!$AG$116","v":0},{"$f":"+'4007ES(Addr)'!$Y$116*'4007ES(Addr)'!$AF$116","v":0},{"$f":"+'4007ES(Addr)'!$Y$116*'4007ES(Addr)'!$AG$116","v":0},{"$f":"+'4007ES(Addr)'!$Z$116*'4007ES(Addr)'!$AF$116","v":0},{"$f":"+'4007ES(Addr)'!$Z$116*'4007ES(Addr)'!$AG$116","v":0},{"$f":"+'4007ES(Addr)'!$AA$116*'4007ES(Addr)'!$AF$116","v":0},{"$f":"+'4007ES(Addr)'!$AA$116*'4007ES(Addr)'!$AG$116","v":0}]
[{"$f":"+'4007ES(Addr)'!I$117","v":"APSensing"},{"$f":"+'4007ES(Addr)'!C$117","v":"APSensing Fiber Optic Linear Heat Detector"},{"$f":"+'4007ES(Addr)'!$K$117*'4007ES(Addr)'!$AF$117","v":0},{"$f":"+'4007ES(Addr)'!$K$117*'4007ES(Addr)'!$AG$117","v":0},{"$f":"+'4007ES(Addr)'!L$117*'4007ES(Addr)'!$AF$117","v":0},{"$f":"+'4007ES(Addr)'!L$117*'4007ES(Addr)'!$AG$117","v":0},{"$f":"+'4007ES(Addr)'!M$117*'4007ES(Addr)'!$AF$117","v":0},{"$f":"+'4007ES(Addr)'!M$117*'4007ES(Addr)'!$AG$117","v":0},{"$f":"+'4007ES(Addr)'!N$117*'4007ES(Addr)'!$AF$117","v":0},{"$f":"+'4007ES(Addr)'!N$117*'4007ES(Addr)'!$AG$117","v":0},{"$f":"+'4007ES(Addr)'!$O$117*'4007ES(Addr)'!$AF$117","v":0},{"$f":"+'4007ES(Addr)'!$O$117*'4007ES(Addr)'!$AG$117","v":0},{"$f":"+'4007ES(Addr)'!$P$117*'4007ES(Addr)'!$AF$117","v":0},{"$f":"+'4007ES(Addr)'!$P$117*'4007ES(Addr)'!$AG$117","v":0},{"$f":"+'4007ES(Addr)'!$Q$117*'4007ES(Addr)'!$AF$117","v":0},{"$f":"+'4007ES(Addr)'!$Q$117*'4007ES(Addr)'!$AG$117","v":0},{"$f":"+'4007ES(Addr)'!$R$117*'4007ES(Addr)'!$AF$117","v":0},{"$f":"+'4007ES(Addr)'!$R$117*'4007ES(Addr)'!$AG$117","v":0},{"$f":"+'4007ES(Addr)'!$P$117*'4007ES(Addr)'!$AF$117","v":0},{"$f":"+'4007ES(Addr)'!$P$117*'4007ES(Addr)'!$AG$117","v":0},{"$f":"+'4007ES(Addr)'!$Q$117*'4007ES(Addr)'!$AF$117","v":0},{"$f":"+'4007ES(Addr)'!$Q$117*'4007ES(Addr)'!$AG$117","v":0},{"$f":"+'4007ES(Addr)'!$R$117*'4007ES(Addr)'!$AF$117","v":0},{"$f":"+'4007ES(Addr)'!$R$117*'4007ES(Addr)'!$AG$117","v":0},{"$f":"+'4007ES(Addr)'!$S$117*'4007ES(Addr)'!$AF$117","v":0},{"$f":"+'4007ES(Addr)'!$S$117*'4007ES(Addr)'!$AG$117","v":0},{"$f":"+'4007ES(Addr)'!$T$117*'4007ES(Addr)'!$AF$117","v":0},{"$f":"+'4007ES(Addr)'!$T$117*'4007ES(Addr)'!$AG$117","v":0},{"$f":"+'4007ES(Addr)'!$U$117*'4007ES(Addr)'!$AF$117","v":0},{"$f":"+'4007ES(Addr)'!$U$117*'4007ES(Addr)'!$AG$117","v":0},{"$f":"+'4007ES(Addr)'!$V$117*'4007ES(Addr)'!$AF$117","v":0},{"$f":"+'4007ES(Addr)'!$V$117*'4007ES(Addr)'!$AG$117","v":0},{"$f":"+'4007ES(Addr)'!$W$117*'4007ES(Addr)'!$AF$117","v":0},{"$f":"+'4007ES(Addr)'!$W$117*'4007ES(Addr)'!$AG$117","v":0},{"$f":"+'4007ES(Addr)'!$X$117*'4007ES(Addr)'!$AF$117","v":0},{"$f":"+'4007ES(Addr)'!$X$117*'4007ES(Addr)'!$AG$117","v":0},{"$f":"+'4007ES(Addr)'!$Y$117*'4007ES(Addr)'!$AF$117","v":0},{"$f":"+'4007ES(Addr)'!$Y$117*'4007ES(Addr)'!$AG$117","v":0},{"$f":"+'4007ES(Addr)'!$Z$117*'4007ES(Addr)'!$AF$117","v":0},{"$f":"+'4007ES(Addr)'!$Z$117*'4007ES(Addr)'!$AG$117","v":0},{"$f":"+'4007ES(Addr)'!$AA$117*'4007ES(Addr)'!$AF$117","v":0},{"$f":"+'4007ES(Addr)'!$AA$117*'4007ES(Addr)'!$AG$117","v":0}]
[{"$f":"+'4007ES(Addr)'!I$118","v":"FireRay1"},{"$f":"+'4007ES(Addr)'!C$118","v":"Fireray Beam Detector"},{"$f":"+'4007ES(Addr)'!$K$118*'4007ES(Addr)'!$AF$118","v":0},{"$f":"+'4007ES(Addr)'!$K$118*'4007ES(Addr)'!$AG$118","v":0},{"$f":"+'4007ES(Addr)'!L$118*'4007ES(Addr)'!$AF$118","v":0},{"$f":"+'4007ES(Addr)'!L$118*'4007ES(Addr)'!$AG$118","v":0},{"$f":"+'4007ES(Addr)'!M$118*'4007ES(Addr)'!$AF$118","v":0},{"$f":"+'4007ES(Addr)'!M$118*'4007ES(Addr)'!$AG$118","v":0},{"$f":"+'4007ES(Addr)'!N$118*'4007ES(Addr)'!$AF$118","v":0},{"$f":"+'4007ES(Addr)'!N$118*'4007ES(Addr)'!$AG$118","v":0},{"$f":"+'4007ES(Addr)'!$O$118*'4007ES(Addr)'!$AF$118","v":0},{"$f":"+'4007ES(Addr)'!$O$118*'4007ES(Addr)'!$AG$118","v":0},{"$f":"+'4007ES(Addr)'!$P$118*'4007ES(Addr)'!$AF$118","v":0},{"$f":"+'4007ES(Addr)'!$P$118*'4007ES(Addr)'!$AG$118","v":0},{"$f":"+'4007ES(Addr)'!$Q$118*'4007ES(Addr)'!$AF$118","v":0},{"$f":"+'4007ES(Addr)'!$Q$118*'4007ES(Addr)'!$AG$118","v":0},{"$f":"+'4007ES(Addr)'!$R$118*'4007ES(Addr)'!$AF$118","v":0},{"$f":"+'4007ES(Addr)'!$R$118*'4007ES(Addr)'!$AG$118","v":0},{"$f":"+'4007ES(Addr)'!$P$118*'4007ES(Addr)'!$AF$118","v":0},{"$f":"+'4007ES(Addr)'!$P$118*'4007ES(Addr)'!$AG$118","v":0},{"$f":"+'4007ES(Addr)'!$Q$118*'4007ES(Addr)'!$AF$118","v":0},{"$f":"+'4007ES(Addr)'!$Q$118*'4007ES(Addr)'!$AG$118","v":0},{"$f":"+'4007ES(Addr)'!$R$118*'4007ES(Addr)'!$AF$118","v":0},{"$f":"+'4007ES(Addr)'!$R$118*'4007ES(Addr)'!$AG$118","v":0},{"$f":"+'4007ES(Addr)'!$S$118*'4007ES(Addr)'!$AF$118","v":0},{"$f":"+'4007ES(Addr)'!$S$118*'4007ES(Addr)'!$AG$118","v":0},{"$f":"+'4007ES(Addr)'!$T$118*'4007ES(Addr)'!$AF$118","v":0},{"$f":"+'4007ES(Addr)'!$T$118*'4007ES(Addr)'!$AG$118","v":0},{"$f":"+'4007ES(Addr)'!$U$118*'4007ES(Addr)'!$AF$118","v":0},{"$f":"+'4007ES(Addr)'!$U$118*'4007ES(Addr)'!$AG$118","v":0},{"$f":"+'4007ES(Addr)'!$V$118*'4007ES(Addr)'!$AF$118","v":0},{"$f":"+'4007ES(Addr)'!$V$118*'4007ES(Addr)'!$AG$118","v":0},{"$f":"+'4007ES(Addr)'!$W$118*'4007ES(Addr)'!$AF$118","v":0},{"$f":"+'4007ES(Addr)'!$W$118*'4007ES(Addr)'!$AG$118","v":0},{"$f":"+'4007ES(Addr)'!$X$118*'4007ES(Addr)'!$AF$118","v":0},{"$f":"+'4007ES(Addr)'!$X$118*'4007ES(Addr)'!$AG$118","v":0},{"$f":"+'4007ES(Addr)'!$Y$118*'4007ES(Addr)'!$AF$118","v":0},{"$f":"+'4007ES(Addr)'!$Y$118*'4007ES(Addr)'!$AG$118","v":0},{"$f":"+'4007ES(Addr)'!$Z$118*'4007ES(Addr)'!$AF$118","v":0},{"$f":"+'4007ES(Addr)'!$Z$118*'4007ES(Addr)'!$AG$118","v":0},{"$f":"+'4007ES(Addr)'!$AA$118*'4007ES(Addr)'!$AF$118","v":0},{"$f":"+'4007ES(Addr)'!$AA$118*'4007ES(Addr)'!$AG$118","v":0}]
[{"$f":"+'4007ES(Addr)'!I$151","v":"4606-9205(BA)"},{"$f":"+'4007ES(Addr)'!C$151","v":"Remote Color Touchscreen LCD Annunciator-Beige - Max 6"},{"$f":"IF('4007ES(Addr)'!G151=1,1,0)*'4007ES(Addr)'!AF151","v":0},{"$f":"IF('4007ES(Addr)'!G151=1,1,0)*'4007ES(Addr)'!AG151","v":0},{"$f":"+'4007ES(Addr)'!L$151*'4007ES(Addr)'!$AF$151","v":0},{"$f":"+'4007ES(Addr)'!L$149*'4007ES(Addr)'!$AG$149","v":0},{"$f":"+'4007ES(Addr)'!M$151*'4007ES(Addr)'!$AF$151","v":0},{"$f":"+'4007ES(Addr)'!M$151*'4007ES(Addr)'!$AG$151","v":0},{"$f":"+'4007ES(Addr)'!O$151*'4007ES(Addr)'!$AF$151","v":0},{"$f":"+'4007ES(Addr)'!O$151*'4007ES(Addr)'!$AG$151","v":0},{"$f":"+'4007ES(Addr)'!$O$151*'4007ES(Addr)'!$AF$151","v":0},{"$f":"+'4007ES(Addr)'!$O$151*'4007ES(Addr)'!$AG$151","v":0},{"$f":"+'4007ES(Addr)'!$P$151*'4007ES(Addr)'!$AF$151","v":0},{"$f":"+'4007ES(Addr)'!$P$151*'4007ES(Addr)'!$AG$151","v":0},{"$f":"+'4007ES(Addr)'!$Q$151*'4007ES(Addr)'!$AF$151","v":0},{"$f":"+'4007ES(Addr)'!$Q$151*'4007ES(Addr)'!$AG$151","v":0},{"$f":"+'4007ES(Addr)'!$R$151*'4007ES(Addr)'!$AF$151","v":0},{"$f":"+'4007ES(Addr)'!$R$151*'4007ES(Addr)'!$AG$151","v":0},{"$f":"+'4007ES(Addr)'!$P$151*'4007ES(Addr)'!$AF$151","v":0},{"$f":"+'4007ES(Addr)'!$P$151*'4007ES(Addr)'!$AG$151","v":0},{"$f":"+'4007ES(Addr)'!$Q$151*'4007ES(Addr)'!$AF$151","v":0},{"$f":"+'4007ES(Addr)'!$Q$151*'4007ES(Addr)'!$AG$151","v":0},{"$f":"+'4007ES(Addr)'!$R$151*'4007ES(Addr)'!$AF$151","v":0},{"$f":"+'4007ES(Addr)'!$R$151*'4007ES(Addr)'!$AG$151","v":0},{"$f":"+'4007ES(Addr)'!$S$151*'4007ES(Addr)'!$AF$151","v":0},{"$f":"+'4007ES(Addr)'!$S$151*'4007ES(Addr)'!$AG$151","v":0},{"$f":"+'4007ES(Addr)'!$T$151*'4007ES(Addr)'!$AF$151","v":0},{"$f":"+'4007ES(Addr)'!$T$151*'4007ES(Addr)'!$AG$151","v":0},{"$f":"+'4007ES(Addr)'!$U$151*'4007ES(Addr)'!$AF$151","v":0},{"$f":"+'4007ES(Addr)'!$U$151*'4007ES(Addr)'!$AG$151","v":0},{"$f":"+'4007ES(Addr)'!$V$151*'4007ES(Addr)'!$AF$151","v":0},{"$f":"+'4007ES(Addr)'!$V$151*'4007ES(Addr)'!$AG$151","v":0},{"$f":"+'4007ES(Addr)'!$W$151*'4007ES(Addr)'!$AF$151","v":0},{"$f":"+'4007ES(Addr)'!$W$151*'4007ES(Addr)'!$AG$151","v":0},{"$f":"+'4007ES(Addr)'!$X$151*'4007ES(Addr)'!$AF$151","v":0},{"$f":"+'4007ES(Addr)'!$X$151*'4007ES(Addr)'!$AG$151","v":0},{"$f":"+'4007ES(Addr)'!$Y$151*'4007ES(Addr)'!$AF$151","v":0},{"$f":"+'4007ES(Addr)'!$Y$151*'4007ES(Addr)'!$AG$151","v":0},{"$f":"+'4007ES(Addr)'!$Z$151*'4007ES(Addr)'!$AF$151","v":0},{"$f":"+'4007ES(Addr)'!$Z$151*'4007ES(Addr)'!$AG$151","v":0},{"$f":"+'4007ES(Addr)'!$AA$151*'4007ES(Addr)'!$AF$151","v":0},{"$f":"+'4007ES(Addr)'!$AA$151*'4007ES(Addr)'!$AG$151","v":0}]
[{"$f":"+'4007ES(Addr)'!I149","v":"Local countdown"},{"$f":"+'4007ES(Addr)'!C149","v":"Localised Count down Timer"},{"$f":"+'4007ES(Addr)'!$K$149*'4007ES(Addr)'!$AF$149","v":0},{"$f":"+'4007ES(Addr)'!$K$149*'4007ES(Addr)'!$AG$149","v":0},{"$f":"+'4007ES(Addr)'!$L$149*'4007ES(Addr)'!$AF$149","v":0},{"$f":"+'4007ES(Addr)'!L$149*'4007ES(Addr)'!$AG$149","v":0},{"$f":"+'4007ES(Addr)'!$M$149*'4007ES(Addr)'!$AF$149","v":0},{"$f":"+'4007ES(Addr)'!$M$149*'4007ES(Addr)'!$AG$149","v":0},{"$f":"+'4007ES(Addr)'!$N$149*'4007ES(Addr)'!$AF$149","v":0},{"$f":"+'4007ES(Addr)'!$N$149*'4007ES(Addr)'!$AG$149","v":0},{"$f":"+'4007ES(Addr)'!$O$149*'4007ES(Addr)'!$AF$149","v":0},{"$f":"+'4007ES(Addr)'!$O$149*'4007ES(Addr)'!$AG$149","v":0},{"$f":"+'4007ES(Addr)'!$P$149*'4007ES(Addr)'!$AF$149","v":0},{"$f":"+'4007ES(Addr)'!$P$149*'4007ES(Addr)'!$AG$149","v":0},{"$f":"+'4007ES(Addr)'!$Q$149*'4007ES(Addr)'!$AF$149","v":0},{"$f":"+'4007ES(Addr)'!$Q$149*'4007ES(Addr)'!$AG$149","v":0},{"$f":"+'4007ES(Addr)'!$R$149*'4007ES(Addr)'!$AF$149","v":0},{"$f":"+'4007ES(Addr)'!$R$149*'4007ES(Addr)'!$AG$149","v":0},{"$f":"+'4007ES(Addr)'!$S$149*'4007ES(Addr)'!$AF$149","v":0},{"$f":"+'4007ES(Addr)'!$S$149*'4007ES(Addr)'!$AG$149","v":0},{"$f":"+'4007ES(Addr)'!$T$149*'4007ES(Addr)'!$AF$149","v":0},{"$f":"+'4007ES(Addr)'!$T$149*'4007ES(Addr)'!$AG$149","v":0},{"$f":"+'4007ES(Addr)'!$U$149*'4007ES(Addr)'!$AF$149","v":0},{"$f":"+'4007ES(Addr)'!$U$149*'4007ES(Addr)'!$AG$149","v":0},{"$f":"+'4007ES(Addr)'!$V$149*'4007ES(Addr)'!$AF$149","v":0},{"$f":"+'4007ES(Addr)'!$V$149*'4007ES(Addr)'!$AG$149","v":0},{"$f":"+'4007ES(Addr)'!$W$149*'4007ES(Addr)'!$AF$149","v":0},{"$f":"+'4007ES(Addr)'!$W$149*'4007ES(Addr)'!$AG$149","v":0},{"$f":"+'4007ES(Addr)'!$X$149*'4007ES(Addr)'!$AF$149","v":0},{"$f":"+'4007ES(Addr)'!$Y$149*'4007ES(Addr)'!$AG$149","v":0},{"$f":"+'4007ES(Addr)'!$Y$149*'4007ES(Addr)'!$AF$149","v":0},{"$f":"+'4007ES(Addr)'!$Z$149*'4007ES(Addr)'!$AG$149","v":0},{"$f":"+'4007ES(Addr)'!$Z$149*'4007ES(Addr)'!$AF$149","v":0},{"$f":"+'4007ES(Addr)'!$AA$149*'4007ES(Addr)'!$AG$149","v":0},{"$f":"+'4007ES(Addr)'!$AA$149*'4007ES(Addr)'!$AF$149","v":0},{"$f":"+'4007ES(Addr)'!$AB$149*'4007ES(Addr)'!$AG$149","v":0},{"$f":"+'4007ES(Addr)'!$AC$149*'4007ES(Addr)'!$AF$149","v":0},{"$f":"+'4007ES(Addr)'!$AC$149*'4007ES(Addr)'!$AG$149","v":0},{"$f":"+'4007ES(Addr)'!$AD$149*'4007ES(Addr)'!$AF$149","v":0},{"$f":"+'4007ES(Addr)'!$AD$149*'4007ES(Addr)'!$AG$149","v":0},{"$f":"+'4007ES(Addr)'!$AE$149*'4007ES(Addr)'!$AF$149","v":0},{"$f":"+'4007ES(Addr)'!$AE$149*'4007ES(Addr)'!$AG$149","v":0}]
[{"$f":"+'4007ES(Addr)'!I70","v":"Customised 3"},{"$f":"+'4007ES(Addr)'!C70","v":"Releasing Peripherals Input3B"},{"$f":"+'4007ES(Addr)'!$K$70*'4007ES(Addr)'!$AF$70","v":0},{"$f":"+'4007ES(Addr)'!$K$70*'4007ES(Addr)'!$AG$70","v":0},{"$f":"+'4007ES(Addr)'!$L$70*'4007ES(Addr)'!$AF$70","v":0},{"$f":"+'4007ES(Addr)'!L$70*'4007ES(Addr)'!$AG$70","v":0},{"$f":"+'4007ES(Addr)'!$M$70*'4007ES(Addr)'!$AF$70","v":0},{"$f":"+'4007ES(Addr)'!$M$70*'4007ES(Addr)'!$AG$70","v":0},{"$f":"+'4007ES(Addr)'!$N$70*'4007ES(Addr)'!$AF$70","v":0},{"$f":"+'4007ES(Addr)'!$N$70*'4007ES(Addr)'!$AG$70","v":0},{"$f":"+'4007ES(Addr)'!$O$70*'4007ES(Addr)'!$AF$70","v":0},{"$f":"+'4007ES(Addr)'!$O$70*'4007ES(Addr)'!$AG$70","v":0},{"$f":"+'4007ES(Addr)'!$P$70*'4007ES(Addr)'!$AF$70","v":0},{"$f":"+'4007ES(Addr)'!$P$70*'4007ES(Addr)'!$AG$70","v":0},{"$f":"+'4007ES(Addr)'!$Q$70*'4007ES(Addr)'!$AF$70","v":0},{"$f":"+'4007ES(Addr)'!$Q$70*'4007ES(Addr)'!$AG$70","v":0},{"$f":"+'4007ES(Addr)'!$R$70*'4007ES(Addr)'!$AF$70","v":0},{"$f":"+'4007ES(Addr)'!$R$70*'4007ES(Addr)'!$AG$70","v":0},{"$f":"+'4007ES(Addr)'!$S$70*'4007ES(Addr)'!$AF$70","v":0},{"$f":"+'4007ES(Addr)'!$S$70*'4007ES(Addr)'!$AG$70","v":0},{"$f":"+'4007ES(Addr)'!$T$70*'4007ES(Addr)'!$AF$70","v":0},{"$f":"+'4007ES(Addr)'!$T$70*'4007ES(Addr)'!$AG$70","v":0},{"$f":"+'4007ES(Addr)'!$U$70*'4007ES(Addr)'!$AF$70","v":0},{"$f":"+'4007ES(Addr)'!$U$70*'4007ES(Addr)'!$AG$70","v":0},{"$f":"+'4007ES(Addr)'!$V$70*'4007ES(Addr)'!$AF$70","v":0},{"$f":"+'4007ES(Addr)'!$V$70*'4007ES(Addr)'!$AG$70","v":0},{"$f":"+'4007ES(Addr)'!$W$70*'4007ES(Addr)'!$AF$70","v":0},{"$f":"+'4007ES(Addr)'!$W$70*'4007ES(Addr)'!$AG$70","v":0},{"$f":"+'4007ES(Addr)'!$X$70*'4007ES(Addr)'!$AF$70","v":0},{"$f":"+'4007ES(Addr)'!$Y$70*'4007ES(Addr)'!$AG$70","v":0},{"$f":"+'4007ES(Addr)'!$Y$70*'4007ES(Addr)'!$AF$70","v":0},{"$f":"+'4007ES(Addr)'!$Z$70*'4007ES(Addr)'!$AG$70","v":0},{"$f":"+'4007ES(Addr)'!$Z$70*'4007ES(Addr)'!$AF$70","v":0},{"$f":"+'4007ES(Addr)'!$AA$70*'4007ES(Addr)'!$AG$70","v":0},{"$f":"+'4007ES(Addr)'!$AA$70*'4007ES(Addr)'!$AF$70","v":0},{"$f":"+'4007ES(Addr)'!$AB$70*'4007ES(Addr)'!$AG$70","v":0},{"$f":"+'4007ES(Addr)'!$AC$70*'4007ES(Addr)'!$AF$70","v":0},{"$f":"+'4007ES(Addr)'!$AC$70*'4007ES(Addr)'!$AG$70","v":0},{"$f":"+'4007ES(Addr)'!$AD$70*'4007ES(Addr)'!$AF$70","v":0},{"$f":"+'4007ES(Addr)'!$AD$70*'4007ES(Addr)'!$AG$70","v":0},{"$f":"+'4007ES(Addr)'!$AE$70*'4007ES(Addr)'!$AF$70","v":0},{"$f":"+'4007ES(Addr)'!$AE$70*'4007ES(Addr)'!$AG$70","v":0}]
[{"$f":"+'4007ES(Addr)'!I71","v":"Customised 4"},{"$f":"+'4007ES(Addr)'!C71","v":"Releasing Peripherals Input4B"},{"$f":"+'4007ES(Addr)'!$K$71*'4007ES(Addr)'!$AF$71","v":0},{"$f":"+'4007ES(Addr)'!$K$71*'4007ES(Addr)'!$AG$71","v":0},{"$f":"+'4007ES(Addr)'!$L$71*'4007ES(Addr)'!$AF$71","v":0},{"$f":"+'4007ES(Addr)'!L$71*'4007ES(Addr)'!$AG$71","v":0},{"$f":"+'4007ES(Addr)'!$M$71*'4007ES(Addr)'!$AF$71","v":0},{"$f":"+'4007ES(Addr)'!$M$71*'4007ES(Addr)'!$AG$71","v":0},{"$f":"+'4007ES(Addr)'!$N$71*'4007ES(Addr)'!$AF$71","v":0},{"$f":"+'4007ES(Addr)'!$N$71*'4007ES(Addr)'!$AG$71","v":0},{"$f":"+'4007ES(Addr)'!$O$71*'4007ES(Addr)'!$AF$71","v":0},{"$f":"+'4007ES(Addr)'!$O$71*'4007ES(Addr)'!$AG$71","v":0},{"$f":"+'4007ES(Addr)'!$P$71*'4007ES(Addr)'!$AF$71","v":0},{"$f":"+'4007ES(Addr)'!$P$71*'4007ES(Addr)'!$AG$71","v":0},{"$f":"+'4007ES(Addr)'!$Q$71*'4007ES(Addr)'!$AF$71","v":0},{"$f":"+'4007ES(Addr)'!$Q$71*'4007ES(Addr)'!$AG$71","v":0},{"$f":"+'4007ES(Addr)'!$R$71*'4007ES(Addr)'!$AF$71","v":0},{"$f":"+'4007ES(Addr)'!$R$71*'4007ES(Addr)'!$AG$71","v":0},{"$f":"+'4007ES(Addr)'!$S$71*'4007ES(Addr)'!$AF$71","v":0},{"$f":"+'4007ES(Addr)'!$S$71*'4007ES(Addr)'!$AG$71","v":0},{"$f":"+'4007ES(Addr)'!$T$71*'4007ES(Addr)'!$AF$71","v":0},{"$f":"+'4007ES(Addr)'!$T$71*'4007ES(Addr)'!$AG$71","v":0},{"$f":"+'4007ES(Addr)'!$U$71*'4007ES(Addr)'!$AF$71","v":0},{"$f":"+'4007ES(Addr)'!$U$71*'4007ES(Addr)'!$AG$71","v":0},{"$f":"+'4007ES(Addr)'!$V$71*'4007ES(Addr)'!$AF$71","v":0},{"$f":"+'4007ES(Addr)'!$V$71*'4007ES(Addr)'!$AG$71","v":0},{"$f":"+'4007ES(Addr)'!$W$71*'4007ES(Addr)'!$AF$71","v":0},{"$f":"+'4007ES(Addr)'!$W$71*'4007ES(Addr)'!$AG$71","v":0},{"$f":"+'4007ES(Addr)'!$X$71*'4007ES(Addr)'!$AF$71","v":0},{"$f":"+'4007ES(Addr)'!$Y$71*'4007ES(Addr)'!$AG$71","v":0},{"$f":"+'4007ES(Addr)'!$Y$71*'4007ES(Addr)'!$AF$71","v":0},{"$f":"+'4007ES(Addr)'!$Z$71*'4007ES(Addr)'!$AG$71","v":0},{"$f":"+'4007ES(Addr)'!$Z$71*'4007ES(Addr)'!$AF$71","v":0},{"$f":"+'4007ES(Addr)'!$AA$71*'4007ES(Addr)'!$AG$71","v":0},{"$f":"+'4007ES(Addr)'!$AA$71*'4007ES(Addr)'!$AF$71","v":0},{"$f":"+'4007ES(Addr)'!$AB$71*'4007ES(Addr)'!$AG$71","v":0},{"$f":"+'4007ES(Addr)'!$AC$71*'4007ES(Addr)'!$AF$71","v":0},{"$f":"+'4007ES(Addr)'!$AC$71*'4007ES(Addr)'!$AG$71","v":0},{"$f":"+'4007ES(Addr)'!$AD$71*'4007ES(Addr)'!$AF$71","v":0},{"$f":"+'4007ES(Addr)'!$AD$71*'4007ES(Addr)'!$AG$71","v":0},{"$f":"+'4007ES(Addr)'!$AE$71*'4007ES(Addr)'!$AF$71","v":0},{"$f":"+'4007ES(Addr)'!$AE$71*'4007ES(Addr)'!$AG$71","v":0}]
[{"$f":"+'4007ES(Addr)'!I72","v":"Customised 5"},{"$f":"+'4007ES(Addr)'!C72","v":"Releasing Peripherals Input5B"},{"$f":"+'4007ES(Addr)'!$K$72*'4007ES(Addr)'!$AF$72","v":0},{"$f":"+'4007ES(Addr)'!$K$72*'4007ES(Addr)'!$AG$72","v":0},{"$f":"+'4007ES(Addr)'!$L$72*'4007ES(Addr)'!$AF$72","v":0},{"$f":"+'4007ES(Addr)'!L$72*'4007ES(Addr)'!$AG$72","v":0},{"$f":"+'4007ES(Addr)'!$M$72*'4007ES(Addr)'!$AF$72","v":0},{"$f":"+'4007ES(Addr)'!$M$72*'4007ES(Addr)'!$AG$72","v":0},{"$f":"+'4007ES(Addr)'!$N$72*'4007ES(Addr)'!$AF$72","v":0},{"$f":"+'4007ES(Addr)'!$N$72*'4007ES(Addr)'!$AG$72","v":0},{"$f":"+'4007ES(Addr)'!$O$72*'4007ES(Addr)'!$AF$72","v":0},{"$f":"+'4007ES(Addr)'!$O$72*'4007ES(Addr)'!$AG$72","v":0},{"$f":"+'4007ES(Addr)'!$P$72*'4007ES(Addr)'!$AF$72","v":0},{"$f":"+'4007ES(Addr)'!$P$72*'4007ES(Addr)'!$AG$72","v":0},{"$f":"+'4007ES(Addr)'!$Q$72*'4007ES(Addr)'!$AF$72","v":0},{"$f":"+'4007ES(Addr)'!$Q$72*'4007ES(Addr)'!$AG$72","v":0},{"$f":"+'4007ES(Addr)'!$R$72*'4007ES(Addr)'!$AF$72","v":0},{"$f":"+'4007ES(Addr)'!$R$72*'4007ES(Addr)'!$AG$72","v":0},{"$f":"+'4007ES(Addr)'!$S$72*'4007ES(Addr)'!$AF$72","v":0},{"$f":"+'4007ES(Addr)'!$S$72*'4007ES(Addr)'!$AG$72","v":0},{"$f":"+'4007ES(Addr)'!$T$72*'4007ES(Addr)'!$AF$72","v":0},{"$f":"+'4007ES(Addr)'!$T$72*'4007ES(Addr)'!$AG$72","v":0},{"$f":"+'4007ES(Addr)'!$U$72*'4007ES(Addr)'!$AF$72","v":0},{"$f":"+'4007ES(Addr)'!$U$72*'4007ES(Addr)'!$AG$72","v":0},{"$f":"+'4007ES(Addr)'!$V$72*'4007ES(Addr)'!$AF$72","v":0},{"$f":"+'4007ES(Addr)'!$V$72*'4007ES(Addr)'!$AG$72","v":0},{"$f":"+'4007ES(Addr)'!$W$72*'4007ES(Addr)'!$AF$72","v":0},{"$f":"+'4007ES(Addr)'!$W$72*'4007ES(Addr)'!$AG$72","v":0},{"$f":"+'4007ES(Addr)'!$X$72*'4007ES(Addr)'!$AF$72","v":0},{"$f":"+'4007ES(Addr)'!$Y$72*'4007ES(Addr)'!$AG$72","v":0},{"$f":"+'4007ES(Addr)'!$Y$72*'4007ES(Addr)'!$AF$72","v":0},{"$f":"+'4007ES(Addr)'!$Z$72*'4007ES(Addr)'!$AG$72","v":0},{"$f":"+'4007ES(Addr)'!$Z$72*'4007ES(Addr)'!$AF$72","v":0},{"$f":"+'4007ES(Addr)'!$AA$72*'4007ES(Addr)'!$AG$72","v":0},{"$f":"+'4007ES(Addr)'!$AA$72*'4007ES(Addr)'!$AF$72","v":0},{"$f":"+'4007ES(Addr)'!$AB$72*'4007ES(Addr)'!$AG$72","v":0},{"$f":"+'4007ES(Addr)'!$AC$72*'4007ES(Addr)'!$AF$72","v":0},{"$f":"+'4007ES(Addr)'!$AC$72*'4007ES(Addr)'!$AG$72","v":0},{"$f":"+'4007ES(Addr)'!$AD$72*'4007ES(Addr)'!$AF$72","v":0},{"$f":"+'4007ES(Addr)'!$AD$72*'4007ES(Addr)'!$AG$72","v":0},{"$f":"+'4007ES(Addr)'!$AE$72*'4007ES(Addr)'!$AF$72","v":0},{"$f":"+'4007ES(Addr)'!$AE$72*'4007ES(Addr)'!$AG$72","v":0}]
[{"$f":"+'4007ES(Addr)'!I73","v":"Customised 6"},{"$f":"+'4007ES(Addr)'!C73","v":"Releasing Peripherals Input6B"},{"$f":"+'4007ES(Addr)'!$K$73*'4007ES(Addr)'!$AF$73","v":0},{"$f":"+'4007ES(Addr)'!$K$73*'4007ES(Addr)'!$AG$73","v":0},{"$f":"+'4007ES(Addr)'!$L$73*'4007ES(Addr)'!$AF$73","v":0},{"$f":"+'4007ES(Addr)'!L$73*'4007ES(Addr)'!$AG$73","v":0},{"$f":"+'4007ES(Addr)'!$M$73*'4007ES(Addr)'!$AF$73","v":0},{"$f":"+'4007ES(Addr)'!$M$73*'4007ES(Addr)'!$AG$73","v":0},{"$f":"+'4007ES(Addr)'!$N$73*'4007ES(Addr)'!$AF$73","v":0},{"$f":"+'4007ES(Addr)'!$N$73*'4007ES(Addr)'!$AG$73","v":0},{"$f":"+'4007ES(Addr)'!$O$73*'4007ES(Addr)'!$AF$73","v":0},{"$f":"+'4007ES(Addr)'!$O$73*'4007ES(Addr)'!$AG$73","v":0},{"$f":"+'4007ES(Addr)'!$P$73*'4007ES(Addr)'!$AF$73","v":0},{"$f":"+'4007ES(Addr)'!$P$73*'4007ES(Addr)'!$AG$73","v":0},{"$f":"+'4007ES(Addr)'!$Q$73*'4007ES(Addr)'!$AF$73","v":0},{"$f":"+'4007ES(Addr)'!$Q$73*'4007ES(Addr)'!$AG$73","v":0},{"$f":"+'4007ES(Addr)'!$R$73*'4007ES(Addr)'!$AF$73","v":0},{"$f":"+'4007ES(Addr)'!$R$73*'4007ES(Addr)'!$AG$73","v":0},{"$f":"+'4007ES(Addr)'!$S$73*'4007ES(Addr)'!$AF$73","v":0},{"$f":"+'4007ES(Addr)'!$S$73*'4007ES(Addr)'!$AG$73","v":0},{"$f":"+'4007ES(Addr)'!$T$73*'4007ES(Addr)'!$AF$73","v":0},{"$f":"+'4007ES(Addr)'!$T$73*'4007ES(Addr)'!$AG$73","v":0},{"$f":"+'4007ES(Addr)'!$U$73*'4007ES(Addr)'!$AF$73","v":0},{"$f":"+'4007ES(Addr)'!$U$73*'4007ES(Addr)'!$AG$73","v":0},{"$f":"+'4007ES(Addr)'!$V$73*'4007ES(Addr)'!$AF$73","v":0},{"$f":"+'4007ES(Addr)'!$V$73*'4007ES(Addr)'!$AG$73","v":0},{"$f":"+'4007ES(Addr)'!$W$73*'4007ES(Addr)'!$AF$73","v":0},{"$f":"+'4007ES(Addr)'!$W$73*'4007ES(Addr)'!$AG$73","v":0},{"$f":"+'4007ES(Addr)'!$X$73*'4007ES(Addr)'!$AF$73","v":0},{"$f":"+'4007ES(Addr)'!$Y$73*'4007ES(Addr)'!$AG$73","v":0},{"$f":"+'4007ES(Addr)'!$Y$73*'4007ES(Addr)'!$AF$73","v":0},{"$f":"+'4007ES(Addr)'!$Z$73*'4007ES(Addr)'!$AG$73","v":0},{"$f":"+'4007ES(Addr)'!$Z$73*'4007ES(Addr)'!$AF$73","v":0},{"$f":"+'4007ES(Addr)'!$AA$73*'4007ES(Addr)'!$AG$73","v":0},{"$f":"+'4007ES(Addr)'!$AA$73*'4007ES(Addr)'!$AF$73","v":0},{"$f":"+'4007ES(Addr)'!$AB$73*'4007ES(Addr)'!$AG$73","v":0},{"$f":"+'4007ES(Addr)'!$AC$73*'4007ES(Addr)'!$AF$73","v":0},{"$f":"+'4007ES(Addr)'!$AC$73*'4007ES(Addr)'!$AG$73","v":0},{"$f":"+'4007ES(Addr)'!$AD$73*'4007ES(Addr)'!$AF$73","v":0},{"$f":"+'4007ES(Addr)'!$AD$73*'4007ES(Addr)'!$AG$73","v":0},{"$f":"+'4007ES(Addr)'!$AE$73*'4007ES(Addr)'!$AF$73","v":0},{"$f":"+'4007ES(Addr)'!$AE$73*'4007ES(Addr)'!$AG$73","v":0}]
[{"$f":"+'4007ES(Addr)'!I119","v":"Customised 1"},{"$f":"+'4007ES(Addr)'!C119","v":"Special Device Input1B"},{"$f":"+'4007ES(Addr)'!$K$119*'4007ES(Addr)'!$AF$119","v":0},{"$f":"+'4007ES(Addr)'!$K$119*'4007ES(Addr)'!$AG$119","v":0},{"$f":"+'4007ES(Addr)'!$L$119*'4007ES(Addr)'!$AF$119","v":0},{"$f":"+'4007ES(Addr)'!L$119*'4007ES(Addr)'!$AG$119","v":0},{"$f":"+'4007ES(Addr)'!$M$119*'4007ES(Addr)'!$AF$119","v":0},{"$f":"+'4007ES(Addr)'!$M$119*'4007ES(Addr)'!$AG$119","v":0},{"$f":"+'4007ES(Addr)'!$N$119*'4007ES(Addr)'!$AF$119","v":0},{"$f":"+'4007ES(Addr)'!$N$119*'4007ES(Addr)'!$AG$119","v":0},{"$f":"+'4007ES(Addr)'!$O$119*'4007ES(Addr)'!$AF$119","v":0},{"$f":"+'4007ES(Addr)'!$O$119*'4007ES(Addr)'!$AG$119","v":0},{"$f":"+'4007ES(Addr)'!$P$119*'4007ES(Addr)'!$AF$119","v":0},{"$f":"+'4007ES(Addr)'!$P$119*'4007ES(Addr)'!$AG$119","v":0},{"$f":"+'4007ES(Addr)'!$Q$119*'4007ES(Addr)'!$AF$119","v":0},{"$f":"+'4007ES(Addr)'!$Q$119*'4007ES(Addr)'!$AG$119","v":0},{"$f":"+'4007ES(Addr)'!$R$119*'4007ES(Addr)'!$AF$119","v":0},{"$f":"+'4007ES(Addr)'!$R$119*'4007ES(Addr)'!$AG$119","v":0},{"$f":"+'4007ES(Addr)'!$S$119*'4007ES(Addr)'!$AF$119","v":0},{"$f":"+'4007ES(Addr)'!$S$119*'4007ES(Addr)'!$AG$119","v":0},{"$f":"+'4007ES(Addr)'!$T$119*'4007ES(Addr)'!$AF$119","v":0},{"$f":"+'4007ES(Addr)'!$T$119*'4007ES(Addr)'!$AG$119","v":0},{"$f":"+'4007ES(Addr)'!$U$119*'4007ES(Addr)'!$AF$119","v":0},{"$f":"+'4007ES(Addr)'!$U$119*'4007ES(Addr)'!$AG$119","v":0},{"$f":"+'4007ES(Addr)'!$V$119*'4007ES(Addr)'!$AF$119","v":0},{"$f":"+'4007ES(Addr)'!$V$119*'4007ES(Addr)'!$AG$119","v":0},{"$f":"+'4007ES(Addr)'!$W$119*'4007ES(Addr)'!$AF$119","v":0},{"$f":"+'4007ES(Addr)'!$W$119*'4007ES(Addr)'!$AG$119","v":0},{"$f":"+'4007ES(Addr)'!$X$119*'4007ES(Addr)'!$AF$119","v":0},{"$f":"+'4007ES(Addr)'!$Y$119*'4007ES(Addr)'!$AG$119","v":0},{"$f":"+'4007ES(Addr)'!$Y$119*'4007ES(Addr)'!$AF$119","v":0},{"$f":"+'4007ES(Addr)'!$Z$119*'4007ES(Addr)'!$AG$119","v":0},{"$f":"+'4007ES(Addr)'!$Z$119*'4007ES(Addr)'!$AF$119","v":0},{"$f":"+'4007ES(Addr)'!$AA$119*'4007ES(Addr)'!$AG$119","v":0},{"$f":"+'4007ES(Addr)'!$AA$119*'4007ES(Addr)'!$AF$119","v":0},{"$f":"+'4007ES(Addr)'!$AB$119*'4007ES(Addr)'!$AG$119","v":0},{"$f":"+'4007ES(Addr)'!$AC$119*'4007ES(Addr)'!$AF$119","v":0},{"$f":"+'4007ES(Addr)'!$AC$119*'4007ES(Addr)'!$AG$119","v":0},{"$f":"+'4007ES(Addr)'!$AD$119*'4007ES(Addr)'!$AF$119","v":0},{"$f":"+'4007ES(Addr)'!$AD$119*'4007ES(Addr)'!$AG$119","v":0},{"$f":"+'4007ES(Addr)'!$AE$119*'4007ES(Addr)'!$AF$119","v":0},{"$f":"+'4007ES(Addr)'!$AE$119*'4007ES(Addr)'!$AG$119","v":0}]
[{"$f":"+'4007ES(Addr)'!I120","v":"Customised 2"},{"$f":"+'4007ES(Addr)'!C120","v":"Special Device Input2B"},{"$f":"+'4007ES(Addr)'!$K$120*'4007ES(Addr)'!$AF$120","v":0},{"$f":"+'4007ES(Addr)'!$K$120*'4007ES(Addr)'!$AG$120","v":0},{"$f":"+'4007ES(Addr)'!$L$120*'4007ES(Addr)'!$AF$120","v":0},{"$f":"+'4007ES(Addr)'!L$120*'4007ES(Addr)'!$AG$120","v":0},{"$f":"+'4007ES(Addr)'!$M$120*'4007ES(Addr)'!$AF$120","v":0},{"$f":"+'4007ES(Addr)'!$M$120*'4007ES(Addr)'!$AG$120","v":0},{"$f":"+'4007ES(Addr)'!$N$120*'4007ES(Addr)'!$AF$120","v":0},{"$f":"+'4007ES(Addr)'!$N$120*'4007ES(Addr)'!$AG$120","v":0},{"$f":"+'4007ES(Addr)'!$O$120*'4007ES(Addr)'!$AF$120","v":0},{"$f":"+'4007ES(Addr)'!$O$120*'4007ES(Addr)'!$AG$120","v":0},{"$f":"+'4007ES(Addr)'!$P$120*'4007ES(Addr)'!$AF$120","v":0},{"$f":"+'4007ES(Addr)'!$P$120*'4007ES(Addr)'!$AG$120","v":0},{"$f":"+'4007ES(Addr)'!$Q$120*'4007ES(Addr)'!$AF$120","v":0},{"$f":"+'4007ES(Addr)'!$Q$120*'4007ES(Addr)'!$AG$120","v":0},{"$f":"+'4007ES(Addr)'!$R$120*'4007ES(Addr)'!$AF$120","v":0},{"$f":"+'4007ES(Addr)'!$R$120*'4007ES(Addr)'!$AG$120","v":0},{"$f":"+'4007ES(Addr)'!$S$120*'4007ES(Addr)'!$AF$120","v":0},{"$f":"+'4007ES(Addr)'!$S$120*'4007ES(Addr)'!$AG$120","v":0},{"$f":"+'4007ES(Addr)'!$T$120*'4007ES(Addr)'!$AF$120","v":0},{"$f":"+'4007ES(Addr)'!$T$120*'4007ES(Addr)'!$AG$120","v":0},{"$f":"+'4007ES(Addr)'!$U$120*'4007ES(Addr)'!$AF$120","v":0},{"$f":"+'4007ES(Addr)'!$U$120*'4007ES(Addr)'!$AG$120","v":0},{"$f":"+'4007ES(Addr)'!$V$120*'4007ES(Addr)'!$AF$120","v":0},{"$f":"+'4007ES(Addr)'!$V$120*'4007ES(Addr)'!$AG$120","v":0},{"$f":"+'4007ES(Addr)'!$W$120*'4007ES(Addr)'!$AF$120","v":0},{"$f":"+'4007ES(Addr)'!$W$120*'4007ES(Addr)'!$AG$120","v":0},{"$f":"+'4007ES(Addr)'!$X$120*'4007ES(Addr)'!$AF$120","v":0},{"$f":"+'4007ES(Addr)'!$Y$120*'4007ES(Addr)'!$AG$120","v":0},{"$f":"+'4007ES(Addr)'!$Y$120*'4007ES(Addr)'!$AF$120","v":0},{"$f":"+'4007ES(Addr)'!$Z$120*'4007ES(Addr)'!$AG$120","v":0},{"$f":"+'4007ES(Addr)'!$Z$120*'4007ES(Addr)'!$AF$120","v":0},{"$f":"+'4007ES(Addr)'!$AA$120*'4007ES(Addr)'!$AG$120","v":0},{"$f":"+'4007ES(Addr)'!$AA$120*'4007ES(Addr)'!$AF$120","v":0},{"$f":"+'4007ES(Addr)'!$AB$120*'4007ES(Addr)'!$AG$120","v":0},{"$f":"+'4007ES(Addr)'!$AC$120*'4007ES(Addr)'!$AF$120","v":0},{"$f":"+'4007ES(Addr)'!$AC$120*'4007ES(Addr)'!$AG$120","v":0},{"$f":"+'4007ES(Addr)'!$AD$120*'4007ES(Addr)'!$AF$120","v":0},{"$f":"+'4007ES(Addr)'!$AD$120*'4007ES(Addr)'!$AG$120","v":0},{"$f":"+'4007ES(Addr)'!$AE$120*'4007ES(Addr)'!$AF$120","v":0},{"$f":"+'4007ES(Addr)'!$AE$120*'4007ES(Addr)'!$AG$120","v":0}]
[{"$f":"+'4007ES(Addr)'!I121","v":"Customised 3"},{"$f":"+'4007ES(Addr)'!C121","v":"Special Device Input3B"},{"$f":"+'4007ES(Addr)'!$K$121*'4007ES(Addr)'!$AF$121","v":0},{"$f":"+'4007ES(Addr)'!$K$121*'4007ES(Addr)'!$AG$121","v":0},{"$f":"+'4007ES(Addr)'!$L$121*'4007ES(Addr)'!$AF$121","v":0},{"$f":"+'4007ES(Addr)'!L$121*'4007ES(Addr)'!$AG$121","v":0},{"$f":"+'4007ES(Addr)'!$M$121*'4007ES(Addr)'!$AF$121","v":0},{"$f":"+'4007ES(Addr)'!$M$121*'4007ES(Addr)'!$AG$121","v":0},{"$f":"+'4007ES(Addr)'!$N$121*'4007ES(Addr)'!$AF$121","v":0},{"$f":"+'4007ES(Addr)'!$N$121*'4007ES(Addr)'!$AG$121","v":0},{"$f":"+'4007ES(Addr)'!$O$121*'4007ES(Addr)'!$AF$121","v":0},{"$f":"+'4007ES(Addr)'!$O$121*'4007ES(Addr)'!$AG$121","v":0},{"$f":"+'4007ES(Addr)'!$P$121*'4007ES(Addr)'!$AF$121","v":0},{"$f":"+'4007ES(Addr)'!$P$121*'4007ES(Addr)'!$AG$121","v":0},{"$f":"+'4007ES(Addr)'!$Q$121*'4007ES(Addr)'!$AF$121","v":0},{"$f":"+'4007ES(Addr)'!$Q$121*'4007ES(Addr)'!$AG$121","v":0},{"$f":"+'4007ES(Addr)'!$R$121*'4007ES(Addr)'!$AF$121","v":0},{"$f":"+'4007ES(Addr)'!$R$121*'4007ES(Addr)'!$AG$121","v":0},{"$f":"+'4007ES(Addr)'!$S$121*'4007ES(Addr)'!$AF$121","v":0},{"$f":"+'4007ES(Addr)'!$S$121*'4007ES(Addr)'!$AG$121","v":0},{"$f":"+'4007ES(Addr)'!$T$121*'4007ES(Addr)'!$AF$121","v":0},{"$f":"+'4007ES(Addr)'!$T$121*'4007ES(Addr)'!$AG$121","v":0},{"$f":"+'4007ES(Addr)'!$U$121*'4007ES(Addr)'!$AF$121","v":0},{"$f":"+'4007ES(Addr)'!$U$121*'4007ES(Addr)'!$AG$121","v":0},{"$f":"+'4007ES(Addr)'!$V$121*'4007ES(Addr)'!$AF$121","v":0},{"$f":"+'4007ES(Addr)'!$V$121*'4007ES(Addr)'!$AG$121","v":0},{"$f":"+'4007ES(Addr)'!$W$121*'4007ES(Addr)'!$AF$121","v":0},{"$f":"+'4007ES(Addr)'!$W$121*'4007ES(Addr)'!$AG$121","v":0},{"$f":"+'4007ES(Addr)'!$X$121*'4007ES(Addr)'!$AF$121","v":0},{"$f":"+'4007ES(Addr)'!$Y$121*'4007ES(Addr)'!$AG$121","v":0},{"$f":"+'4007ES(Addr)'!$Y$121*'4007ES(Addr)'!$AF$121","v":0},{"$f":"+'4007ES(Addr)'!$Z$121*'4007ES(Addr)'!$AG$121","v":0},{"$f":"+'4007ES(Addr)'!$Z$121*'4007ES(Addr)'!$AF$121","v":0},{"$f":"+'4007ES(Addr)'!$AA$121*'4007ES(Addr)'!$AG$121","v":0},{"$f":"+'4007ES(Addr)'!$AA$121*'4007ES(Addr)'!$AF$121","v":0},{"$f":"+'4007ES(Addr)'!$AB$121*'4007ES(Addr)'!$AG$121","v":0},{"$f":"+'4007ES(Addr)'!$AC$121*'4007ES(Addr)'!$AF$121","v":0},{"$f":"+'4007ES(Addr)'!$AC$121*'4007ES(Addr)'!$AG$121","v":0},{"$f":"+'4007ES(Addr)'!$AD$121*'4007ES(Addr)'!$AF$121","v":0},{"$f":"+'4007ES(Addr)'!$AD$121*'4007ES(Addr)'!$AG$121","v":0},{"$f":"+'4007ES(Addr)'!$AE$121*'4007ES(Addr)'!$AF$121","v":0},{"$f":"+'4007ES(Addr)'!$AE$121*'4007ES(Addr)'!$AG$121","v":0}]
[{"$f":"+'4007ES(Addr)'!I122","v":"Customised 4"},{"$f":"+'4007ES(Addr)'!C122","v":"Special Device Input4B"},{"$f":"+'4007ES(Addr)'!$K$122*'4007ES(Addr)'!$AF$122","v":0},{"$f":"+'4007ES(Addr)'!$K$122*'4007ES(Addr)'!$AG$122","v":0},{"$f":"+'4007ES(Addr)'!$L$122*'4007ES(Addr)'!$AF$122","v":0},{"$f":"+'4007ES(Addr)'!L$122*'4007ES(Addr)'!$AG$122","v":0},{"$f":"+'4007ES(Addr)'!$M$122*'4007ES(Addr)'!$AF$122","v":0},{"$f":"+'4007ES(Addr)'!$M$122*'4007ES(Addr)'!$AG$122","v":0},{"$f":"+'4007ES(Addr)'!$N$122*'4007ES(Addr)'!$AF$122","v":0},{"$f":"+'4007ES(Addr)'!$N$122*'4007ES(Addr)'!$AG$122","v":0},{"$f":"+'4007ES(Addr)'!$O$122*'4007ES(Addr)'!$AF$122","v":0},{"$f":"+'4007ES(Addr)'!$O$122*'4007ES(Addr)'!$AG$122","v":0},{"$f":"+'4007ES(Addr)'!$P$122*'4007ES(Addr)'!$AF$122","v":0},{"$f":"+'4007ES(Addr)'!$P$122*'4007ES(Addr)'!$AG$122","v":0},{"$f":"+'4007ES(Addr)'!$Q$122*'4007ES(Addr)'!$AF$122","v":0},{"$f":"+'4007ES(Addr)'!$Q$122*'4007ES(Addr)'!$AG$122","v":0},{"$f":"+'4007ES(Addr)'!$R$122*'4007ES(Addr)'!$AF$122","v":0},{"$f":"+'4007ES(Addr)'!$R$122*'4007ES(Addr)'!$AG$122","v":0},{"$f":"+'4007ES(Addr)'!$S$122*'4007ES(Addr)'!$AF$122","v":0},{"$f":"+'4007ES(Addr)'!$S$122*'4007ES(Addr)'!$AG$122","v":0},{"$f":"+'4007ES(Addr)'!$T$122*'4007ES(Addr)'!$AF$122","v":0},{"$f":"+'4007ES(Addr)'!$T$122*'4007ES(Addr)'!$AG$122","v":0},{"$f":"+'4007ES(Addr)'!$U$122*'4007ES(Addr)'!$AF$122","v":0},{"$f":"+'4007ES(Addr)'!$U$122*'4007ES(Addr)'!$AG$122","v":0},{"$f":"+'4007ES(Addr)'!$V$122*'4007ES(Addr)'!$AF$122","v":0},{"$f":"+'4007ES(Addr)'!$V$122*'4007ES(Addr)'!$AG$122","v":0},{"$f":"+'4007ES(Addr)'!$W$122*'4007ES(Addr)'!$AF$122","v":0},{"$f":"+'4007ES(Addr)'!$W$122*'4007ES(Addr)'!$AG$122","v":0},{"$f":"+'4007ES(Addr)'!$X$122*'4007ES(Addr)'!$AF$122","v":0},{"$f":"+'4007ES(Addr)'!$Y$122*'4007ES(Addr)'!$AG$122","v":0},{"$f":"+'4007ES(Addr)'!$Y$122*'4007ES(Addr)'!$AF$122","v":0},{"$f":"+'4007ES(Addr)'!$Z$122*'4007ES(Addr)'!$AG$122","v":0},{"$f":"+'4007ES(Addr)'!$Z$122*'4007ES(Addr)'!$AF$122","v":0},{"$f":"+'4007ES(Addr)'!$AA$122*'4007ES(Addr)'!$AG$122","v":0},{"$f":"+'4007ES(Addr)'!$AA$122*'4007ES(Addr)'!$AF$122","v":0},{"$f":"+'4007ES(Addr)'!$AB$122*'4007ES(Addr)'!$AG$122","v":0},{"$f":"+'4007ES(Addr)'!$AC$122*'4007ES(Addr)'!$AF$122","v":0},{"$f":"+'4007ES(Addr)'!$AC$122*'4007ES(Addr)'!$AG$122","v":0},{"$f":"+'4007ES(Addr)'!$AD$122*'4007ES(Addr)'!$AF$122","v":0},{"$f":"+'4007ES(Addr)'!$AD$122*'4007ES(Addr)'!$AG$122","v":0},{"$f":"+'4007ES(Addr)'!$AE$122*'4007ES(Addr)'!$AF$122","v":0},{"$f":"+'4007ES(Addr)'!$AE$122*'4007ES(Addr)'!$AG$122","v":0}]
[{"$f":"+'4007ES(Addr)'!I123","v":"Customised 5"},{"$f":"+'4007ES(Addr)'!C123","v":"Special Device Input5B"},{"$f":"+'4007ES(Addr)'!$K$123*'4007ES(Addr)'!$AF$123","v":0},{"$f":"+'4007ES(Addr)'!$K$123*'4007ES(Addr)'!$AG$123","v":0},{"$f":"+'4007ES(Addr)'!$L$123*'4007ES(Addr)'!$AF$123","v":0},{"$f":"+'4007ES(Addr)'!L$123*'4007ES(Addr)'!$AG$123","v":0},{"$f":"+'4007ES(Addr)'!$M$123*'4007ES(Addr)'!$AF$123","v":0},{"$f":"+'4007ES(Addr)'!$M$123*'4007ES(Addr)'!$AG$123","v":0},{"$f":"+'4007ES(Addr)'!$N$123*'4007ES(Addr)'!$AF$123","v":0},{"$f":"+'4007ES(Addr)'!$N$123*'4007ES(Addr)'!$AG$123","v":0},{"$f":"+'4007ES(Addr)'!$O$123*'4007ES(Addr)'!$AF$123","v":0},{"$f":"+'4007ES(Addr)'!$O$123*'4007ES(Addr)'!$AG$123","v":0},{"$f":"+'4007ES(Addr)'!$P$123*'4007ES(Addr)'!$AF$123","v":0},{"$f":"+'4007ES(Addr)'!$P$123*'4007ES(Addr)'!$AG$123","v":0},{"$f":"+'4007ES(Addr)'!$Q$123*'4007ES(Addr)'!$AF$123","v":0},{"$f":"+'4007ES(Addr)'!$Q$123*'4007ES(Addr)'!$AG$123","v":0},{"$f":"+'4007ES(Addr)'!$R$123*'4007ES(Addr)'!$AF$123","v":0},{"$f":"+'4007ES(Addr)'!$R$123*'4007ES(Addr)'!$AG$123","v":0},{"$f":"+'4007ES(Addr)'!$S$123*'4007ES(Addr)'!$AF$123","v":0},{"$f":"+'4007ES(Addr)'!$S$123*'4007ES(Addr)'!$AG$123","v":0},{"$f":"+'4007ES(Addr)'!$T$123*'4007ES(Addr)'!$AF$123","v":0},{"$f":"+'4007ES(Addr)'!$T$123*'4007ES(Addr)'!$AG$123","v":0},{"$f":"+'4007ES(Addr)'!$U$123*'4007ES(Addr)'!$AF$123","v":0},{"$f":"+'4007ES(Addr)'!$U$123*'4007ES(Addr)'!$AG$123","v":0},{"$f":"+'4007ES(Addr)'!$V$123*'4007ES(Addr)'!$AF$123","v":0},{"$f":"+'4007ES(Addr)'!$V$123*'4007ES(Addr)'!$AG$123","v":0},{"$f":"+'4007ES(Addr)'!$W$123*'4007ES(Addr)'!$AF$123","v":0},{"$f":"+'4007ES(Addr)'!$W$123*'4007ES(Addr)'!$AG$123","v":0},{"$f":"+'4007ES(Addr)'!$X$123*'4007ES(Addr)'!$AF$123","v":0},{"$f":"+'4007ES(Addr)'!$Y$123*'4007ES(Addr)'!$AG$123","v":0},{"$f":"+'4007ES(Addr)'!$Y$123*'4007ES(Addr)'!$AF$123","v":0},{"$f":"+'4007ES(Addr)'!$Z$123*'4007ES(Addr)'!$AG$123","v":0},{"$f":"+'4007ES(Addr)'!$Z$123*'4007ES(Addr)'!$AF$123","v":0},{"$f":"+'4007ES(Addr)'!$AA$123*'4007ES(Addr)'!$AG$123","v":0},{"$f":"+'4007ES(Addr)'!$AA$123*'4007ES(Addr)'!$AF$123","v":0},{"$f":"+'4007ES(Addr)'!$AB$123*'4007ES(Addr)'!$AG$123","v":0},{"$f":"+'4007ES(Addr)'!$AC$123*'4007ES(Addr)'!$AF$123","v":0},{"$f":"+'4007ES(Addr)'!$AC$123*'4007ES(Addr)'!$AG$123","v":0},{"$f":"+'4007ES(Addr)'!$AD$123*'4007ES(Addr)'!$AF$123","v":0},{"$f":"+'4007ES(Addr)'!$AD$123*'4007ES(Addr)'!$AG$123","v":0},{"$f":"+'4007ES(Addr)'!$AE$123*'4007ES(Addr)'!$AF$123","v":0},{"$f":"+'4007ES(Addr)'!$AE$123*'4007ES(Addr)'!$AG$123","v":0}]
[]
[]
[]
[]
[null,"G"]
[null,"Subtotal Current by Type",{"$f":"SUM(C3:C32)","v":0},{"$f":"SUM(D3:D32)","v":0},{"$f":"SUM(E3:E32)","v":0},0,0,0,0,0,0,0,0,0,0,0,0,0,0,0,0,0,0,0,0,0,0,0,0,0,0,0,0,0,0,0,0,0,0,0,0,0]
[null,"Details","H1","H2","H3","H4","H5","H6","H7","H8","H9","H10","H11","H12","H13","H14","H15","H16","H17","H18","H19","H20"]
[null,null,{"$f":"_xlfn.IFS('4007ES(Addr)'!K$19='Aux & `Panel Current'!$B$38,6,'4007ES(Addr)'!K$19='Aux & `Panel Current'!$B$39,1,'4007ES(Addr)'!K$19='Aux & `Panel Current'!$B$40,2,'4007ES(Addr)'!K$19='Aux & `Panel Current'!$B$41,3,'4007ES(Addr)'!K$19='Aux & `Panel Current'!$B$42,4,'4007ES(Addr)'!K$19='Aux & `Panel Current'!$B$43,5,'4007ES(Addr)'!K$19='Aux & `Panel Current'!$B$44,0)","v":0},{"$f":"_xlfn.IFS('4007ES(Addr)'!L$19='Aux & `Panel Current'!$B$38,6,'4007ES(Addr)'!L$19='Aux & `Panel Current'!$B$39,1,'4007ES(Addr)'!L$19='Aux & `Panel Current'!$B$40,2,'4007ES(Addr)'!L$19='Aux & `Panel Current'!$B$41,3,'4007ES(Addr)'!L$19='Aux & `Panel Current'!$B$42,4,'4007ES(Addr)'!L$19='Aux & `Panel Current'!$B$43,5,'4007ES(Addr)'!L$19='Aux & `Panel Current'!$B$44,0)","v":0},{"$f":"_xlfn.IFS('4007ES(Addr)'!M$19='Aux & `Panel Current'!$B$38,6,'4007ES(Addr)'!M$19='Aux & `Panel Current'!$B$39,1,'4007ES(Addr)'!M$19='Aux & `Panel Current'!$B$40,2,'4007ES(Addr)'!M$19='Aux & `Panel Current'!$B$41,3,'4007ES(Addr)'!M$19='Aux & `Panel Current'!$B$42,4,'4007ES(Addr)'!M$19='Aux & `Panel Current'!$B$43,5,'4007ES(Addr)'!M$19='Aux & `Panel Current'!$B$44,0)","v":0},{"$f":"_xlfn.IFS('4007ES(Addr)'!N$19='Aux & `Panel Current'!$B$38,6,'4007ES(Addr)'!N$19='Aux & `Panel Current'!$B$39,1,'4007ES(Addr)'!N$19='Aux & `Panel Current'!$B$40,2,'4007ES(Addr)'!N$19='Aux & `Panel Current'!$B$41,3,'4007ES(Addr)'!N$19='Aux & `Panel Current'!$B$42,4,'4007ES(Addr)'!N$19='Aux & `Panel Current'!$B$43,5,'4007ES(Addr)'!N$19='Aux & `Panel Current'!$B$44,0)","v":0},{"$f":"_xlfn.IFS('4007ES(Addr)'!O$19='Aux & `Panel Current'!$B$38,6,'4007ES(Addr)'!O$19='Aux & `Panel Current'!$B$39,1,'4007ES(Addr)'!O$19='Aux & `Panel Current'!$B$40,2,'4007ES(Addr)'!O$19='Aux & `Panel Current'!$B$41,3,'4007ES(Addr)'!O$19='Aux & `Panel Current'!$B$42,4,'4007ES(Addr)'!O$19='Aux & `Panel Current'!$B$43,5,'4007ES(Addr)'!O$19='Aux & `Panel Current'!$B$44,0)","v":0},{"$f":"_xlfn.IFS('4007ES(Addr)'!P$19='Aux & `Panel Current'!$B$38,6,'4007ES(Addr)'!P$19='Aux & `Panel Current'!$B$39,1,'4007ES(Addr)'!P$19='Aux & `Panel Current'!$B$40,2,'4007ES(Addr)'!P$19='Aux & `Panel Current'!$B$41,3,'4007ES(Addr)'!P$19='Aux & `Panel Current'!$B$42,4,'4007ES(Addr)'!P$19='Aux & `Panel Current'!$B$43,5,'4007ES(Addr)'!P$19='Aux & `Panel Current'!$B$44,0)","v":0},{"$f":"_xlfn.IFS('4007ES(Addr)'!Q$19='Aux & `Panel Current'!$B$38,6,'4007ES(Addr)'!Q$19='Aux & `Panel Current'!$B$39,1,'4007ES(Addr)'!Q$19='Aux & `Panel Current'!$B$40,2,'4007ES(Addr)'!Q$19='Aux & `Panel Current'!$B$41,3,'4007ES(Addr)'!Q$19='Aux & `Panel Current'!$B$42,4,'4007ES(Addr)'!Q$19='Aux & `Panel Current'!$B$43,5,'4007ES(Addr)'!Q$19='Aux & `Panel Current'!$B$44,0)","v":0},{"$f":"_xlfn.IFS('4007ES(Addr)'!R$19='Aux & `Panel Current'!$B$38,6,'4007ES(Addr)'!R$19='Aux & `Panel Current'!$B$39,1,'4007ES(Addr)'!R$19='Aux & `Panel Current'!$B$40,2,'4007ES(Addr)'!R$19='Aux & `Panel Current'!$B$41,3,'4007ES(Addr)'!R$19='Aux & `Panel Current'!$B$42,4,'4007ES(Addr)'!R$19='Aux & `Panel Current'!$B$43,5,'4007ES(Addr)'!R$19='Aux & `Panel Current'!$B$44,0)","v":0},{"$f":"_xlfn.IFS('4007ES(Addr)'!S$19='Aux & `Panel Current'!$B$38,6,'4007ES(Addr)'!S$19='Aux & `Panel Current'!$B$39,1,'4007ES(Addr)'!S$19='Aux & `Panel Current'!$B$40,2,'4007ES(Addr)'!S$19='Aux & `Panel Current'!$B$41,3,'4007ES(Addr)'!S$19='Aux & `Panel Current'!$B$42,4,'4007ES(Addr)'!S$19='Aux & `Panel Current'!$B$43,5,'4007ES(Addr)'!S$19='Aux & `Panel Current'!$B$44,0)","v":0},{"$f":"_xlfn.IFS('4007ES(Addr)'!T$19='Aux & `Panel Current'!$B$38,6,'4007ES(Addr)'!T$19='Aux & `Panel Current'!$B$39,1,'4007ES(Addr)'!T$19='Aux & `Panel Current'!$B$40,2,'4007ES(Addr)'!T$19='Aux & `Panel Current'!$B$41,3,'4007ES(Addr)'!T$19='Aux & `Panel Current'!$B$42,4,'4007ES(Addr)'!T$19='Aux & `Panel Current'!$B$43,5,'4007ES(Addr)'!T$19='Aux & `Panel Current'!$B$44,0)","v":0},{"$f":"_xlfn.IFS('4007ES(Addr)'!U$19='Aux & `Panel Current'!$B$38,6,'4007ES(Addr)'!U$19='Aux & `Panel Current'!$B$39,1,'4007ES(Addr)'!U$19='Aux & `Panel Current'!$B$40,2,'4007ES(Addr)'!U$19='Aux & `Panel Current'!$B$41,3,'4007ES(Addr)'!U$19='Aux & `Panel Current'!$B$42,4,'4007ES(Addr)'!U$19='Aux & `Panel Current'!$B$43,5,'4007ES(Addr)'!U$19='Aux & `Panel Current'!$B$44,0)","v":0},{"$f":"_xlfn.IFS('4007ES(Addr)'!V$19='Aux & `Panel Current'!$B$38,6,'4007ES(Addr)'!V$19='Aux & `Panel Current'!$B$39,1,'4007ES(Addr)'!V$19='Aux & `Panel Current'!$B$40,2,'4007ES(Addr)'!V$19='Aux & `Panel Current'!$B$41,3,'4007ES(Addr)'!V$19='Aux & `Panel Current'!$B$42,4,'4007ES(Addr)'!V$19='Aux & `Panel Current'!$B$43,5,'4007ES(Addr)'!V$19='Aux & `Panel Current'!$B$44,0)","v":0},{"$f":"_xlfn.IFS('4007ES(Addr)'!W$19='Aux & `Panel Current'!$B$38,6,'4007ES(Addr)'!W$19='Aux & `Panel Current'!$B$39,1,'4007ES(Addr)'!W$19='Aux & `Panel Current'!$B$40,2,'4007ES(Addr)'!W$19='Aux & `Panel Current'!$B$41,3,'4007ES(Addr)'!W$19='Aux & `Panel Current'!$B$42,4,'4007ES(Addr)'!W$19='Aux & `Panel Current'!$B$43,5,'4007ES(Addr)'!W$19='Aux & `Panel Current'!$B$44,0)","v":0},{"$f":"_xlfn.IFS('4007ES(Addr)'!X$19='Aux & `Panel Current'!$B$38,6,'4007ES(Addr)'!X$19='Aux & `Panel Current'!$B$39,1,'4007ES(Addr)'!X$19='Aux & `Panel Current'!$B$40,2,'4007ES(Addr)'!X$19='Aux & `Panel Current'!$B$41,3,'4007ES(Addr)'!X$19='Aux & `Panel Current'!$B$42,4,'4007ES(Addr)'!X$19='Aux & `Panel Current'!$B$43,5,'4007ES(Addr)'!X$19='Aux & `Panel Current'!$B$44,0)","v":0},{"$f":"_xlfn.IFS('4007ES(Addr)'!Y$19='Aux & `Panel Current'!$B$38,6,'4007ES(Addr)'!Y$19='Aux & `Panel Current'!$B$39,1,'4007ES(Addr)'!Y$19='Aux & `Panel Current'!$B$40,2,'4007ES(Addr)'!Y$19='Aux & `Panel Current'!$B$41,3,'4007ES(Addr)'!Y$19='Aux & `Panel Current'!$B$42,4,'4007ES(Addr)'!Y$19='Aux & `Panel Current'!$B$43,5,'4007ES(Addr)'!Y$19='Aux & `Panel Current'!$B$44,0)","v":0},{"$f":"_xlfn.IFS('4007ES(Addr)'!Z$19='Aux & `Panel Current'!$B$38,6,'4007ES(Addr)'!Z$19='Aux & `Panel Current'!$B$39,1,'4007ES(Addr)'!Z$19='Aux & `Panel Current'!$B$40,2,'4007ES(Addr)'!Z$19='Aux & `Panel Current'!$B$41,3,'4007ES(Addr)'!Z$19='Aux & `Panel Current'!$B$42,4,'4007ES(Addr)'!Z$19='Aux & `Panel Current'!$B$43,5,'4007ES(Addr)'!Z$19='Aux & `Panel Current'!$B$44,0)","v":0},{"$f":"_xlfn.IFS('4007ES(Addr)'!AA$19='Aux & `Panel Current'!$B$38,6,'4007ES(Addr)'!AA$19='Aux & `Panel Current'!$B$39,1,'4007ES(Addr)'!AA$19='Aux & `Panel Current'!$B$40,2,'4007ES(Addr)'!AA$19='Aux & `Panel Current'!$B$41,3,'4007ES(Addr)'!AA$19='Aux & `Panel Current'!$B$42,4,'4007ES(Addr)'!AA$19='Aux & `Panel Current'!$B$43,5,'4007ES(Addr)'!AA$19='Aux & `Panel Current'!$B$44,0)","v":0},{"$f":"_xlfn.IFS('4007ES(Addr)'!AB$19='Aux & `Panel Current'!$B$38,6,'4007ES(Addr)'!AB$19='Aux & `Panel Current'!$B$39,1,'4007ES(Addr)'!AB$19='Aux & `Panel Current'!$B$40,2,'4007ES(Addr)'!AB$19='Aux & `Panel Current'!$B$41,3,'4007ES(Addr)'!AB$19='Aux & `Panel Current'!$B$42,4,'4007ES(Addr)'!AB$19='Aux & `Panel Current'!$B$43,5,'4007ES(Addr)'!AB$19='Aux & `Panel Current'!$B$44,0)","v":0},{"$f":"_xlfn.IFS('4007ES(Addr)'!AC$19='Aux & `Panel Current'!$B$38,6,'4007ES(Addr)'!AC$19='Aux & `Panel Current'!$B$39,1,'4007ES(Addr)'!AC$19='Aux & `Panel Current'!$B$40,2,'4007ES(Addr)'!AC$19='Aux & `Panel Current'!$B$41,3,'4007ES(Addr)'!AC$19='Aux & `Panel Current'!$B$42,4,'4007ES(Addr)'!AC$19='Aux & `Panel Current'!$B$43,5,'4007ES(Addr)'!AC$19='Aux & `Panel Current'!$B$44,0)","v":0},{"$f":"_xlfn.IFS('4007ES(Addr)'!AD$19='Aux & `Panel Current'!$B$38,6,'4007ES(Addr)'!AD$19='Aux & `Panel Current'!$B$39,1,'4007ES(Addr)'!AD$19='Aux & `Panel Current'!$B$40,2,'4007ES(Addr)'!AD$19='Aux & `Panel Current'!$B$41,3,'4007ES(Addr)'!AD$19='Aux & `Panel Current'!$B$42,4,'4007ES(Addr)'!AD$19='Aux & `Panel Current'!$B$43,5,'4007ES(Addr)'!AD$19='Aux & `Panel Current'!$B$44,0)","v":0}]
[null,null,"Auxillary PS",null,"Panel PS",null,"RAC & NAC",null,"Total Panel only"]
[null,"Summary of Power Consumption by Panel","Standby","Alarm","Standby","Alarm","RAC","NAC","Stby","Alm"]
[null,"4007ES",{"$f":"+'4007ES(Addr)'!AW48","v":0},{"$f":"+'4007ES(Addr)'!AV48","v":0},{"$f":"+C78","v":0},{"$f":"+D78","v":0},{"$f":"+'4007ES(Addr)'!AT48","v":0},{"$f":"+'4007ES(Addr)'!AU48","v":0},{"$f":"SUM(E38+C38)","v":0},{"$f":"+H38+G38+F38+D38","v":0}]
[null,"NAC Repeat 1",{"$f":"+'4007ES(Addr)'!AW49","v":0},{"$f":"+'4007ES(Addr)'!AV49","v":0},{"$f":"+E78","v":0},{"$f":"+F78","v":0},{"$f":"+'4007ES(Addr)'!AT49","v":0},{"$f":"+'4007ES(Addr)'!AU49","v":0},{"$f":"SUM(E39+C39)","v":0},{"$f":"+H39+G39+F39+D39","v":0}]
[null,"NAC Repeat 2",{"$f":"+'4007ES(Addr)'!AW50","v":0},{"$f":"+'4007ES(Addr)'!AV50","v":0},{"$f":"+G78","v":0},{"$f":"+H78","v":0},{"$f":"+'4007ES(Addr)'!AT50","v":0},{"$f":"+'4007ES(Addr)'!AU50","v":0},0,0]
[null,"NAC Repeat 3",{"$f":"+'4007ES(Addr)'!AW51","v":0},{"$f":"+'4007ES(Addr)'!AV51","v":0},{"$f":"+I78","v":0},{"$f":"+J78","v":0},{"$f":"+'4007ES(Addr)'!AT51","v":0},{"$f":"+'4007ES(Addr)'!AU51","v":0},0,0]
[null,"NAC Repeat 4",{"$f":"+'4007ES(Addr)'!AW52","v":0},{"$f":"+'4007ES(Addr)'!AV52","v":0},{"$f":"+K78","v":0},{"$f":"+L78","v":0},{"$f":"+'4007ES(Addr)'!AT52","v":0},{"$f":"+'4007ES(Addr)'!AU52","v":0},0,0]
[null,"NAC Repeat 5",{"$f":"+'4007ES(Addr)'!AW53","v":0},{"$f":"+'4007ES(Addr)'!AV53","v":0},{"$f":"+M78","v":0},{"$f":"+N78","v":0},{"$f":"+'4007ES(Addr)'!AT53","v":0},{"$f":"+'4007ES(Addr)'!AU53","v":0},0,0]
[null,"No Selection"," "," ",null,null," "," "," "," "]
[]
["Panel Current summary",null,{"$f":"('4007ES(Addr)'!K134+'4007ES(Addr)'!K135++'4007ES(Addr)'!K136)/8","v":0},{"$f":"ROUNDUP(C46,0)","v":0}]
["PID","Description","P Stby","P Alm","NR1 Stby","NR1 Alam","NR2 Stby","NR2 Alam","NR3 Stby","NR3 Alm","NR4 Stby","NR4 Alm","NR5 Stby","NR5Alm"]
["4007ES Panel PCB Current Consumption",null,"4007ES Panel"]
[{"$f":"+'4007ES(Addr)'!I29","v":"4007-9102"},{"$f":"+'4007ES(Addr)'!C29","v":"4007ES Suppression Panel Platinium(Std Offering)"},{"$f":"+'4007ES(Addr)'!K24*'4007ES(Addr)'!AF29","v":0},{"$f":"+'4007ES(Addr)'!AG29*'4007ES(Addr)'!K24","v":0}," "]
[{"$f":"+'4007ESConfigurator'!D12","v":"Addr Loop Card"},{"$f":"+'4007ESConfigurator'!E12","v":"Idnet 100 points (Std Offering)"},{"$f":"+'4007ES(Addr)'!K24*'4007ES(Addr)'!AF131","v":0},{"$f":"+'4007ES(Addr)'!AG131*'4007ES(Addr)'!K24","v":0}]
[{"$f":"+'4007ESConfigurator'!C13","v":"4007-9803"},{"$f":"+'4007ESConfigurator'!E13","v":"Idnet 75 points (Option)"},{"$f":"+'4007ES(Addr)'!K132*'4007ES(Addr)'!AF132","v":0},{"$f":"+'4007ES(Addr)'!K132*'4007ES(Addr)'!AG132","v":0}]
[{"$f":"+'4007ES(Addr)'!I134","v":"4007-9801"},{"$f":"+'4007ES(Addr)'!C134","v":"Class B Conventional Zones"},{"$f":"D46*'4007ES(Addr)'!AF134","v":0},{"$f":"D46*'4007ES(Addr)'!AF135","v":0}]
["4007-9802","25V Zone Regulator Module",{"$f":"IF('4007ES(Addr)'!K137=\"Yes\",1,0)*'4007ES(Addr)'!AF137","v":0},{"$f":"IF('4007ES(Addr)'!K137=\"Yes\",1,0)*'4007ES(Addr)'!AG137","v":0}]
["4007-9812","Optional : RS 232 Card for Printer",{"$f":"IF('4007ES(Addr)'!K138=\"Yes\",1,0)*'4007ES(Addr)'!AF138","v":0},{"$f":"IF('4007ES(Addr)'!K138=\"Yes\",1,0)*'4007ES(Addr)'!AG138","v":0}]
[{"$f":"+'4007ES(Addr)'!I147","v":"4007-9805"},{"$f":"+'4007ES(Addr)'!C147","v":"Panel Mounted 48 LED Annunciator"},{"$f":"IF('4007ES(Addr)'!G147=1,1,0)*'4007ES(Addr)'!AF147","v":0},{"$f":"IF('4007ES(Addr)'!G148=1,1,0)*'4007ES(Addr)'!AG147","v":0}]
[{"$f":"+'4007ES(Addr)'!I148","v":"LED Loading"},{"$f":"+'4007ES(Addr)'!C148","v":"Enter Number of LEDs on in Alarm"},{"$f":"IF('4007ES(Addr)'!G148=1,1,0)*'4007ES(Addr)'!AF148","v":0},{"$f":"IF('4007ES(Addr)'!G148=1,1,0)*'4007ES(Addr)'!AG148*'4007ES(Addr)'!K148","v":0}]
["Panel ES Network Cards"," "]
[{"$f":"+'4007ES(Addr)'!I140","v":"4007-9817"},{"$f":"+'4007ES(Addr)'!C140","v":"ESNet Network Main Card"},{"$f":"IF('4007ES(Addr)'!G140=1,1,0)*'4007ES(Addr)'!AF140","v":0},{"$f":"IF('4007ES(Addr)'!G140=1,1,0)*'4007ES(Addr)'!AG140","v":0}]
[{"$f":"+'4007ES(Addr)'!I141","v":"Not Selected"},{"$f":"+'4007ES(Addr)'!C141","v":"ESNet Slot 1 Media Card - Requires only 1"},{"$f":"IF('4007ES(Addr)'!G141=1,1,0)*'4007ES(Addr)'!AF141","v":0},{"$f":"IF('4007ES(Addr)'!G141=1,1,0)*'4007ES(Addr)'!AG141","v":0}]
[{"$f":"+'4007ES(Addr)'!I142","v":"Not Selected"},{"$f":"+'4007ES(Addr)'!C142","v":"ESNet Slot 2 Media Card - Requires only 1"},{"$f":"IF('4007ES(Addr)'!G142=1,1,0)*'4007ES(Addr)'!AF142","v":0},{"$f":"IF('4007ES(Addr)'!G142=1,1,0)*'4007ES(Addr)'!AG142","v":0}]
["Panel 4120 Network Cards"]
[{"$f":"+'4007ESConfigurator'!C28","v":"4007-9810"},{"$f":"+'4007ESConfigurator'!E28","v":"4120 Network Main Card"},{"$f":"IF('4007ES(Addr)'!G143=1,1,0)*'4007ESConfigurator'!L28","v":0},{"$f":"IF('4007ES(Addr)'!G143=1,1,0)*'4007ESConfigurator'!M28","v":0}]
[{"$f":"+'4007ESConfigurator'!C29","v":"4007-9813"},{"$f":"+'4007ESConfigurator'!E29","v":"4120 Network Media Card - Hard Wired"},{"$f":"(IF('4007ES(Addr)'!K144=\"RS485\",1,0)*IF('4007ES(Addr)'!G144=1,1,0)*'4007ESConfigurator'!L29)+IF('4007ES(Addr)'!K145=\"RS485\",1,0)*IF('4007ES(Addr)'!G145=1,1,0)*'4007ESConfigurator'!L29","v":0},{"$f":"(IF('4007ES(Addr)'!K144=\"RS485\",1,0)*IF('4007ES(Addr)'!G144=1,1,0)*'4007ESConfigurator'!M29)+IF('4007ES(Addr)'!K145=\"RS485\",1,0)*IF('4007ES(Addr)'!G145=1,1,0)*'4007ESConfigurator'!M29","v":0}]
[{"$f":"+'4007ESConfigurator'!C30","v":"4007-6303"},{"$f":"+'4007ESConfigurator'!E30","v":"4120 Network Media Card - Multi mode Fiber Optic - Left"},{"$f":"IF('4007ES(Addr)'!K144=\"MM Fiber\",1,0)*(IF('4007ES(Addr)'!G144=1,1,0))*('4007ESConfigurator'!L30)","v":0},{"$f":"IF('4007ES(Addr)'!K144=\"MM Fiber\",1,0)*(IF('4007ES(Addr)'!G144=1,1,0))*('4007ESConfigurator'!M30)","v":0}]
[{"$f":"+'4007ESConfigurator'!C31","v":"4007-6304"},{"$f":"+'4007ESConfigurator'!E31","v":"4120 Network Media Card - Multi mode Fiber Optic - Right"},{"$f":"IF('4007ES(Addr)'!K145=\"MM Fiber\",1,0)*(IF('4007ES(Addr)'!G145=1,1,0))*('4007ESConfigurator'!L31)","v":0},{"$f":"IF('4007ES(Addr)'!K145=\"MM Fiber\",1,0)*(IF('4007ES(Addr)'!G145=1,1,0))*('4007ESConfigurator'!M31)","v":0}]
[{"$f":"+'4007ESConfigurator'!C32","v":"4007-6301"},{"$f":"+'4007ESConfigurator'!E32","v":"4120 Network Media Card - Single mode Fiber Optic - Left"},{"$f":"IF('4007ES(Addr)'!K144=\"SM Fiber\",1,0)*(IF('4007ES(Addr)'!G144=1,1,0))*('4007ESConfigurator'!L32)","v":0},{"$f":"IF('4007ES(Addr)'!K144=\"SM Fiber\",1,0)*(IF('4007ES(Addr)'!G144=1,1,0))*('4007ESConfigurator'!M32)","v":0}]
[{"$f":"+'4007ESConfigurator'!C33","v":"4007-6302"},{"$f":"+'4007ESConfigurator'!E33","v":"4120 Network Media Card - Single mode Fibre Optic - Right"},{"$f":"IF('4007ES(Addr)'!K145=\"SM Fiber\",1,0)*(IF('4007ES(Addr)'!G145=1,1,0))*('4007ESConfigurator'!L33)","v":0},{"$f":"IF('4007ES(Addr)'!K145=\"SM Fiber\",1,0)*(IF('4007ES(Addr)'!G145=1,1,0))*('4007ESConfigurator'!M33)","v":0}]
[]
["NAC Repeater  Panel PCB Current Consumption",null,null,null,"NAC Repeater 1",null,"NAC Repeater 2",null,"NAC Repeater 3",null,"NAC Repeater 4",null,"NAC Repeater 5"]
["4009-9201","4009 IDNet NAC Extender with 4, Class B NACs and 8 A PS - 120V"," ",null,{"$f":"(IF('4007ES(Addr)'!$G$30>0,'4007ES(Addr)'!$AF$30,0))*'4007ES(Addr)'!$L$24","v":0},{"$f":"(IF('4007ES(Addr)'!$G$30>0,'4007ES(Addr)'!$AG$30,0))*'4007ES(Addr)'!$L$24","v":0},{"$f":"(IF('4007ES(Addr)'!$G$30>0,'4007ES(Addr)'!$AF$30,0))*'4007ES(Addr)'!$M$24","v":0},{"$f":"(IF('4007ES(Addr)'!$G$30>0,'4007ES(Addr)'!$AG$30,0))*'4007ES(Addr)'!$M$24","v":0},{"$f":"(IF('4007ES(Addr)'!$G$30>0,'4007ES(Addr)'!$AF$30,0))*'4007ES(Addr)'!$N$24","v":0},{"$f":"(IF('4007ES(Addr)'!G30>0,'4007ES(Addr)'!$AG$30,0))*'4007ES(Addr)'!$N$24","v":0},{"$f":"(IF('4007ES(Addr)'!$G$30>0,'4007ES(Addr)'!$AF$30,0))*'4007ES(Addr)'!$O$24","v":0},{"$f":"(IF('4007ES(Addr)'!G30>0,'4007ES(Addr)'!$AG$30,0))*'4007ES(Addr)'!$O$24","v":0},{"$f":"(IF('4007ES(Addr)'!$G$30>0,'4007ES(Addr)'!$AF$30,0))*'4007ES(Addr)'!$P$24","v":0},{"$f":"(IF('4007ES(Addr)'!G30>0,'4007ES(Addr)'!$AG$30,0))*'4007ES(Addr)'!$P$24","v":0}]
["4009-9301","4009 IDNet NAC Extender with 4, Class B NACs and 8 A PS - 240V"," ",null,{"$f":"(IF('4007ES(Addr)'!$G$31>0,'4007ES(Addr)'!$AF$31,0))*'4007ES(Addr)'!$L$24","v":0},{"$f":"(IF('4007ES(Addr)'!$G$31>0,'4007ES(Addr)'!$AG$31,0))*'4007ES(Addr)'!$L$24","v":0},{"$f":"(IF('4007ES(Addr)'!$G$31>0,'4007ES(Addr)'!$AF$31,0))*'4007ES(Addr)'!$M$24","v":0},{"$f":"(IF('4007ES(Addr)'!$G$31>0,'4007ES(Addr)'!$AG$31,0))*'4007ES(Addr)'!$M$24","v":0},{"$f":"(IF('4007ES(Addr)'!$G$31>0,'4007ES(Addr)'!$AF$31,0))*'4007ES(Addr)'!$N$24","v":0},{"$f":"(IF('4007ES(Addr)'!G31>0,'4007ES(Addr)'!$AG$31,0))*'4007ES(Addr)'!$N$24","v":0},{"$f":"(IF('4007ES(Addr)'!$G$31>0,'4007ES(Addr)'!$AF$31,0))*'4007ES(Addr)'!$O$24","v":0},{"$f":"(IF('4007ES(Addr)'!G31>0,'4007ES(Addr)'!$AG$31,0))*'4007ES(Addr)'!$O$24","v":0},{"$f":"(IF('4007ES(Addr)'!$G$31>0,'4007ES(Addr)'!$AF$31,0))*'4007ES(Addr)'!$P$24","v":0},{"$f":"(IF('4007ES(Addr)'!G31>0,'4007ES(Addr)'!$AG$31,0))*'4007ES(Addr)'!$P$24","v":0}]
["4009-9807","Additional four point NAC module(NAC5-8-Rated 1.5A & NAC 1-4 - Rated 2 Amp)",null,null,{"$f":"+'4007ES(Addr)'!$AF$32*'4007ES(Addr)'!$L$32","v":0},{"$f":"+'4007ES(Addr)'!$AG$32*'4007ES(Addr)'!$L$32","v":0},{"$f":"+'4007ES(Addr)'!$AF$32*'4007ES(Addr)'!$M$32","v":0},{"$f":"+'4007ES(Addr)'!$AG$32*'4007ES(Addr)'!$M$32","v":0},{"$f":"+'4007ES(Addr)'!$AF$32*'4007ES(Addr)'!$N$32","v":0},{"$f":"+'4007ES(Addr)'!$AG$32*'4007ES(Addr)'!$N$32","v":0},{"$f":"+'4007ES(Addr)'!$AF$32*'4007ES(Addr)'!$O$32","v":0},{"$f":"+'4007ES(Addr)'!$AG$32*'4007ES(Addr)'!$O$32","v":0},{"$f":"+'4007ES(Addr)'!$AF$32*'4007ES(Addr)'!$P$32","v":0},{"$f":"+'4007ES(Addr)'!$AG$32*'4007ES(Addr)'!$P$32","v":0}]
["4009-9808","Dual Class A adapter(No Additional Current)",null,null,{"$f":"+'4007ES(Addr)'!$AF$33*'4007ES(Addr)'!$L$33","v":0},{"$f":"+'4007ES(Addr)'!$AG$33","v":0},{"$f":"+'4007ES(Addr)'!$AF$33*'4007ES(Addr)'!$L$33","v":0},{"$f":"+'4007ES(Addr)'!$AG$33","v":0},{"$f":"+'4007ES(Addr)'!$AF$33*'4007ES(Addr)'!$L$33","v":0},{"$f":"+'4007ES(Addr)'!$AG$33","v":0},{"$f":"+'4007ES(Addr)'!$AF$33*'4007ES(Addr)'!$L$33","v":0},{"$f":"+'4007ES(Addr)'!$AG$33","v":0},{"$f":"+'4007ES(Addr)'!$AF$33*'4007ES(Addr)'!$P$33","v":0},{"$f":"+'4007ES(Addr)'!$AG$33","v":0}]
["4009-9809","IDNet Repeater, output is Class A or Class B(If Required due to distance)",null,null,{"$f":"+'4007ES(Addr)'!$AF$34","v":0},{"$f":"+'4007ES(Addr)'!$AG$34*'4007ES(Addr)'!$L$34","v":0},{"$f":"+'4007ES(Addr)'!$AF$34","v":0},{"$f":"+'4007ES(Addr)'!$AG$34*'4007ES(Addr)'!$M$34","v":0},{"$f":"+'4007ES(Addr)'!$AF$34","v":0},{"$f":"+'4007ES(Addr)'!$AG$34*'4007ES(Addr)'!$N$34","v":0},{"$f":"+'4007ES(Addr)'!$AF$34","v":0},{"$f":"+'4007ES(Addr)'!$AG$34*'4007ES(Addr)'!$O$34","v":0},{"$f":"+'4007ES(Addr)'!$AF$34","v":0},{"$f":"+'4007ES(Addr)'!$AG$34*'4007ES(Addr)'!$P$34","v":0}]
[null,null,null,null,null,null,null,null,null,null," "]
[]
[]
[null,"Subtotal Current by Type",{"$f":"SUM(C49:C77)","v":0},0,0,0,0,0,0,0,0,0,0,0]

{"sheet":"Solenoid Nos Reference","index":11,"n_rows":52,"n_cols":5,"rows_kept":52,"cut":false,"hidden":false,"merged":[[0,0,2,4]]}
["Solenoid Reference number to use for input to 4004R or 4007ES Design Tools"]
[]
[]
["Ref No","Brand","Releasing Actuators","Current","Remarks"]
[{"$f":"+'4004RConfigurator'!B83","v":"R2"},{"$f":"+'4004RConfigurator'!D83","v":"RAC2"},{"$f":"+'4004RConfigurator'!E83","v":"The RAC2 is being used for Discharge Display Signal."},{"$f":"+'4004RConfigurator'!M83","v":0},"Only for 4004R"]
[{"$f":"+'4004RConfigurator'!B84","v":0},{"$f":"+'4004RConfigurator'!D84","v":"No Selection"},{"$f":"+'4004RConfigurator'!E84","v":"No Actuator Selected"},{"$f":"+'4004RConfigurator'!M84","v":0},"Both 4004R and 4007ES"]
[{"$f":"+'4004RConfigurator'!B85","v":1},{"$f":"+'4004RConfigurator'!D85","v":"Ansul"},{"$f":"+'4004RConfigurator'!E85","v":"AUTOMAN II-C Assembly (solenoid 17728; coil 25924)"},{"$f":"+'4004RConfigurator'!M85","v":750},{"$f":"+E6","v":"Both 4004R and 4007ES"}]
[{"$f":"+'4004RConfigurator'!B86","v":2},{"$f":"+'4004RConfigurator'!D86","v":"Ansul"},{"$f":"+'4004RConfigurator'!E86","v":"AUTOMAN II-C Explosion-Proof Releasing Device (solenoid 31492; coil 31438)"},{"$f":"+'4004RConfigurator'!M86","v":750},{"$f":"+E7","v":"Both 4004R and 4007ES"}]
[{"$f":"+'4004RConfigurator'!B87","v":3},{"$f":"+'4004RConfigurator'!D87","v":"Ansul"},{"$f":"+'4004RConfigurator'!E87","v":"AUTOMAN II-C Assembly (solenoid 68739; coil 25924)"},{"$f":"+'4004RConfigurator'!M87","v":750},"Both 4004R and 4007ES"]
[{"$f":"+'4004RConfigurator'!B88","v":4},{"$f":"+'4004RConfigurator'!D88","v":"Ansul"},{"$f":"+'4004RConfigurator'!E88","v":"Solenoid Electric Actuator (solenoid 73111; coil 73097)"},{"$f":"+'4004RConfigurator'!M88","v":1000},"Both 4004R and 4007ES"]
[{"$f":"+'4004RConfigurator'!B89","v":5},{"$f":"+'4004RConfigurator'!D89","v":"Ansul"},{"$f":"+'4004RConfigurator'!E89","v":"*CV90 HF Electric Actuator 73327"},{"$f":"+'4004RConfigurator'!M89","v":570},"Both 4004R and 4007ES"]
[{"$f":"+'4004RConfigurator'!B90","v":6},{"$f":"+'4004RConfigurator'!D90","v":"Ansul"},{"$f":"+'4004RConfigurator'!E90","v":"LP CO2 w/ASCO solenoid 422934"},{"$f":"+'4004RConfigurator'!M90","v":442},"Both 4004R and 4007ES"]
[{"$f":"+'4004RConfigurator'!B91","v":7},{"$f":"+'4004RConfigurator'!D91","v":"Ansul"},{"$f":"+'4004RConfigurator'!E91","v":"LP CO2 double action 24 VDC solenoid 430948"},{"$f":"+'4004RConfigurator'!M91","v":438},"Both 4004R and 4007ES"]
[{"$f":"+'4004RConfigurator'!B92","v":8},{"$f":"+'4004RConfigurator'!D92","v":"Ansul"},{"$f":"+'4004RConfigurator'!E92","v":"LP CO2 3-way selector valve solenoid 433419"},{"$f":"+'4004RConfigurator'!M92","v":438},"Both 4004R and 4007ES"]
[{"$f":"+'4004RConfigurator'!B93","v":9},{"$f":"+'4004RConfigurator'!D93","v":"Ansul"},{"$f":"+'4004RConfigurator'!E93","v":"Electric Actuator 24 VDC solenoid 570537"},{"$f":"+'4004RConfigurator'!M93","v":250},"Both 4004R and 4007ES"]
[{"$f":"+'4004RConfigurator'!B94","v":10},{"$f":"+'4004RConfigurator'!D94","v":"ASCO"},{"$f":"+'4004RConfigurator'!E94","v":"8210A107 (097617-005D coil)"},{"$f":"+'4004RConfigurator'!M94","v":750},"Both 4004R and 4007ES"]
[{"$f":"+'4004RConfigurator'!B95","v":11},{"$f":"+'4004RConfigurator'!D95","v":"ASCO"},{"$f":"+'4004RConfigurator'!E95","v":"8210G207 (238310 coil)"},{"$f":"+'4004RConfigurator'!M95","v":438},"Both 4004R and 4007ES"]
[{"$f":"+'4004RConfigurator'!B96","v":12},{"$f":"+'4004RConfigurator'!D96","v":"ASCO"},{"$f":"+'4004RConfigurator'!E96","v":"8211A107 (097617-005D coil)"},{"$f":"+'4004RConfigurator'!M96","v":750},"Both 4004R and 4007ES"]
[{"$f":"+'4004RConfigurator'!B97","v":13},{"$f":"+'4004RConfigurator'!D97","v":"ASCO"},{"$f":"+'4004RConfigurator'!E97","v":"8262H182 (238910 coil)"},{"$f":"+'4004RConfigurator'!M97","v":483},"Both 4004R and 4007ES"]
[{"$f":"+'4004RConfigurator'!B98","v":14},{"$f":"+'4004RConfigurator'!D98","v":"ASCO"},{"$f":"+'4004RConfigurator'!E98","v":"EF8210G001MBMO"},{"$f":"+'4004RConfigurator'!M98","v":450},"Both 4004R and 4007ES"]
[{"$f":"+'4004RConfigurator'!B99","v":15},{"$f":"+'4004RConfigurator'!D99","v":"ASCO"},{"$f":"+'4004RConfigurator'!E99","v":"HV2628571 (23810 coil)"},{"$f":"+'4004RConfigurator'!M99","v":442},"Both 4004R and 4007ES"]
[{"$f":"+'4004RConfigurator'!B100","v":16},{"$f":"+'4004RConfigurator'!D100","v":"ASCO"},{"$f":"+'4004RConfigurator'!E100","v":"HV2648581 (23810 coil)"},{"$f":"+'4004RConfigurator'!M100","v":442},"Both 4004R and 4007ES"]
[{"$f":"+'4004RConfigurator'!B101","v":17},{"$f":"+'4004RConfigurator'!D101","v":"ASCO"},{"$f":"+'4004RConfigurator'!E101","v":"R8210A107 (097617-005D coil)"},{"$f":"+'4004RConfigurator'!M101","v":700},"Both 4004R and 4007ES"]
[{"$f":"+'4004RConfigurator'!B102","v":18},{"$f":"+'4004RConfigurator'!D102","v":"ASCO"},{"$f":"+'4004RConfigurator'!E102","v":"T8210A107 (097617-005D coil)"},{"$f":"+'4004RConfigurator'!M102","v":700},"Both 4004R and 4007ES"]
[{"$f":"+'4004RConfigurator'!B103","v":19},{"$f":"+'4004RConfigurator'!D103","v":"Hygood"},{"$f":"+'4004RConfigurator'!E103","v":"304.205.010 – Electrical Actuator Suppression Diode"},{"$f":"+'4004RConfigurator'!M103","v":250},"Both 4004R and 4007ES"]
[{"$f":"+'4004RConfigurator'!B104","v":20},{"$f":"+'4004RConfigurator'!D104","v":"Hygood"},{"$f":"+'4004RConfigurator'!E104","v":"304.209.001 – Electrical Actuator Bridge Rectifier"},{"$f":"+'4004RConfigurator'!M104","v":250},"Both 4004R and 4007ES"]
[{"$f":"+'4004RConfigurator'!B105","v":21},{"$f":"+'4004RConfigurator'!D105","v":"Pyrochem"},{"$f":"+'4004RConfigurator'!E105","v":"ECH Electrical Control Head (551201)"},{"$f":"+'4004RConfigurator'!M105","v":1700},"Both 4004R and 4007ES"]
[{"$f":"+'4004RConfigurator'!B106","v":22},{"$f":"+'4004RConfigurator'!D106","v":"Pyrochem"},{"$f":"+'4004RConfigurator'!E106","v":"Explosion-Proof Electric Actuator (570147)"},{"$f":"+'4004RConfigurator'!M106","v":396},"Both 4004R and 4007ES"]
[{"$f":"+'4004RConfigurator'!B107","v":23},{"$f":"+'4004RConfigurator'!D107","v":"Pyrochem"},{"$f":"+'4004RConfigurator'!E107","v":"Removable Electric Actuator (570209)"},{"$f":"+'4004RConfigurator'!M107","v":200},"Both 4004R and 4007ES"]
[{"$f":"+'4004RConfigurator'!B108","v":24},{"$f":"+'4004RConfigurator'!D108","v":"Skinner"},{"$f":"+'4004RConfigurator'!E108","v":"71395SN2ENJ1N0H111C2 (Skinner coil H111C2)"},{"$f":"+'4004RConfigurator'!M108","v":420},"Both 4004R and 4007ES"]
[{"$f":"+'4004RConfigurator'!B109","v":25},{"$f":"+'4004RConfigurator'!D109","v":"Skinner"},{"$f":"+'4004RConfigurator'!E109","v":"73212BN4TN00N0C111C2 (Skinner coil C111C2)"},{"$f":"+'4004RConfigurator'!M109","v":420},"Both 4004R and 4007ES"]
[{"$f":"+'4004RConfigurator'!B110","v":26},{"$f":"+'4004RConfigurator'!D110","v":"Skinner"},{"$f":"+'4004RConfigurator'!E110","v":"73212BN4TNLVN0C322C2 (Skinner coil C322C2)"},{"$f":"+'4004RConfigurator'!M110","v":830},"Both 4004R and 4007ES"]
[{"$f":"+'4004RConfigurator'!B111","v":27},{"$f":"+'4004RConfigurator'!D111","v":"Skinner"},{"$f":"+'4004RConfigurator'!E111","v":"73218BN4UNLVN0H111C2 (Skinner coil H111C2)"},{"$f":"+'4004RConfigurator'!M111","v":410},"Both 4004R and 4007ES"]
[{"$f":"+'4004RConfigurator'!B112","v":28},{"$f":"+'4004RConfigurator'!D112","v":"Skinner"},{"$f":"+'4004RConfigurator'!E112","v":"73218BN4UNLVN0C111C2 (Skinner coil C111C2)"},{"$f":"+'4004RConfigurator'!M112","v":410},"Both 4004R and 4007ES"]
[{"$f":"+'4004RConfigurator'!B113","v":29},{"$f":"+'4004RConfigurator'!D113","v":"Minimax"},{"$f":"+'4004RConfigurator'!E113","v":"MX1230 without diode"},{"$f":"+'4004RConfigurator'!M113","v":420},"Both 4004R and 4007ES"]
[{"$f":"+'4004RConfigurator'!B114","v":30},{"$f":"+'4004RConfigurator'!D114","v":"Burkert"},{"$f":"+'4004RConfigurator'!E114","v":"5282 2/2-Way Solenoid Valve"},{"$f":"+'4004RConfigurator'!M114","v":333},"Both 4004R and 4007ES"]
[{"$f":"+'4004RConfigurator'!B115","v":31},{"$f":"+'4004RConfigurator'!D115","v":"Versa"},{"$f":"+'4004RConfigurator'!E115","v":"CGS-4292-NB3-S20000"},{"$f":"+'4004RConfigurator'!M115","v":438},"Both 4004R and 4007ES"]
[{"$f":"+'4004RConfigurator'!B116","v":32},{"$f":"+'4004RConfigurator'!D116","v":"Tyco"},{"$f":"+'4004RConfigurator'!E116","v":"Model TSP 304205030"},{"$f":"+'4004RConfigurator'!M116","v":500},"Both 4004R and 4007ES"]
[{"$f":"+'4004RConfigurator'!B117","v":33},{"$f":"+'4004RConfigurator'!D117","v":"Tyco"},{"$f":"+'4004RConfigurator'!E117","v":"Model TSP 304700001"},{"$f":"+'4004RConfigurator'!M117","v":830},"Both 4004R and 4007ES"]
[{"$f":"+'4004RConfigurator'!B118","v":34},{"$f":"+'4004RConfigurator'!D118","v":"Masteco"},{"$f":"+'4004RConfigurator'!E118","v":"Model MSC-01"},{"$f":"+'4004RConfigurator'!M118","v":1700},"Both 4004R and 4007ES"]
[{"$f":"+'4004RConfigurator'!B119","v":35},{"$f":"+'4004RConfigurator'!D119","v":"Alan Customised 1"},{"$f":"+'4004RConfigurator'!E119","v":"Alan Test Release Actuators'1250mA"},{"$f":"+'4004RConfigurator'!M119","v":1250},"Both 4004R and 4007ES"]
[{"$f":"+'4004RConfigurator'!B120","v":36},{"$f":"+'4004RConfigurator'!D120","v":"Test2"},{"$f":"+'4004RConfigurator'!E120","v":"Release Actuators'1500mA"},{"$f":"+'4004RConfigurator'!M120","v":1500},"Both 4004R and 4007ES"]
[{"$f":"+'4004RConfigurator'!B121","v":37},{"$f":"+'4004RConfigurator'!D121","v":"Test2"},{"$f":"+'4004RConfigurator'!E121","v":"Release Actuators'1750mA"},{"$f":"+'4004RConfigurator'!M121","v":1750},"Both 4004R and 4007ES"]
[{"$f":"+'4004RConfigurator'!B122","v":38},{"$f":"+'4004RConfigurator'!D122","v":"Test2"},{"$f":"+'4004RConfigurator'!E122","v":"Release Actuators2000mA"},{"$f":"+'4004RConfigurator'!M122","v":2000},"Both 4004R and 4007ES"]
[{"$f":"+'4004RConfigurator'!B123","v":39},{"$f":"+'4004RConfigurator'!D123","v":"Input5A"},{"$f":"+'4004RConfigurator'!E123","v":"Release Actuators Input5B"},{"$f":"+'4004RConfigurator'!M123","v":0},"Both 4004R and 4007ES"]
[{"$f":"+'4004RConfigurator'!B124","v":40},{"$f":"+'4004RConfigurator'!D124","v":"Input6A"},{"$f":"+'4004RConfigurator'!E124","v":"Release ActuatorsInput6B"},{"$f":"+'4004RConfigurator'!M124","v":0},"Both 4004R and 4007ES"]
[{"$f":"+'4004RConfigurator'!B125","v":41},{"$f":"+'4004RConfigurator'!D125","v":"Input7A"},{"$f":"+'4004RConfigurator'!E125","v":"Release ActuatorsInput7B"},{"$f":"+'4004RConfigurator'!M125","v":0},"Both 4004R and 4007ES"]
[{"$f":"+'4004RConfigurator'!B126","v":42},{"$f":"+'4004RConfigurator'!D126","v":"Input8A"},{"$f":"+'4004RConfigurator'!E126","v":"Release ActuatorsInput8B"},{"$f":"+'4004RConfigurator'!M126","v":0},"Both 4004R and 4007ES"]
[{"$f":"+'4004RConfigurator'!B127","v":43},{"$f":"+'4004RConfigurator'!D127","v":"Input9A"},{"$f":"+'4004RConfigurator'!E127","v":"Release ActuatorsInput9B"},{"$f":"+'4004RConfigurator'!M127","v":0},"Both 4004R and 4007ES"]
[{"$f":"+'4004RConfigurator'!B128","v":44},{"$f":"+'4004RConfigurator'!D128","v":"Input10A"},{"$f":"+'4004RConfigurator'!E128","v":"Release ActuatorsInput10B"},{"$f":"+'4004RConfigurator'!M128","v":0},"Both 4004R and 4007ES"]
[{"$f":"+'4004RConfigurator'!B129","v":45},{"$f":"+'4004RConfigurator'!D129","v":"Input11A"},{"$f":"+'4004RConfigurator'!E129","v":"Release ActuatorsInput11B"},{"$f":"+'4004RConfigurator'!M129","v":0},"Both 4004R and 4007ES"]
[{"$f":"+'4004RConfigurator'!B130","v":46},{"$f":"+'4004RConfigurator'!D130","v":"Input12A"},{"$f":"+'4004RConfigurator'!E130","v":"Release ActuatorsInput12B"},{"$f":"+'4004RConfigurator'!M130","v":0},"Both 4004R and 4007ES"]

{"sheet":"4007ES(Addr)","index":12,"n_rows":216,"n_cols":87,"rows_kept":216,"cut":false,"hidden":false,"merged":[[142,67,142,69],[143,67,143,71],[144,67,144,68],[215,65,216,65],[215,66,216,66],[215,67,216,67],[215,68,216,68],[215,69,216,69],[215,70,216,70],[17,65,17,67],[17,68,17,71],[17,72,17,75],[17,76,17,79],[17,80,17,83],[45,66,45,68],[45,71,45,73],[45,76,45,78],[45,81,45,83],[43,66,43,68],[43,71,43,73],[43,76,43,78],[43,81,43,83],[44,66,44,68],[44,71,44,73],[44,76,44,78],[44,81,44,83],[41,66,41,68],[41,71,41,73],[41,76,41,78],[41,81,41,83],[42,66,42,68],[42,71,42,73],[42,76,42,78],[42,81,42,83],[8,1,8,34],[9,1,9,34],[10,1,10,34],[17,25,17,28],[15,5,17,7],[17,10,17,12],[17,13,17,16],[17,17,17,20],[13,5,13,8],[12,5,12,8],[132,5,132,7],[45,47,45,48],[133,6,135,6],[133,8,135,8],[17,21,17,24],[41,11,41,13],[42,11,42,13],[45,16,45,18],[44,21,44,23],[45,21,45,23],[44,11,44,13],[45,11,45,13],[44,16,44,18],[44,26,44,28],[45,26,45,28],[131,5,131,7],[142,12,142,14],[41,26,41,28],[42,26,42,28],[43,26,43,28],[43,16,43,18],[43,21,43,23],[41,16,41,18],[42,16,42,18],[41,21,41,23],[42,21,42,23],[130,5,130,7],[41,8,43,8],[1,3,1,11],[215,14,216,14],[215,15,216,15],[43,11,43,13],[187,6,189,7],[215,10,216,10],[215,11,216,11],[215,12,216,12],[215,13,216,13],[170,6,171,6],[172,6,173,6],[44,8,45,8],[143,12,143,16],[144,12,144,13]]}
["`"]
[null,null,null,"** Note:\nThis tools have all the standard default devices requirement and you only have to change the following device and you still can overide all those in Blue highlighted cells.\n1.  IDC device could be other than smoke detectors.\n2.  The solenoid and you can add or modified as per in the Add in device tab."]
[]
[{"$f":"+'4007ES(Addr)'!I$151","v":"4606-9205(BA)"},{"$f":"+'4007ES(Addr)'!C$151","v":"Remote Color Touchscreen LCD Annunciator-Beige - Max 6"},{"$f":"+'4007ES(Addr)'!$K$151*'4007ES(Addr)'!$AF$151","v":0},{"$f":"+'4007ES(Addr)'!$K$151*'4007ES(Addr)'!$AG$151","v":0},{"$f":"+'4007ES(Addr)'!L$151*'4007ES(Addr)'!$AF$151","v":0},{"$f":"+'4007ES(Addr)'!L$151*'4007ES(Addr)'!$AG$151","v":0},{"$f":"+'4007ES(Addr)'!M$151*'4007ES(Addr)'!$AF$151","v":0},{"$f":"+'4007ES(Addr)'!M$151*'4007ES(Addr)'!$AG$151","v":0},{"$f":"+'4007ES(Addr)'!N$151*'4007ES(Addr)'!$AF$151","v":0},null,{"$f":"+'4007ES(Addr)'!N$151*'4007ES(Addr)'!$AG$151","v":0},{"$f":"+'4007ES(Addr)'!$O$151*'4007ES(Addr)'!$AF$151","v":0},{"$f":"+'4007ES(Addr)'!$O$151*'4007ES(Addr)'!$AG$151","v":0},{"$f":"+'4007ES(Addr)'!$P$151*'4007ES(Addr)'!$AF$151","v":0},{"$f":"+'4007ES(Addr)'!$P$151*'4007ES(Addr)'!$AG$151","v":0},{"$f":"+'4007ES(Addr)'!$Q$151*'4007ES(Addr)'!$AF$151","v":0},{"$f":"+'4007ES(Addr)'!$Q$151*'4007ES(Addr)'!$AG$151","v":0},{"$f":"+'4007ES(Addr)'!$R$151*'4007ES(Addr)'!$AF$151","v":0},{"$f":"+'4007ES(Addr)'!$R$151*'4007ES(Addr)'!$AG$151","v":0},{"$f":"+'4007ES(Addr)'!$P$151*'4007ES(Addr)'!$AF$151","v":0},{"$f":"+'4007ES(Addr)'!$P$151*'4007ES(Addr)'!$AG$151","v":0},{"$f":"+'4007ES(Addr)'!$Q$151*'4007ES(Addr)'!$AF$151","v":0},{"$f":"+'4007ES(Addr)'!$Q$151*'4007ES(Addr)'!$AG$151","v":0},{"$f":"+'4007ES(Addr)'!$R$151*'4007ES(Addr)'!$AF$151","v":0},{"$f":"+'4007ES(Addr)'!$R$151*'4007ES(Addr)'!$AG$151","v":0},{"$f":"+'4007ES(Addr)'!$S$151*'4007ES(Addr)'!$AF$151","v":0},{"$f":"+'4007ES(Addr)'!$S$151*'4007ES(Addr)'!$AG$151","v":0},{"$f":"+'4007ES(Addr)'!$T$151*'4007ES(Addr)'!$AF$151","v":0},{"$f":"+'4007ES(Addr)'!$T$151*'4007ES(Addr)'!$AG$151","v":0},{"$f":"+'4007ES(Addr)'!$U$151*'4007ES(Addr)'!$AF$151","v":0},{"$f":"+'4007ES(Addr)'!$U$151*'4007ES(Addr)'!$AG$151","v":0},{"$f":"+'4007ES(Addr)'!$V$151*'4007ES(Addr)'!$AF$151","v":0},{"$f":"+'4007ES(Addr)'!$V$151*'4007ES(Addr)'!$AG$151","v":0},{"$f":"+'4007ES(Addr)'!$W$151*'4007ES(Addr)'!$AF$151","v":0},{"$f":"+'4007ES(Addr)'!$W$151*'4007ES(Addr)'!$AG$151","v":0},{"$f":"+'4007ES(Addr)'!$X$151*'4007ES(Addr)'!$AF$151","v":0},{"$f":"+'4007ES(Addr)'!$X$151*'4007ES(Addr)'!$AG$151","v":0},{"$f":"+'4007ES(Addr)'!$Y$151*'4007ES(Addr)'!$AF$151","v":0},{"$f":"+'4007ES(Addr)'!$Y$151*'4007ES(Addr)'!$AG$151","v":0},{"$f":"+'4007ES(Addr)'!$Z$151*'4007ES(Addr)'!$AF$151","v":0},{"$f":"+'4007ES(Addr)'!$Z$151*'4007ES(Addr)'!$AG$151","v":0},{"$f":"+'4007ES(Addr)'!$AA$151*'4007ES(Addr)'!$AF$151","v":0},{"$f":"+'4007ES(Addr)'!$AA$151*'4007ES(Addr)'!$AG$151","v":0}]
[]
[]
[]
[]
[]
[null,"4007ES Addressable Suppression Panel Default of  100 Addressable Points, 8 Point Zone/Relay Card and 4 Conventional NACs(6 Amp)",null,null,null,null,null,null,null,null,null,null,null,null,null,null,null,null,null,null,null,null,null,null,null,null,null,null,null,null,null,null,null,null,null,null,null,null,null,null,null,null,null,null,null,null,null,null,null,null,null,null,"Do not erase for hide and hide macros"]
[]
[null," "," "," ",null,null,null,null,null,null,null,null,null,null,null,null,null,null,null,null,null,null,null,null,null,null,null,null,null,null,null,null,null,null,null,null,null,null,null,null,null,null,null,null,null,null,null,null,null,null,null,null,null,"From","To"]
[null,null,null,null,null,"1A. Enter Hazard Area Name",null,null,null,null," "," "," "," "," "," "," "," "," "," "," "," ","  "," "," "," "," "," "," "," ",null,null,null,null,null,null,null,null,null,null,null,null,null,null,null,null,null,null,null,null,null,null,"H20","AD","AD",null,null,null,null,null,null,null,null,null,null," "," "," "," "," "," "," "," "," "," "," "," ","  "," "," "," "," "," "," "," "]
[null,null,null,null,null,"Unhide More Hazard Zone Selection by Clicking on Buttons",null,null,null,null,null,null,null,null,null,null,null,null,null,null,null,null,null,null,null,null,null,null,null,null,null,null,null,null,null,null,null,null,null,null,null,null,null,null,null,null,null,null,null,null,null,null,"H16-19","Z","AC"]
[" ",null,null,null,null,null," ",null," ",null,"Hazard 1","Hazard 2","Hazard 3","Hazard 4","Hazard 5","Hazard 6","Hazard 7","Hazard 8","Hazard 9","Hazard 10","Hazard 11","Hazard 12","Hazard 13","Hazard 14","Hazard 15","Hazard 16","Hazard 17","Hazard 18","Hazard 19","Hazard 20",null,"Standby/Aux","Alarm/Aux","Remarks",{"$f":"IF(AH15=\"Aux PS\",1,0)","v":0},null,null,null,null,null,null,null,null,null," ",null," "," ",null,null,null,null,"H12-15","V","Y",null,null,null,null,null,null,null,null,null,null,"Hazard 1","Hazard 2","Hazard 3","Hazard 4","Hazard 5","Hazard 6","Hazard 7","Hazard 8","Hazard 9","Hazard 10","Hazard 11","Hazard 12","Hazard 13","Hazard 14","Hazard 15","Hazard 16","Hazard 17","Hazard 18","Hazard 19","Hazard 20"]
[" "," ","Step 1A: Assign 1 for Zone to be valid","  "," ","Selecting Preaction Result in\n1.  Class A NAC\n2.  90Ah Battery",null,null,"Hazard Zone Auto Assign",null,{"$f":"IF(K$19=\"No Selection\",0,1)","v":0},0,0,0,0,0,0,0,0,0,0,0,0,0,0,0,0,0,0,{"$f":"IF(AD$19=\"No Selection\",0,1)","v":0},{"$f":"+'4007ES(Addr)'!$U$151*'4007ES(Addr)'!$AG$151","v":0},{"$f":"+'4007ES(Addr)'!$V$151*'4007ES(Addr)'!$AF$151","v":0},{"$f":"+'4007ES(Addr)'!$V$151*'4007ES(Addr)'!$AG$151","v":0},{"$f":"+'4007ES(Addr)'!$W$151*'4007ES(Addr)'!$AF$151","v":0},{"$f":"+'4007ES(Addr)'!$W$151*'4007ES(Addr)'!$AG$151","v":0},{"$f":"+'4007ES(Addr)'!$X$151*'4007ES(Addr)'!$AF$151","v":0},{"$f":"+'4007ES(Addr)'!$X$151*'4007ES(Addr)'!$AG$151","v":0},{"$f":"+'4007ES(Addr)'!$Y$151*'4007ES(Addr)'!$AF$151","v":0},{"$f":"+'4007ES(Addr)'!$Y$151*'4007ES(Addr)'!$AG$151","v":0},{"$f":"+'4007ES(Addr)'!$Z$151*'4007ES(Addr)'!$AF$151","v":0},{"$f":"+'4007ES(Addr)'!$Z$151*'4007ES(Addr)'!$AG$151","v":0},{"$f":"+'4007ES(Addr)'!$AA$151*'4007ES(Addr)'!$AF$151","v":0},{"$f":"+'4007ES(Addr)'!$AA$151*'4007ES(Addr)'!$AG$151","v":0},null," "," ",null," ","  ",null,null,null,"H8-11","R","U",null,null,null,null,null,null,null,null,null,null,{"$f":"IF(BN$19=\"No Selection\",0,1)","v":0},{"$f":"IF(BO$19=\"No Selection\",0,1)","v":0},{"$f":"IF(BP$19=\"No Selection\",0,1)","v":0},{"$f":"IF(BQ$19=\"No Selection\",0,1)","v":0},0,0,0,0,0,0,0,0,0,0,0,0,0,0,0,0]
[" "," ","Step 1B:  Is this a Gas or Preaction/Deluige Application"," "," ",null,null,null,"1B. GAS or Water Suppression",null,"Gas","Gas","Gas","Gas","Gas","Gas","Gas","Gas","Gas","Gas","Gas","Gas","Gas","Gas","Gas","Gas","Gas","Gas","Gas","Gas",{"$f":"+'4007ES(Addr)'!$U$151*'4007ES(Addr)'!$AG$151","v":0},{"$f":"+'4007ES(Addr)'!$V$151*'4007ES(Addr)'!$AF$151","v":0},{"$f":"+'4007ES(Addr)'!$V$151*'4007ES(Addr)'!$AG$151","v":0},{"$f":"+'4007ES(Addr)'!$W$151*'4007ES(Addr)'!$AF$151","v":0},{"$f":"+'4007ES(Addr)'!$W$151*'4007ES(Addr)'!$AG$151","v":0},{"$f":"+'4007ES(Addr)'!$X$151*'4007ES(Addr)'!$AF$151","v":0},{"$f":"+'4007ES(Addr)'!$X$151*'4007ES(Addr)'!$AG$151","v":0},{"$f":"+'4007ES(Addr)'!$Y$151*'4007ES(Addr)'!$AF$151","v":0},{"$f":"+'4007ES(Addr)'!$Y$151*'4007ES(Addr)'!$AG$151","v":0},{"$f":"+'4007ES(Addr)'!$Z$151*'4007ES(Addr)'!$AF$151","v":0},{"$f":"+'4007ES(Addr)'!$Z$151*'4007ES(Addr)'!$AG$151","v":0},{"$f":"+'4007ES(Addr)'!$AA$151*'4007ES(Addr)'!$AF$151","v":0},{"$f":"+'4007ES(Addr)'!$AA$151*'4007ES(Addr)'!$AG$151","v":0},null,null,null,null,null,null,null,null,null,"H4-7","N","Q",null,null,null,null,null,null,null,null,null,1,"Gas","Gas","Gas","Gas","Gas","Gas","Gas","Gas","Gas","Gas","Gas","Gas","Gas","Gas","Gas","Gas","Gas","Gas","Gas","Gas"]
[" "," ","Total Hazard Zones Selected"," "," ",null,null,null,{"$f":"+K18+N18+V18+Z18+AD18","v":0},null,{"$f":"SUM(BN18:BP18)","v":0},null,null,{"$f":"SUM(BQ18:BT18)","v":0},null,null,null,{"$f":"SUM(BU18:BX18)","v":0},null,null,null,{"$f":"SUM(CB18:CE18)","v":0},null,null,null,{"$f":"+'4007ES(Addr)'!$S$151*'4007ES(Addr)'!$AF$151","v":0},null,null,null,{"$f":"+CG18","v":0},{"$f":"+'4007ES(Addr)'!$U$151*'4007ES(Addr)'!$AG$151","v":0},{"$f":"+'4007ES(Addr)'!$V$151*'4007ES(Addr)'!$AF$151","v":0},{"$f":"+'4007ES(Addr)'!$V$151*'4007ES(Addr)'!$AG$151","v":0},{"$f":"+'4007ES(Addr)'!$W$151*'4007ES(Addr)'!$AF$151","v":0},{"$f":"+'4007ES(Addr)'!$W$151*'4007ES(Addr)'!$AG$151","v":0},{"$f":"+'4007ES(Addr)'!$X$151*'4007ES(Addr)'!$AF$151","v":0},{"$f":"+'4007ES(Addr)'!$X$151*'4007ES(Addr)'!$AG$151","v":0},{"$f":"+'4007ES(Addr)'!$Y$151*'4007ES(Addr)'!$AF$151","v":0},{"$f":"+'4007ES(Addr)'!$Y$151*'4007ES(Addr)'!$AG$151","v":0},{"$f":"+'4007ES(Addr)'!$Z$151*'4007ES(Addr)'!$AF$151","v":0},{"$f":"+'4007ES(Addr)'!$Z$151*'4007ES(Addr)'!$AG$151","v":0},{"$f":"+'4007ES(Addr)'!$AA$151*'4007ES(Addr)'!$AF$151","v":0},{"$f":"+'4007ES(Addr)'!$AA$151*'4007ES(Addr)'!$AG$151","v":0},null,null,null,null,null,null,null,null,null,"H4-20","N","AD",null,null,null,null,null,null,null,null,null,null,{"$f":"SUM(DQ18:DS18)","v":0},null,null,{"$f":"SUM(DT18:DW18)","v":0},null,null,null,{"$f":"SUM(DX18:EA18)","v":0},null,null,null,{"$f":"SUM(EE18:EH18)","v":0},null,null,null,{"$f":"+'4007ES(Addr)'!$S$151*'4007ES(Addr)'!$AF$151","v":0},null,null,null,{"$f":"+EJ18","v":0}]
[" "," ","Step 1C:"," "," "," "," "," ","1C. Allocate Panel to Hazard Zone",null,"No Selection","No Selection","No Selection","No Selection","No Selection","No Selection","No Selection","No Selection","No Selection","No Selection","No Selection","No Selection","No Selection","No Selection","No Selection","No Selection","No Selection","No Selection","No Selection","No Selection",{"$f":"+'4007ES(Addr)'!$U$151*'4007ES(Addr)'!$AG$151","v":0},{"$f":"+'4007ES(Addr)'!$V$151*'4007ES(Addr)'!$AF$151","v":0},{"$f":"+'4007ES(Addr)'!$V$151*'4007ES(Addr)'!$AG$151","v":0},{"$f":"+'4007ES(Addr)'!$W$151*'4007ES(Addr)'!$AF$151","v":0},{"$f":"+'4007ES(Addr)'!$W$151*'4007ES(Addr)'!$AG$151","v":0},{"$f":"+'4007ES(Addr)'!$X$151*'4007ES(Addr)'!$AF$151","v":0},{"$f":"+'4007ES(Addr)'!$X$151*'4007ES(Addr)'!$AG$151","v":0},{"$f":"+'4007ES(Addr)'!$Y$151*'4007ES(Addr)'!$AF$151","v":0},{"$f":"+'4007ES(Addr)'!$Y$151*'4007ES(Addr)'!$AG$151","v":0},{"$f":"+'4007ES(Addr)'!$Z$151*'4007ES(Addr)'!$AF$151","v":0},{"$f":"+'4007ES(Addr)'!$Z$151*'4007ES(Addr)'!$AG$151","v":0},{"$f":"+'4007ES(Addr)'!$AA$151*'4007ES(Addr)'!$AF$151","v":0},{"$f":"+'4007ES(Addr)'!$AA$151*'4007ES(Addr)'!$AG$151","v":0},null,null,null,null,null,null,null,null,null,null,null,null,null,null,null,null,null,null,null,null,null,2,"No Selection","No Selection","No Selection","No Selection","No Selection","No Selection","No Selection","No Selection","No Selection","No Selection","No Selection","No Selection","No Selection","No Selection","No Selection","No Selection","No Selection","No Selection","No Selection","No Selection",null,"4007ES"]
[" ",null,"For NAC Repeater you could select Other Repeater Circuits to Maximised",null," ",null,null,null,null,null,{"$f":"IF(BN19=\"4007ES\",1,(IF(LEFT(BQ19,3)=\"NAC\",0,1)))+BL21","v":1},{"$f":"IF(BO19=\"4007ES\",1,0)+BL22","v":0},{"$f":"IF(BP19=\"4007ES\",1,0)+BL23","v":0},{"$f":"IF(LEFT(BQ19,3)=\"NAC\",1,0)","v":0},{"$f":"IF(LEFT(O19,3)=\"NAC\",1,0)","v":0},0,0,0,0,0,0,0,0,0,0,0,0,0,0,0,null,null,null,null,0,null,null,null,null,null,null,null,null,"Do Not erase, for summarising Gas or Preaction according to Panel linked to Hazard Zone(Min 01 Zone to Qualfied.",null,null,null,null,null,null,null,null,null,null,null,null,null,null,null,null,null,null,null,null,null,{"$f":"IF(DQ19=\"4007ES\",1,(IF(LEFT(DT19,3)=\"NAC\",0,1)))+DO21","v":1},{"$f":"IF(DR19=\"4007ES\",1,0)+DO22","v":0},{"$f":"IF(DS19=\"4007ES\",1,0)+DO23","v":0},{"$f":"IF(LEFT(DT19,3)=\"NAC\",1,0)","v":0},{"$f":"IF(LEFT(BR19,3)=\"NAC\",1,0)","v":0},0,0,0,0,0,0,0,0,0,0,0,0,0,0,0]
[{"$f":"+AH21","v":0},null," ",null,null,null,null,null,{"$f":"IF(LEFT(K19,3)=\"NAC\",1,0)","v":0},null,{"$f":"IF($K$19=\"NAC Repeat 1\",1,IF($K$19=\"NAC Repeat 2\",2,IF($K$19=\"NAC Repeat 3\",3,IF($K$19=\"NAC Repeat 4\",4,IF($K$19=\"NAC Repeat 5\",5,IF($K$19=\"4007ES\",6,0))))))","v":0},{"$f":"IF($L$19=\"NAC Repeat 1\",1,IF($L$19=\"NAC Repeat 2\",2,IF($L$19=\"NAC Repeat 3\",3,IF($L$19=\"NAC Repeat 4\",4,IF($L$19=\"NAC Repeat 5\",5,IF($L$19=\"4007ES\",6,0))))))","v":0},{"$f":"IF(M$19=\"NAC Repeat 1\",1,IF(M$19=\"NAC Repeat 2\",2,IF(M$19=\"NAC Repeat 3\",3,IF(M$19=\"NAC Repeat 4\",4,IF(M$19=\"NAC Repeat 5\",5,IF(M$19=\"4007ES\",6,0))))))","v":0},0,0,0,0,0,0,0,0,0,0,0,0,0,0,0,0,0,null,null,null,null,0,null,null,null,null,null,null,null,null,null,null,null,null,null,null,null,null,null,null,null,null,null,null,null,null,null,null,null,null,null,null,{"$f":"IF($K$19=\"NAC Repeat 1\",1,IF($K$19=\"NAC Repeat 2\",2,IF($K$19=\"NAC Repeat 3\",3,IF($K$19=\"NAC Repeat 4\",4,IF($K$19=\"NAC Repeat 5\",5,IF($K$19=\"4007ES\",6,0))))))","v":0},{"$f":"IF($L$19=\"NAC Repeat 1\",1,IF($L$19=\"NAC Repeat 2\",2,IF($L$19=\"NAC Repeat 3\",3,IF($L$19=\"NAC Repeat 4\",4,IF($L$19=\"NAC Repeat 5\",5,IF($L$19=\"4007ES\",6,0))))))","v":0},{"$f":"IF(BP$19=\"NAC Repeat 1\",1,IF(BP$19=\"NAC Repeat 2\",2,IF(BP$19=\"NAC Repeat 3\",3,IF(BP$19=\"NAC Repeat 4\",4,IF(BP$19=\"NAC Repeat 5\",5,IF(BP$19=\"4007ES\",6,0))))))","v":0},0,0,0,0,0,0,0,0,0,0,0,0,0,0,0,0,0]
[0,null,null,null,null,null,null,null,{"$f":"IF(LEFT(L19,3)=\"NAC\",1,0)","v":0},null,{"$f":"IF(K17=\"Gas\",0,1)","v":0},0,0,0,0,0,0,0,0,0,0,0,0,0,0,0,0,0,0,0,null,null,null,null,0,null,null,null,null,null,null,null,null,null,null,null,null,null,null,null,null,null,null,null,null,null,null,null,null,null,null,null,null,null,null,{"$f":"IF(BN17=\"Gas\",0,1)","v":0},0,0,0,0,0,0,0,0,0,0,0,0,0,0,0,0,0,0,0]
[0,null,null,null,null,null,null,null,{"$f":"IF(LEFT(M19,3)=\"NAC\",1,0)","v":0},null,{"$f":"_xlfn.IFS(K21=0,K22*K21,K21=1,K22*K21,K21=2,K22*K21,K21=3,K22*K21,K21=4,K22*K21,K21=5,K22*K21,K21=6,K22*K21)","v":0},{"$f":"_xlfn.IFS(L21=0,L22*L21,L21=1,L22*L21,L21=2,L22*L21,L21=3,L22*L21,L21=4,L22*L21,L21=5,L22*L21,L21=6,L22*L21)","v":0},{"$f":"_xlfn.IFS(M21=0,M22*M21,M21=1,M22*M21,M21=2,M22*M21,M21=3,M22*M21,M21=4,M22*M21,M21=5,M22*M21,M21=6,M22*M21)","v":0},{"$f":"_xlfn.IFS(N21=0,N22*N21,N21=1,N22*N21,N21=2,N22*N21,N21=3,N22*N21,N21=4,N22*N21,N21=5,N22*N21,N21=6,N22*N21)","v":0},{"$f":"_xlfn.IFS(O21=0,O22*O21,O21=1,O22*O21,O21=2,O22*O21,O21=3,O22*O21,O21=4,O22*O21,O21=5,O22*O21,O21=6,O22*O21)","v":0},{"$f":"_xlfn.IFS(P21=0,P22*P21,P21=1,P22*P21,P21=2,P22*P21,P21=3,P22*P21,P21=4,P22*P21,P21=5,P22*P21,P21=6,P22*P21)","v":0},{"$f":"_xlfn.IFS(Q21=0,Q22*Q21,Q21=1,Q22*Q21,Q21=2,Q22*Q21,Q21=3,Q22*Q21,Q21=4,Q22*Q21,Q21=5,Q22*Q21,Q21=6,Q22*Q21)","v":0},{"$f":"_xlfn.IFS(R21=0,R22*R21,R21=1,R22*R21,R21=2,R22*R21,R21=3,R22*R21,R21=4,R22*R21,R21=5,R22*R21,R21=6,R22*R21)","v":0},{"$f":"_xlfn.IFS(S21=0,S22*S21,S21=1,S22*S21,S21=2,S22*S21,S21=3,S22*S21,S21=4,S22*S21,S21=5,S22*S21,S21=6,S22*S21)","v":0},{"$f":"_xlfn.IFS(T21=0,T22*T21,T21=1,T22*T21,T21=2,T22*T21,T21=3,T22*T21,T21=4,T22*T21,T21=5,T22*T21,T21=6,T22*T21)","v":0},{"$f":"_xlfn.IFS(U21=0,U22*U21,U21=1,U22*U21,U21=2,U22*U21,U21=3,U22*U21,U21=4,U22*U21,U21=5,U22*U21,U21=6,U22*U21)","v":0},{"$f":"_xlfn.IFS(V21=0,V22*V21,V21=1,V22*V21,V21=2,V22*V21,V21=3,V22*V21,V21=4,V22*V21,V21=5,V22*V21,V21=6,V22*V21)","v":0},{"$f":"_xlfn.IFS(W21=0,W22*W21,W21=1,W22*W21,W21=2,W22*W21,W21=3,W22*W21,W21=4,W22*W21,W21=5,W22*W21,W21=6,W22*W21)","v":0},{"$f":"_xlfn.IFS(X21=0,X22*X21,X21=1,X22*X21,X21=2,X22*X21,X21=3,X22*X21,X21=4,X22*X21,X21=5,X22*X21,X21=6,X22*X21)","v":0},{"$f":"_xlfn.IFS(Y21=0,Y22*Y21,Y21=1,Y22*Y21,Y21=2,Y22*Y21,Y21=3,Y22*Y21,Y21=4,Y22*Y21,Y21=5,Y22*Y21,Y21=6,Y22*Y21)","v":0},{"$f":"_xlfn.IFS(Z21=0,Z22*Z21,Z21=1,Z22*Z21,Z21=2,Z22*Z21,Z21=3,Z22*Z21,Z21=4,Z22*Z21,Z21=5,Z22*Z21,Z21=6,Z22*Z21)","v":0},{"$f":"_xlfn.IFS(AA21=0,AA22*AA21,AA21=1,AA22*AA21,AA21=2,AA22*AA21,AA21=3,AA22*AA21,AA21=4,AA22*AA21,AA21=5,AA22*AA21,AA21=6,AA22*AA21)","v":0},{"$f":"_xlfn.IFS(AB21=0,AB22*AB21,AB21=1,AB22*AB21,AB21=2,AB22*AB21,AB21=3,AB22*AB21,AB21=4,AB22*AB21,AB21=5,AB22*AB21,AB21=6,AB22*AB21)","v":0},{"$f":"_xlfn.IFS(AC21=0,AC22*AC21,AC21=1,AC22*AC21,AC21=2,AC22*AC21,AC21=3,AC22*AC21,AC21=4,AC22*AC21,AC21=5,AC22*AC21,AC21=6,AC22*AC21)","v":0},{"$f":"_xlfn.IFS(AD21=0,AD22*AD21,AD21=1,AD22*AD21,AD21=2,AD22*AD21,AD21=3,AD22*AD21,AD21=4,AD22*AD21,AD21=5,AD22*AD21,AD21=6,AD22*AD21)","v":0},null,null,null,null,0,null,null,null,null,null,null,null,null,null,null,null,null,null,null,null,null,null,null,null,null,null,null,null,null,null,null,null,null,null,null,{"$f":"_xlfn.IFS(BN21=0,BN22*BN21,BN21=1,BN22*BN21,BN21=2,BN22*BN21,BN21=3,BN22*BN21,BN21=4,BN22*BN21,BN21=5,BN22*BN21,BN21=6,BN22*BN21)","v":0},{"$f":"_xlfn.IFS(BO21=0,BO22*BO21,BO21=1,BO22*BO21,BO21=2,BO22*BO21,BO21=3,BO22*BO21,BO21=4,BO22*BO21,BO21=5,BO22*BO21,BO21=6,BO22*BO21)","v":0},{"$f":"_xlfn.IFS(BP21=0,BP22*BP21,BP21=1,BP22*BP21,BP21=2,BP22*BP21,BP21=3,BP22*BP21,BP21=4,BP22*BP21,BP21=5,BP22*BP21,BP21=6,BP22*BP21)","v":0},{"$f":"_xlfn.IFS(BQ21=0,BQ22*BQ21,BQ21=1,BQ22*BQ21,BQ21=2,BQ22*BQ21,BQ21=3,BQ22*BQ21,BQ21=4,BQ22*BQ21,BQ21=5,BQ22*BQ21,BQ21=6,BQ22*BQ21)","v":0},{"$f":"_xlfn.IFS(BR21=0,BR22*BR21,BR21=1,BR22*BR21,BR21=2,BR22*BR21,BR21=3,BR22*BR21,BR21=4,BR22*BR21,BR21=5,BR22*BR21,BR21=6,BR22*BR21)","v":0},{"$f":"_xlfn.IFS(BS21=0,BS22*BS21,BS21=1,BS22*BS21,BS21=2,BS22*BS21,BS21=3,BS22*BS21,BS21=4,BS22*BS21,BS21=5,BS22*BS21,BS21=6,BS22*BS21)","v":0},{"$f":"_xlfn.IFS(BT21=0,BT22*BT21,BT21=1,BT22*BT21,BT21=2,BT22*BT21,BT21=3,BT22*BT21,BT21=4,BT22*BT21,BT21=5,BT22*BT21,BT21=6,BT22*BT21)","v":0},{"$f":"_xlfn.IFS(BU21=0,BU22*BU21,BU21=1,BU22*BU21,BU21=2,BU22*BU21,BU21=3,BU22*BU21,BU21=4,BU22*BU21,BU21=5,BU22*BU21,BU21=6,BU22*BU21)","v":0},{"$f":"_xlfn.IFS(BV21=0,BV22*BV21,BV21=1,BV22*BV21,BV21=2,BV22*BV21,BV21=3,BV22*BV21,BV21=4,BV22*BV21,BV21=5,BV22*BV21,BV21=6,BV22*BV21)","v":0},{"$f":"_xlfn.IFS(BW21=0,BW22*BW21,BW21=1,BW22*BW21,BW21=2,BW22*BW21,BW21=3,BW22*BW21,BW21=4,BW22*BW21,BW21=5,BW22*BW21,BW21=6,BW22*BW21)","v":0},{"$f":"_xlfn.IFS(BX21=0,BX22*BX21,BX21=1,BX22*BX21,BX21=2,BX22*BX21,BX21=3,BX22*BX21,BX21=4,BX22*BX21,BX21=5,BX22*BX21,BX21=6,BX22*BX21)","v":0},{"$f":"_xlfn.IFS(BY21=0,BY22*BY21,BY21=1,BY22*BY21,BY21=2,BY22*BY21,BY21=3,BY22*BY21,BY21=4,BY22*BY21,BY21=5,BY22*BY21,BY21=6,BY22*BY21)","v":0},{"$f":"_xlfn.IFS(BZ21=0,BZ22*BZ21,BZ21=1,BZ22*BZ21,BZ21=2,BZ22*BZ21,BZ21=3,BZ22*BZ21,BZ21=4,BZ22*BZ21,BZ21=5,BZ22*BZ21,BZ21=6,BZ22*BZ21)","v":0},{"$f":"_xlfn.IFS(CA21=0,CA22*CA21,CA21=1,CA22*CA21,CA21=2,CA22*CA21,CA21=3,CA22*CA21,CA21=4,CA22*CA21,CA21=5,CA22*CA21,CA21=6,CA22*CA21)","v":0},{"$f":"_xlfn.IFS(CB21=0,CB22*CB21,CB21=1,CB22*CB21,CB21=2,CB22*CB21,CB21=3,CB22*CB21,CB21=4,CB22*CB21,CB21=5,CB22*CB21,CB21=6,CB22*CB21)","v":0},{"$f":"_xlfn.IFS(CC21=0,CC22*CC21,CC21=1,CC22*CC21,CC21=2,CC22*CC21,CC21=3,CC22*CC21,CC21=4,CC22*CC21,CC21=5,CC22*CC21,CC21=6,CC22*CC21)","v":0},{"$f":"_xlfn.IFS(CD21=0,CD22*CD21,CD21=1,CD22*CD21,CD21=2,CD22*CD21,CD21=3,CD22*CD21,CD21=4,CD22*CD21,CD21=5,CD22*CD21,CD21=6,CD22*CD21)","v":0},{"$f":"_xlfn.IFS(CE21=0,CE22*CE21,CE21=1,CE22*CE21,CE21=2,CE22*CE21,CE21=3,CE22*CE21,CE21=4,CE22*CE21,CE21=5,CE22*CE21,CE21=6,CE22*CE21)","v":0},{"$f":"_xlfn.IFS(CF21=0,CF22*CF21,CF21=1,CF22*CF21,CF21=2,CF22*CF21,CF21=3,CF22*CF21,CF21=4,CF22*CF21,CF21=5,CF22*CF21,CF21=6,CF22*CF21)","v":0},{"$f":"_xlfn.IFS(CG21=0,CG22*CG21,CG21=1,CG22*CG21,CG21=2,CG22*CG21,CG21=3,CG22*CG21,CG21=4,CG22*CG21,CG21=5,CG22*CG21,CG21=6,CG22*CG21)","v":0}]
[" ",null,"Calculated Quantities Allocation per Equipment as per Selection",null,null,null,"BOM",null,"Qty",null,{"$f":"IF((COUNTIF($K21:$AD$21,\"=6\"))>0.99,1,0)","v":0},{"$f":"IF((COUNTIF($K21:$AD$21,\"=1\"))>0.99,1,0)","v":0},{"$f":"IF((COUNTIF($K21:$AD$21,\"=2\"))>0.99,1,0)","v":0},{"$f":"IF((COUNTIF($K21:$AD$21,\"=3\"))>0.99,1,0)","v":0},{"$f":"IF((COUNTIF($K21:$AD$21,\"=4\"))>0.99,1,0)","v":0},{"$f":"IF((COUNTIF($K21:$AD$21,\"=5\"))>0.99,1,0)","v":0}," ",null,null,null,null,null,null,null,null,null,null,null,null,null,null,null,null,null,0,null,null,null,null,null,null,null,null,"Hazard",{"$f":"+AS39","v":"Hazard 1"},{"$f":"+AT39","v":"Hazard 2"},"Hazard 3","Hazard 4","Hazard 5","Hazard 6","Hazard 7","Hazard 8","Hazard 9","Hazard 10","Hazard 11","Hazard 12","Hazard 13","Hazard 14","Hazard 15","Hazard 16","Hazard 17","Hazard 18","Hazard 19","Hazard 20",null,{"$f":"IF((COUNTIF($K21:$AD$21,\"=6\"))>0.99,1,0)","v":0},{"$f":"IF((COUNTIF($K21:$AD$21,\"=1\"))>0.99,1,0)","v":0},{"$f":"IF((COUNTIF($K21:$AD$21,\"=2\"))>0.99,1,0)","v":0},{"$f":"IF((COUNTIF($K21:$AD$21,\"=3\"))>0.99,1,0)","v":0},{"$f":"IF((COUNTIF($K21:$AD$21,\"=4\"))>0.99,1,0)","v":0},{"$f":"IF((COUNTIF($K21:$AD$21,\"=5\"))>0.99,1,0)","v":0}," "]
[" ",null,"Quantities Calculated by Software",null,null,null,null,null,"Equipment",null,"4007ES","NAC Repeat 1","NAC Repeat 2","NAC Repeat 3","NAC Repeat 4","NAC Repeat 5"," ",null,null,null,null," ",null,null,null,null,null,null,null,null,null,null,null,null,0,null,null,null,null,null,null,null,null,"Panel",{"$f":"+AS40","v":"No Selection"},{"$f":"+AT40","v":"No Selection"},"No Selection","No Selection","No Selection","No Selection","No Selection","No Selection","No Selection","No Selection","No Selection","No Selection","No Selection","No Selection","No Selection","No Selection","No Selection","No Selection","No Selection","No Selection",null,"4007ES","NAC Repeat 1","NAC Repeat 2","NAC Repeat 3","NAC Repeat 4","NAC Repeat 5"," ",null,null,null,null," "]
[" ",null,"Equipment: 4007ES or NAC Repeater Related to above Quantities",null,null,null,null,null,"Color/Voltage",null,"Platinium","240VAC","240VAC","240VAC","240VAC","240VAC"," ",null," "," "," "," "," "," "," "," "," "," "," "," ",null,null,null,null,0,null,null,null,null,"120VAC",null,null,null,"Type",{"$f":"+K17","v":"Gas"},{"$f":"+L17","v":"Gas"},"Gas",{"$f":"+N17","v":"Gas"},"Gas","Gas","Gas","Gas","Gas","Gas","Gas","Gas","Gas","Gas","Gas","Gas","Gas","Gas","Gas",{"$f":"+AD17","v":"Gas"},null,"Platinium","240VAC","240VAC","240VAC","240VAC","240VAC"," ",null," "," "," "," "," "," "," "," "," "," "," "," "]
[" ",null,"Check base on Quantities of RAC possible per NAC Repeater",null,null,null,null,null,"Check for RAC Limits",null,{"$f":"IF((COUNTIF(K21:AD21,6))>3.1,\"Error\", \"OK\")","v":"OK"},{"$f":"IF((COUNTIF(K21:AD21,1))>8.1,\"Error\", \"OK\")","v":"OK"},{"$f":"IF((COUNTIF(K21:AD21,2))>8.1,\"Error\", \"OK\")","v":"OK"},{"$f":"IF((COUNTIF(K21:AD21,3))>8.1,\"Error\", \"OK\")","v":"OK"},{"$f":"IF((COUNTIF(K21:AD21,4))>8.1,\"Error\", \"OK\")","v":"OK"},{"$f":"IF((COUNTIF(K21:AD21,5))>8.1,\"Error\", \"OK\")","v":"OK"},null," "," "," "," "," "," "," "," "," "," "," "," "," ",null,null,null,null,0,null,null,null,null,"240VAC",null,null,null,"Gas",{"$f":"IF(AS26=\"Gas\",1,0)","v":1},{"$f":"IF(AT26=\"Gas\",1,0)","v":1},{"$f":"IF(AU26=\"Gas\",1,0)","v":1},1,1,1,1,1,1,1,1,1,1,1,1,1,1,1,1,1,null,{"$f":"IF((COUNTIF(BN21:CG21,6))>3.1,\"Error\", \"OK\")","v":"OK"},{"$f":"IF((COUNTIF(BN21:CG21,1))>8.1,\"Error\", \"OK\")","v":"OK"},{"$f":"IF((COUNTIF(BN21:CG21,2))>8.1,\"Error\", \"OK\")","v":"OK"},{"$f":"IF((COUNTIF(BN21:CG21,3))>8.1,\"Error\", \"OK\")","v":"OK"},{"$f":"IF((COUNTIF(BN21:CG21,4))>8.1,\"Error\", \"OK\")","v":"OK"},{"$f":"IF((COUNTIF(BN21:CG21,5))>8.1,\"Error\", \"OK\")","v":"OK"},null," "," "," "," "," "," "," "," "," "," "," "," "," "]
[" ",null,"Automatic Panel and NAC Repeater Selection based on RAC requirements",null,null,null,null,null,null,null,{"$f":"IF((COUNTIF(K21:AD21,6))>3.1,\"4007ES Exceed Power Limit\", \" \")","v":" "},null,null,null,null,null,null,null,null,null,null,null,null,null,null,null,null,null,null,null,null,null,null,null,0,null,null,null,null,null,null,null,null,"Preaction",{"$f":"1-AS27","v":0},{"$f":"1-AT27","v":0},0,0,0,0,0,0,0,0,0,0,0,0,0,0,0,0,0,0]
[" ",1,{"$f":"IF(K26=\"Red\",\"4007ES Suppression Panel Red(Std Offering)\",\"4007ES Suppression Panel Platinium(Std Offering)\")","v":"4007ES Suppression Panel Platinium(Std Offering)"},"PDF",null,null,{"$f":"IF(K24>0,1,0)","v":0},null,{"$f":"+IF(K26=\"Red\",'4007ESConfigurator'!C8,'4007ESConfigurator'!C9)","v":"4007-9102"},null,"Details","NAC Repeat 1","NAC Repeat 2","NAC Repeat 3","NAC Repeat 4","NAC Repeat 5","Takes up Idnet Addr",null,null,null,null,null,null,null,null,null,null,null,null,null,null,{"$f":"IF($G29>0.9,'4007ESConfigurator'!L9,0)","v":0},{"$f":"IF($G29>0.9,'4007ESConfigurator'!M9,0)","v":0},{"$f":"IF($G29>0.9,'4007ESConfigurator'!N9,0)","v":0},0,null,null,null,null,null,null,null,null,"No Selection",{"$f":"IF(AS25=\"No Selection\",1,0)","v":1},1,1,1,1,1,1,1,1,1,1,1,1,1,1,1,1,1,1,1,null,"Details","NAC Repeat 1","NAC Repeat 2","NAC Repeat 3","NAC Repeat 4","NAC Repeat 5","Takes up Idnet Addr"]
[" ",2,"4009 IDNet NAC Extender with 4, Class B NACs and 8 A PS - 120V","PDF",null,null,{"$f":"IF(L26=\"120VAC\",1*L24,0)+IF(M26=\"120VAC\",1*M24,0)+IF(N26=\"120VAC\",1*N24,0)+IF(O26=\"120VAC\",1*O24,0)+IF(P26=\"120VAC\",1*P24,0)","v":0},null,{"$f":"+'4007ESConfigurator'!C50","v":"4009-9201"},null,"NAC Repeat 120V",{"$f":"IF(L26=\"120VAC\",L24,0)","v":0},{"$f":"IF(M26=\"120VAC\",M24,0)","v":0},{"$f":"IF(N26=\"120VAC\",N24,0)","v":0},{"$f":"IF(O26=\"120VAC\",O24,0)","v":0},{"$f":"IF(P26=\"120VAC\",P24,0)","v":0},{"$f":"SUM(L30:P30)*5","v":0},null,null,null,null,null,null,null,null,null,null,null,null,null,null,{"$f":"+'4007ESConfigurator'!L50","v":85},{"$f":"+'4007ESConfigurator'!M50","v":185},{"$f":"+'4007ESConfigurator'!N50","v":"Main AC & Idnet"},0,null,null,null,null,null,null,null,null,null," ",null,null," "," ",null,null,null,null,null,null,null,null,null,null,null,null,null,null,null,null,"NAC Repeat 120V",{"$f":"IF(BO26=\"120VAC\",BO24,0)","v":0},{"$f":"IF(BP26=\"120VAC\",BP24,0)","v":0},{"$f":"IF(BQ26=\"120VAC\",BQ24,0)","v":0},{"$f":"IF(BR26=\"120VAC\",BR24,0)","v":0},{"$f":"IF(BS26=\"120VAC\",BS24,0)","v":0},{"$f":"SUM(BO30:BS30)*5","v":0}]
[" ",3,"4009 IDNet NAC Extender with 4, Class B NACs and 8 A PS - 240V",null,null,null,{"$f":"IF(L26=\"240VAC\",1*L24,0)+IF(M26=\"240VAC\",1*M24,0)+IF(N26=\"240VAC\",1*N24,0)+IF(O26=\"240VAC\",1*O24,0)+IF(P26=\"240VAC\",1*P24,0)","v":0},null,{"$f":"+'4007ESConfigurator'!C51","v":"4009-9301"},null,"NAC Repeat 240V",{"$f":"IF(L26=\"240VAC\",L24,0)","v":0},{"$f":"IF(M26=\"240VAC\",M24,0)","v":0},{"$f":"IF(N26=\"240VAC\",N24,0)","v":0},{"$f":"IF(O26=\"240VAC\",O24,0)","v":0},{"$f":"IF(P26=\"240VAC\",P24,0)","v":0},{"$f":"SUM(L31:P31)*5","v":0}," "," "," "," "," "," "," "," "," "," "," "," "," ",null,{"$f":"+'4007ESConfigurator'!L51","v":85},{"$f":"+'4007ESConfigurator'!M51","v":185},{"$f":"+'4007ESConfigurator'!N51","v":"Main AC & Idnet"},0,null,null,null,null,null,null,null,null,null," ",null,null,null,null,null,null,null,null,null,null,null,null,null,null,null,null,null,null,null,null,"NAC Repeat 240V",{"$f":"IF(BO26=\"240VAC\",BO24,0)","v":0},{"$f":"IF(BP26=\"240VAC\",BP24,0)","v":0},{"$f":"IF(BQ26=\"240VAC\",BQ24,0)","v":0},{"$f":"IF(BR26=\"240VAC\",BR24,0)","v":0},{"$f":"IF(BS26=\"240VAC\",BS24,0)","v":0},{"$f":"SUM(BO31:BS31)*5","v":0}," "," "," "," "," "," "," "," "," "," "," "," "," "]
[" ",4,"Additional four point NAC module(NAC5-8-Rated 1.5A & NAC 1-4 - Rated 2 Amp)",null,null,null,{"$f":"SUM(L32:P32)","v":0},null,{"$f":"+'4007ESConfigurator'!C52","v":"4009-9807"},null,"NAC Module",{"$f":"IF((COUNTIF($K21:$AD$21,\"=1\"))>4.01,1,0)","v":0},{"$f":"IF((COUNTIF($K21:$AD$21,\"=2\"))>4.01,1,0)","v":0},{"$f":"IF((COUNTIF($K21:$AD$21,\"=3\"))>4.01,1,0)","v":0},{"$f":"IF((COUNTIF($K21:$AD$21,\"=4\"))>4.01,1,0)","v":0},{"$f":"IF((COUNTIF($K21:$AD$21,\"=5\"))>4.01,1,0)","v":0},{"$f":"SUM(L32:P32)*5","v":0},null,null,null,null,null,null,null,null,null,null,null,null,null,null,{"$f":"+'4007ESConfigurator'!L52","v":40},{"$f":"+'4007ESConfigurator'!M52","v":40},{"$f":"+'4007ESConfigurator'!N52","v":"Panel Powered"},0,null,null,null,null,null,null,null,null,null," ",null,null," "," ",null,null,null,null,null,null,null,null,null,null,null,null,null,null,null,null,"NAC Module",{"$f":"IF((COUNTIF($K21:$AD$21,\"=1\"))>4.01,1,0)","v":0},{"$f":"IF((COUNTIF($K21:$AD$21,\"=2\"))>4.01,1,0)","v":0},{"$f":"IF((COUNTIF($K21:$AD$21,\"=3\"))>4.01,1,0)","v":0},{"$f":"IF((COUNTIF($K21:$AD$21,\"=4\"))>4.01,1,0)","v":0},{"$f":"IF((COUNTIF($K21:$AD$21,\"=5\"))>4.01,1,0)","v":0},{"$f":"SUM(BO32:BS32)*5","v":0}]
[" ",5,{"$f":"+'4007ESConfigurator'!E53","v":"Dual Class A adapter(No Additional Current)"},null,null,null,{"$f":"SUM(L33:P33)","v":0},null,{"$f":"+'4007ESConfigurator'!C53","v":"4009-9808"},null,"NAC Class A ",{"$f":"ROUND((((COUNTIF($K$23:$AD23,\"=1\"))/2)),)","v":0},{"$f":"ROUND((((COUNTIF($K$23:$AD23,\"=2\"))/2)),)","v":0},{"$f":"ROUND((((COUNTIF($K$23:$AD23,\"=3\"))/2)),)","v":0},{"$f":"ROUND((((COUNTIF($K$23:$AD23,\"=4\"))/2)),)","v":0},{"$f":"ROUND((((COUNTIF($K$23:$AD23,\"=5\"))/2)),)","v":0},"NA",null,null,null,null,null,null,null,null,null,null,null,null,null,null,{"$f":"+'4007ESConfigurator'!L53","v":0},{"$f":"+'4007ESConfigurator'!M53","v":0},{"$f":"+'4007ESConfigurator'!N53","v":"Panel Powered"},0,null,null,null,null,null,null,null,null,null,null,null,null,null,null," ",null,null,null,null,null,null,null,null,null,null,null,null,null,null,null,"NAC Class A ",{"$f":"ROUND((((COUNTIF($K$23:$AD23,\"=1\"))/2)),)","v":0},{"$f":"ROUND((((COUNTIF($K$23:$AD23,\"=2\"))/2)),)","v":0},{"$f":"ROUND((((COUNTIF($K$23:$AD23,\"=3\"))/2)),)","v":0},{"$f":"ROUND((((COUNTIF($K$23:$AD23,\"=4\"))/2)),)","v":0},{"$f":"ROUND((((COUNTIF($K$23:$AD23,\"=5\"))/2)),)","v":0},"NA"]
[" ",6,{"$f":"+'4007ESConfigurator'!E54","v":"IDNet Repeater, output is Class A or Class B(If Required due to distance)"},null,null,null,{"$f":"SUM(L34:P34)","v":0},null,{"$f":"+'4007ESConfigurator'!C54","v":"4009-9809"},null,"Idnet Repeater",0,0,0,0,0,"NA",null,null,null,null,null,null,null,null,null,null,null,null,null,null,{"$f":"+'4007ESConfigurator'!L54","v":0},{"$f":"+'4007ESConfigurator'!M54","v":90},{"$f":"+'4007ESConfigurator'!N54","v":"Panel Powered"},0,null,null,null,null,null,null,null,null,null,null,null,null,{"$f":"+AF34","v":0}," ",null,null,null,null,null,null,null,null,null,null,null,null,null,null,null,null,"Idnet Repeater",0,0,0,0,0,"NA"]
[" ",null,"Step 1D:  Select Solenoid for RAC Circuits",null,null,null,null,null,null,null,"Hazard 1","Hazard 2","Hazard 3","Hazard 4","Hazard 5","Hazard 6","Hazard 7","Hazard 8","Hazard 9","Hazard 10","Hazard 11","Hazard 12","Hazard 13","Hazard 14","Hazard 15","Hazard 16","Hazard 17","Hazard 18","Hazard 19","Hazard 20",null," ",null,null,0,null,null,null,null,null,null,null,null,null,null,null,null,null,null,null,null,null,null,null,null,null,null,null,null,null,null,null,null,null,null,"Hazard 1","Hazard 2","Hazard 3","Hazard 4","Hazard 5","Hazard 6","Hazard 7","Hazard 8","Hazard 9","Hazard 10","Hazard 11","Hazard 12","Hazard 13","Hazard 14","Hazard 15","Hazard 16","Hazard 17","Hazard 18","Hazard 19","Hazard 20"]
[null,null,null,null,null," "," "," ",{"$f":"+N36+N16","v":0},null,{"$f":"IF(K38=0,0,1)","v":0},{"$f":"IF(L38>0,1,0)","v":0},0,0,0,0,0,0,0,0,0,0,0,0,0,0,0,0,0,0,null,null,null,null,null,null,null,null,null,null,null,null,null,null,null,null,null,null,null,null,null,null,null,null,null,null,null,null,null,null,null,null,null,null,null,{"$f":"IF(BN38=0,0,1)","v":0},{"$f":"IF(BO38>0,1,0)","v":0},0,0,0,0,0,0,0,0,0,0,0,0,0,0,0,0,0,0]
[null,null,null,null,null,null,null,null,null,{"$f":"IF(J16=J36,\"OK\",\"Error\")","v":"OK"},{"$f":"IF(K16=K36,\"OK\",\"Error\")","v":"OK"},"OK","OK","OK","OK","OK","OK","OK","OK","OK","OK","OK","OK","OK","OK","OK","OK","OK","OK","OK"]
[" ",1,{"$f":"+L42","v":"No Actuator Selected"},{"$f":"VLOOKUP(C38,'4007ESConfigurator'!A193:E238,2)","v":1},null,null,{"$f":"+O42","v":0}," ","1D. Solenoid Selection",null,0,0,0,0,0,0,0,0,0,0,0,0,0,0,0,0,0,0,0,0,null,0,0,"RAC Powered",0,null,null,null,null,null,null,null,null,"Do Not erase, for summarising according to type of panels the current usage as per listed",null,null,null,null,null,null,null,null,null,null,null,null,null,null,null,null,null,null,null,null,3,0,0,0,0,0,0,0,0,0,0,0,0,0,0,0,0,0,0,0,0,null,1]
[" ",2,{"$f":"+L43","v":"No Actuator Selected"}," ",null,null,{"$f":"+O43","v":0},null,"Solenoid Current]",null,{"$f":"VLOOKUP(K38,'[1]4007ESConfigurator'!$B$192:$M$280,12,TRUE)","v":0},{"$f":"VLOOKUP(L38,'[1]4007ESConfigurator'!$B$192:$M$280,12,TRUE)","v":0},{"$f":"VLOOKUP(M38,'[1]4007ESConfigurator'!$B$192:$M$280,12,TRUE)","v":0},{"$f":"VLOOKUP(N38,'[1]4007ESConfigurator'!$B$192:$M$280,12,TRUE)","v":0},{"$f":"VLOOKUP(O38,'[1]4007ESConfigurator'!$B$192:$M$280,12,TRUE)","v":0},{"$f":"VLOOKUP(P38,'[1]4007ESConfigurator'!$B$192:$M$280,12,TRUE)","v":0},{"$f":"VLOOKUP(Q38,'[1]4007ESConfigurator'!$B$192:$M$280,12,TRUE)","v":0},{"$f":"VLOOKUP(R38,'[1]4007ESConfigurator'!$B$192:$M$280,12,TRUE)","v":0},{"$f":"VLOOKUP(S38,'[1]4007ESConfigurator'!$B$192:$M$280,12,TRUE)","v":0},{"$f":"VLOOKUP(T38,'[1]4007ESConfigurator'!$B$192:$M$280,12,TRUE)","v":0},{"$f":"VLOOKUP(U38,'[1]4007ESConfigurator'!$B$192:$M$280,12,TRUE)","v":0},{"$f":"VLOOKUP(V38,'[1]4007ESConfigurator'!$B$192:$M$280,12,TRUE)","v":0},{"$f":"VLOOKUP(W38,'[1]4007ESConfigurator'!$B$192:$M$280,12,TRUE)","v":0},{"$f":"VLOOKUP(X38,'[1]4007ESConfigurator'!$B$192:$M$280,12,TRUE)","v":0},{"$f":"VLOOKUP(Y38,'[1]4007ESConfigurator'!$B$192:$M$280,12,TRUE)","v":0},{"$f":"VLOOKUP(Z38,'[1]4007ESConfigurator'!$B$192:$M$280,12,TRUE)","v":0},{"$f":"VLOOKUP(AA38,'[1]4007ESConfigurator'!$B$192:$M$280,12,TRUE)","v":0},{"$f":"VLOOKUP(AB38,'[1]4007ESConfigurator'!$B$192:$M$280,12,TRUE)","v":0},{"$f":"VLOOKUP(AC38,'[1]4007ESConfigurator'!$B$192:$M$280,12,TRUE)","v":0},{"$f":"VLOOKUP(AD38,'[1]4007ESConfigurator'!$B$192:$M$280,12,TRUE)","v":0},null,0,0,"RAC Powered",0,null,null,null,null,null,null,null,null,"Hazard",{"$f":"+K35","v":"Hazard 1"},"Hazard 2","Hazard 3","Hazard 4","Hazard 5","Hazard 6","Hazard 7","Hazard 8","Hazard 9","Hazard 10","Hazard 11","Hazard 12","Hazard 13","Hazard 14","Hazard 15","Hazard 16","Hazard 17","Hazard 18","Hazard 19","Hazard 20",null,{"$f":"VLOOKUP(BN38,'[1]4007ESConfigurator'!$B$192:$M$280,12,TRUE)","v":0},{"$f":"VLOOKUP(BO38,'[1]4007ESConfigurator'!$B$192:$M$280,12,TRUE)","v":0},{"$f":"VLOOKUP(BP38,'[1]4007ESConfigurator'!$B$192:$M$280,12,TRUE)","v":0},{"$f":"VLOOKUP(BQ38,'[1]4007ESConfigurator'!$B$192:$M$280,12,TRUE)","v":0},{"$f":"VLOOKUP(BR38,'[1]4007ESConfigurator'!$B$192:$M$280,12,TRUE)","v":0},{"$f":"VLOOKUP(BS38,'[1]4007ESConfigurator'!$B$192:$M$280,12,TRUE)","v":0},{"$f":"VLOOKUP(BT38,'[1]4007ESConfigurator'!$B$192:$M$280,12,TRUE)","v":0},{"$f":"VLOOKUP(BU38,'[1]4007ESConfigurator'!$B$192:$M$280,12,TRUE)","v":0},{"$f":"VLOOKUP(BV38,'[1]4007ESConfigurator'!$B$192:$M$280,12,TRUE)","v":0},{"$f":"VLOOKUP(BW38,'[1]4007ESConfigurator'!$B$192:$M$280,12,TRUE)","v":0},{"$f":"VLOOKUP(BX38,'[1]4007ESConfigurator'!$B$192:$M$280,12,TRUE)","v":0},{"$f":"VLOOKUP(BY38,'[1]4007ESConfigurator'!$B$192:$M$280,12,TRUE)","v":0},{"$f":"VLOOKUP(BZ38,'[1]4007ESConfigurator'!$B$192:$M$280,12,TRUE)","v":0},{"$f":"VLOOKUP(CA38,'[1]4007ESConfigurator'!$B$192:$M$280,12,TRUE)","v":0},{"$f":"VLOOKUP(CB38,'[1]4007ESConfigurator'!$B$192:$M$280,12,TRUE)","v":0},{"$f":"VLOOKUP(CC38,'[1]4007ESConfigurator'!$B$192:$M$280,12,TRUE)","v":0},{"$f":"VLOOKUP(CD38,'[1]4007ESConfigurator'!$B$192:$M$280,12,TRUE)","v":0},{"$f":"VLOOKUP(CE38,'[1]4007ESConfigurator'!$B$192:$M$280,12,TRUE)","v":0},{"$f":"VLOOKUP(CF38,'[1]4007ESConfigurator'!$B$192:$M$280,12,TRUE)","v":0},{"$f":"VLOOKUP(CG38,'[1]4007ESConfigurator'!$B$192:$M$280,12,TRUE)","v":0}]
[" ",3,{"$f":"+L44","v":"No Actuator Selected"}," ",null,null,{"$f":"+O44","v":0},null,"Max Cable Wiring Distance from 4007ES NAC to SRP",null,{"$f":"IF(K$38>0,(_xlfn.IFS(K$48=\"18AWG\",'Actuator Cable Distance'!$C36,K$48=\"16AWG\",'Actuator Cable Distance'!$D36,K$48=\"14AWG\",'Actuator Cable Distance'!$E36,K$48=\"12AWG\",'Actuator Cable Distance'!$F36,K$48=\"1.5mm2\",'Actuator Cable Distance'!$G36,K$48=\"2.5mm2\",'Actuator Cable Distance'!$H$36)),0)","v":0},{"$f":"IF(L$38>0,(_xlfn.IFS(L$48=\"18AWG\",'Actuator Cable Distance'!$C36,L$48=\"16AWG\",'Actuator Cable Distance'!$D36,L$48=\"14AWG\",'Actuator Cable Distance'!$E36,L$48=\"12AWG\",'Actuator Cable Distance'!$F36,L$48=\"1.5mm2\",'Actuator Cable Distance'!$G36,L$48=\"2.5mm2\",'Actuator Cable Distance'!$H$36)),0)","v":0},{"$f":"IF(M$38>0,(_xlfn.IFS(M$48=\"18AWG\",'Actuator Cable Distance'!$C36,M$48=\"16AWG\",'Actuator Cable Distance'!$D36,M$48=\"14AWG\",'Actuator Cable Distance'!$E36,M$48=\"12AWG\",'Actuator Cable Distance'!$F36,M$48=\"1.5mm2\",'Actuator Cable Distance'!$G36,M$48=\"2.5mm2\",'Actuator Cable Distance'!$H$36)),0)","v":0},{"$f":"IF(N$38>0,(_xlfn.IFS(N$48=\"18AWG\",'Actuator Cable Distance'!$C36,N$48=\"16AWG\",'Actuator Cable Distance'!$D36,N$48=\"14AWG\",'Actuator Cable Distance'!$E36,N$48=\"12AWG\",'Actuator Cable Distance'!$F36,N$48=\"1.5mm2\",'Actuator Cable Distance'!$G36,N$48=\"2.5mm2\",'Actuator Cable Distance'!$H$36)),0)","v":0},{"$f":"IF(O$38>0,(_xlfn.IFS(O$48=\"18AWG\",'Actuator Cable Distance'!$C36,O$48=\"16AWG\",'Actuator Cable Distance'!$D36,O$48=\"14AWG\",'Actuator Cable Distance'!$E36,O$48=\"12AWG\",'Actuator Cable Distance'!$F36,O$48=\"1.5mm2\",'Actuator Cable Distance'!$G36,O$48=\"2.5mm2\",'Actuator Cable Distance'!$H$36)),0)","v":0},{"$f":"IF(P$38>0,(_xlfn.IFS(P$48=\"18AWG\",'Actuator Cable Distance'!$C36,P$48=\"16AWG\",'Actuator Cable Distance'!$D36,P$48=\"14AWG\",'Actuator Cable Distance'!$E36,P$48=\"12AWG\",'Actuator Cable Distance'!$F36,P$48=\"1.5mm2\",'Actuator Cable Distance'!$G36,P$48=\"2.5mm2\",'Actuator Cable Distance'!$H$36)),0)","v":0},{"$f":"IF(Q$38>0,(_xlfn.IFS(Q$48=\"18AWG\",'Actuator Cable Distance'!$C36,Q$48=\"16AWG\",'Actuator Cable Distance'!$D36,Q$48=\"14AWG\",'Actuator Cable Distance'!$E36,Q$48=\"12AWG\",'Actuator Cable Distance'!$F36,Q$48=\"1.5mm2\",'Actuator Cable Distance'!$G36,Q$48=\"2.5mm2\",'Actuator Cable Distance'!$H$36)),0)","v":0},{"$f":"IF(R$38>0,(_xlfn.IFS(R$48=\"18AWG\",'Actuator Cable Distance'!$C36,R$48=\"16AWG\",'Actuator Cable Distance'!$D36,R$48=\"14AWG\",'Actuator Cable Distance'!$E36,R$48=\"12AWG\",'Actuator Cable Distance'!$F36,R$48=\"1.5mm2\",'Actuator Cable Distance'!$G36,R$48=\"2.5mm2\",'Actuator Cable Distance'!$H$36)),0)","v":0},{"$f":"IF(S$38>0,(_xlfn.IFS(S$48=\"18AWG\",'Actuator Cable Distance'!$C36,S$48=\"16AWG\",'Actuator Cable Distance'!$D36,S$48=\"14AWG\",'Actuator Cable Distance'!$E36,S$48=\"12AWG\",'Actuator Cable Distance'!$F36,S$48=\"1.5mm2\",'Actuator Cable Distance'!$G36,S$48=\"2.5mm2\",'Actuator Cable Distance'!$H$36)),0)","v":0},{"$f":"IF(T$38>0,(_xlfn.IFS(T$48=\"18AWG\",'Actuator Cable Distance'!$C36,T$48=\"16AWG\",'Actuator Cable Distance'!$D36,T$48=\"14AWG\",'Actuator Cable Distance'!$E36,T$48=\"12AWG\",'Actuator Cable Distance'!$F36,T$48=\"1.5mm2\",'Actuator Cable Distance'!$G36,T$48=\"2.5mm2\",'Actuator Cable Distance'!$H$36)),0)","v":0},{"$f":"IF(U$38>0,(_xlfn.IFS(U$48=\"18AWG\",'Actuator Cable Distance'!$C36,U$48=\"16AWG\",'Actuator Cable Distance'!$D36,U$48=\"14AWG\",'Actuator Cable Distance'!$E36,U$48=\"12AWG\",'Actuator Cable Distance'!$F36,U$48=\"1.5mm2\",'Actuator Cable Distance'!$G36,U$48=\"2.5mm2\",'Actuator Cable Distance'!$H$36)),0)","v":0},{"$f":"IF(V$38>0,(_xlfn.IFS(V$48=\"18AWG\",'Actuator Cable Distance'!$C36,V$48=\"16AWG\",'Actuator Cable Distance'!$D36,V$48=\"14AWG\",'Actuator Cable Distance'!$E36,V$48=\"12AWG\",'Actuator Cable Distance'!$F36,V$48=\"1.5mm2\",'Actuator Cable Distance'!$G36,V$48=\"2.5mm2\",'Actuator Cable Distance'!$H$36)),0)","v":0},{"$f":"IF(W$38>0,(_xlfn.IFS(W$48=\"18AWG\",'Actuator Cable Distance'!$C36,W$48=\"16AWG\",'Actuator Cable Distance'!$D36,W$48=\"14AWG\",'Actuator Cable Distance'!$E36,W$48=\"12AWG\",'Actuator Cable Distance'!$F36,W$48=\"1.5mm2\",'Actuator Cable Distance'!$G36,W$48=\"2.5mm2\",'Actuator Cable Distance'!$H$36)),0)","v":0},{"$f":"IF(X$38>0,(_xlfn.IFS(X$48=\"18AWG\",'Actuator Cable Distance'!$C36,X$48=\"16AWG\",'Actuator Cable Distance'!$D36,X$48=\"14AWG\",'Actuator Cable Distance'!$E36,X$48=\"12AWG\",'Actuator Cable Distance'!$F36,X$48=\"1.5mm2\",'Actuator Cable Distance'!$G36,X$48=\"2.5mm2\",'Actuator Cable Distance'!$H$36)),0)","v":0},{"$f":"IF(Y$38>0,(_xlfn.IFS(Y$48=\"18AWG\",'Actuator Cable Distance'!$C36,Y$48=\"16AWG\",'Actuator Cable Distance'!$D36,Y$48=\"14AWG\",'Actuator Cable Distance'!$E36,Y$48=\"12AWG\",'Actuator Cable Distance'!$F36,Y$48=\"1.5mm2\",'Actuator Cable Distance'!$G36,Y$48=\"2.5mm2\",'Actuator Cable Distance'!$H$36)),0)","v":0},{"$f":"IF(Z$38>0,(_xlfn.IFS(Z$48=\"18AWG\",'Actuator Cable Distance'!$C36,Z$48=\"16AWG\",'Actuator Cable Distance'!$D36,Z$48=\"14AWG\",'Actuator Cable Distance'!$E36,Z$48=\"12AWG\",'Actuator Cable Distance'!$F36,Z$48=\"1.5mm2\",'Actuator Cable Distance'!$G36,Z$48=\"2.5mm2\",'Actuator Cable Distance'!$H$36)),0)","v":0},{"$f":"IF(AA$38>0,(_xlfn.IFS(AA$48=\"18AWG\",'Actuator Cable Distance'!$C36,AA$48=\"16AWG\",'Actuator Cable Distance'!$D36,AA$48=\"14AWG\",'Actuator Cable Distance'!$E36,AA$48=\"12AWG\",'Actuator Cable Distance'!$F36,AA$48=\"1.5mm2\",'Actuator Cable Distance'!$G36,AA$48=\"2.5mm2\",'Actuator Cable Distance'!$H$36)),0)","v":0},{"$f":"IF(AB$38>0,(_xlfn.IFS(AB$48=\"18AWG\",'Actuator Cable Distance'!$C36,AB$48=\"16AWG\",'Actuator Cable Distance'!$D36,AB$48=\"14AWG\",'Actuator Cable Distance'!$E36,AB$48=\"12AWG\",'Actuator Cable Distance'!$F36,AB$48=\"1.5mm2\",'Actuator Cable Distance'!$G36,AB$48=\"2.5mm2\",'Actuator Cable Distance'!$H$36)),0)","v":0},{"$f":"IF(AC$38>0,(_xlfn.IFS(AC$48=\"18AWG\",'Actuator Cable Distance'!$C36,AC$48=\"16AWG\",'Actuator Cable Distance'!$D36,AC$48=\"14AWG\",'Actuator Cable Distance'!$E36,AC$48=\"12AWG\",'Actuator Cable Distance'!$F36,AC$48=\"1.5mm2\",'Actuator Cable Distance'!$G36,AC$48=\"2.5mm2\",'Actuator Cable Distance'!$H$36)),0)","v":0},{"$f":"IF(AD$38>0,(_xlfn.IFS(AD$48=\"18AWG\",'Actuator Cable Distance'!$C36,AD$48=\"16AWG\",'Actuator Cable Distance'!$D36,AD$48=\"14AWG\",'Actuator Cable Distance'!$E36,AD$48=\"12AWG\",'Actuator Cable Distance'!$F36,AD$48=\"1.5mm2\",'Actuator Cable Distance'!$G36,AD$48=\"2.5mm2\",'Actuator Cable Distance'!$H$36)),0)","v":0},null,0,0,"RAC Powered",0,null,null,null,null,null,null,null,null,"Panel",{"$f":"+K19","v":"No Selection"},"No Selection","No Selection","No Selection","No Selection","No Selection","No Selection","No Selection","No Selection","No Selection","No Selection","No Selection","No Selection","No Selection","No Selection","No Selection","No Selection","No Selection","No Selection","No Selection",null,{"$f":"IF(BN$38>0,(_xlfn.IFS(BN$48=\"18AWG\",'Actuator Cable Distance'!$C36,BN$48=\"16AWG\",'Actuator Cable Distance'!$D36,BN$48=\"14AWG\",'Actuator Cable Distance'!$E36,BN$48=\"12AWG\",'Actuator Cable Distance'!$F36,BN$48=\"1.5mm2\",'Actuator Cable Distance'!$G36,BN$48=\"2.5mm2\",'Actuator Cable Distance'!$H$36)),0)","v":0},{"$f":"IF(BO$38>0,(_xlfn.IFS(BO$48=\"18AWG\",'Actuator Cable Distance'!$C36,BO$48=\"16AWG\",'Actuator Cable Distance'!$D36,BO$48=\"14AWG\",'Actuator Cable Distance'!$E36,BO$48=\"12AWG\",'Actuator Cable Distance'!$F36,BO$48=\"1.5mm2\",'Actuator Cable Distance'!$G36,BO$48=\"2.5mm2\",'Actuator Cable Distance'!$H$36)),0)","v":0},{"$f":"IF(BP$38>0,(_xlfn.IFS(BP$48=\"18AWG\",'Actuator Cable Distance'!$C36,BP$48=\"16AWG\",'Actuator Cable Distance'!$D36,BP$48=\"14AWG\",'Actuator Cable Distance'!$E36,BP$48=\"12AWG\",'Actuator Cable Distance'!$F36,BP$48=\"1.5mm2\",'Actuator Cable Distance'!$G36,BP$48=\"2.5mm2\",'Actuator Cable Distance'!$H$36)),0)","v":0},{"$f":"IF(BQ$38>0,(_xlfn.IFS(BQ$48=\"18AWG\",'Actuator Cable Distance'!$C36,BQ$48=\"16AWG\",'Actuator Cable Distance'!$D36,BQ$48=\"14AWG\",'Actuator Cable Distance'!$E36,BQ$48=\"12AWG\",'Actuator Cable Distance'!$F36,BQ$48=\"1.5mm2\",'Actuator Cable Distance'!$G36,BQ$48=\"2.5mm2\",'Actuator Cable Distance'!$H$36)),0)","v":0},{"$f":"IF(BR$38>0,(_xlfn.IFS(BR$48=\"18AWG\",'Actuator Cable Distance'!$C36,BR$48=\"16AWG\",'Actuator Cable Distance'!$D36,BR$48=\"14AWG\",'Actuator Cable Distance'!$E36,BR$48=\"12AWG\",'Actuator Cable Distance'!$F36,BR$48=\"1.5mm2\",'Actuator Cable Distance'!$G36,BR$48=\"2.5mm2\",'Actuator Cable Distance'!$H$36)),0)","v":0},{"$f":"IF(BS$38>0,(_xlfn.IFS(BS$48=\"18AWG\",'Actuator Cable Distance'!$C36,BS$48=\"16AWG\",'Actuator Cable Distance'!$D36,BS$48=\"14AWG\",'Actuator Cable Distance'!$E36,BS$48=\"12AWG\",'Actuator Cable Distance'!$F36,BS$48=\"1.5mm2\",'Actuator Cable Distance'!$G36,BS$48=\"2.5mm2\",'Actuator Cable Distance'!$H$36)),0)","v":0},{"$f":"IF(BT$38>0,(_xlfn.IFS(BT$48=\"18AWG\",'Actuator Cable Distance'!$C36,BT$48=\"16AWG\",'Actuator Cable Distance'!$D36,BT$48=\"14AWG\",'Actuator Cable Distance'!$E36,BT$48=\"12AWG\",'Actuator Cable Distance'!$F36,BT$48=\"1.5mm2\",'Actuator Cable Distance'!$G36,BT$48=\"2.5mm2\",'Actuator Cable Distance'!$H$36)),0)","v":0},{"$f":"IF(BU$38>0,(_xlfn.IFS(BU$48=\"18AWG\",'Actuator Cable Distance'!$C36,BU$48=\"16AWG\",'Actuator Cable Distance'!$D36,BU$48=\"14AWG\",'Actuator Cable Distance'!$E36,BU$48=\"12AWG\",'Actuator Cable Distance'!$F36,BU$48=\"1.5mm2\",'Actuator Cable Distance'!$G36,BU$48=\"2.5mm2\",'Actuator Cable Distance'!$H$36)),0)","v":0},{"$f":"IF(BV$38>0,(_xlfn.IFS(BV$48=\"18AWG\",'Actuator Cable Distance'!$C36,BV$48=\"16AWG\",'Actuator Cable Distance'!$D36,BV$48=\"14AWG\",'Actuator Cable Distance'!$E36,BV$48=\"12AWG\",'Actuator Cable Distance'!$F36,BV$48=\"1.5mm2\",'Actuator Cable Distance'!$G36,BV$48=\"2.5mm2\",'Actuator Cable Distance'!$H$36)),0)","v":0},{"$f":"IF(BW$38>0,(_xlfn.IFS(BW$48=\"18AWG\",'Actuator Cable Distance'!$C36,BW$48=\"16AWG\",'Actuator Cable Distance'!$D36,BW$48=\"14AWG\",'Actuator Cable Distance'!$E36,BW$48=\"12AWG\",'Actuator Cable Distance'!$F36,BW$48=\"1.5mm2\",'Actuator Cable Distance'!$G36,BW$48=\"2.5mm2\",'Actuator Cable Distance'!$H$36)),0)","v":0},{"$f":"IF(BX$38>0,(_xlfn.IFS(BX$48=\"18AWG\",'Actuator Cable Distance'!$C36,BX$48=\"16AWG\",'Actuator Cable Distance'!$D36,BX$48=\"14AWG\",'Actuator Cable Distance'!$E36,BX$48=\"12AWG\",'Actuator Cable Distance'!$F36,BX$48=\"1.5mm2\",'Actuator Cable Distance'!$G36,BX$48=\"2.5mm2\",'Actuator Cable Distance'!$H$36)),0)","v":0},{"$f":"IF(BY$38>0,(_xlfn.IFS(BY$48=\"18AWG\",'Actuator Cable Distance'!$C36,BY$48=\"16AWG\",'Actuator Cable Distance'!$D36,BY$48=\"14AWG\",'Actuator Cable Distance'!$E36,BY$48=\"12AWG\",'Actuator Cable Distance'!$F36,BY$48=\"1.5mm2\",'Actuator Cable Distance'!$G36,BY$48=\"2.5mm2\",'Actuator Cable Distance'!$H$36)),0)","v":0},{"$f":"IF(BZ$38>0,(_xlfn.IFS(BZ$48=\"18AWG\",'Actuator Cable Distance'!$C36,BZ$48=\"16AWG\",'Actuator Cable Distance'!$D36,BZ$48=\"14AWG\",'Actuator Cable Distance'!$E36,BZ$48=\"12AWG\",'Actuator Cable Distance'!$F36,BZ$48=\"1.5mm2\",'Actuator Cable Distance'!$G36,BZ$48=\"2.5mm2\",'Actuator Cable Distance'!$H$36)),0)","v":0},{"$f":"IF(CA$38>0,(_xlfn.IFS(CA$48=\"18AWG\",'Actuator Cable Distance'!$C36,CA$48=\"16AWG\",'Actuator Cable Distance'!$D36,CA$48=\"14AWG\",'Actuator Cable Distance'!$E36,CA$48=\"12AWG\",'Actuator Cable Distance'!$F36,CA$48=\"1.5mm2\",'Actuator Cable Distance'!$G36,CA$48=\"2.5mm2\",'Actuator Cable Distance'!$H$36)),0)","v":0},{"$f":"IF(CB$38>0,(_xlfn.IFS(CB$48=\"18AWG\",'Actuator Cable Distance'!$C36,CB$48=\"16AWG\",'Actuator Cable Distance'!$D36,CB$48=\"14AWG\",'Actuator Cable Distance'!$E36,CB$48=\"12AWG\",'Actuator Cable Distance'!$F36,CB$48=\"1.5mm2\",'Actuator Cable Distance'!$G36,CB$48=\"2.5mm2\",'Actuator Cable Distance'!$H$36)),0)","v":0},{"$f":"IF(CC$38>0,(_xlfn.IFS(CC$48=\"18AWG\",'Actuator Cable Distance'!$C36,CC$48=\"16AWG\",'Actuator Cable Distance'!$D36,CC$48=\"14AWG\",'Actuator Cable Distance'!$E36,CC$48=\"12AWG\",'Actuator Cable Distance'!$F36,CC$48=\"1.5mm2\",'Actuator Cable Distance'!$G36,CC$48=\"2.5mm2\",'Actuator Cable Distance'!$H$36)),0)","v":0},{"$f":"IF(CD$38>0,(_xlfn.IFS(CD$48=\"18AWG\",'Actuator Cable Distance'!$C36,CD$48=\"16AWG\",'Actuator Cable Distance'!$D36,CD$48=\"14AWG\",'Actuator Cable Distance'!$E36,CD$48=\"12AWG\",'Actuator Cable Distance'!$F36,CD$48=\"1.5mm2\",'Actuator Cable Distance'!$G36,CD$48=\"2.5mm2\",'Actuator Cable Distance'!$H$36)),0)","v":0},{"$f":"IF(CE$38>0,(_xlfn.IFS(CE$48=\"18AWG\",'Actuator Cable Distance'!$C36,CE$48=\"16AWG\",'Actuator Cable Distance'!$D36,CE$48=\"14AWG\",'Actuator Cable Distance'!$E36,CE$48=\"12AWG\",'Actuator Cable Distance'!$F36,CE$48=\"1.5mm2\",'Actuator Cable Distance'!$G36,CE$48=\"2.5mm2\",'Actuator Cable Distance'!$H$36)),0)","v":0},{"$f":"IF(CF$38>0,(_xlfn.IFS(CF$48=\"18AWG\",'Actuator Cable Distance'!$C36,CF$48=\"16AWG\",'Actuator Cable Distance'!$D36,CF$48=\"14AWG\",'Actuator Cable Distance'!$E36,CF$48=\"12AWG\",'Actuator Cable Distance'!$F36,CF$48=\"1.5mm2\",'Actuator Cable Distance'!$G36,CF$48=\"2.5mm2\",'Actuator Cable Distance'!$H$36)),0)","v":0},{"$f":"IF(CG$38>0,(_xlfn.IFS(CG$48=\"18AWG\",'Actuator Cable Distance'!$C36,CG$48=\"16AWG\",'Actuator Cable Distance'!$D36,CG$48=\"14AWG\",'Actuator Cable Distance'!$E36,CG$48=\"12AWG\",'Actuator Cable Distance'!$F36,CG$48=\"1.5mm2\",'Actuator Cable Distance'!$G36,CG$48=\"2.5mm2\",'Actuator Cable Distance'!$H$36)),0)","v":0}]
[" ",4,{"$f":"+L45","v":"No Actuator Selected"}," ",null,null,{"$f":"+O45","v":0},null,"Max Cable Wiring Distance from SRP to Solenoid",null,{"$f":"IF(K$38>0,(_xlfn.IFS(K$53=\"18AWG\",'Actuator Cable Distance'!$L36,K$53=\"16AWG\",'Actuator Cable Distance'!$M36,K$53=\"14AWG\",'Actuator Cable Distance'!$N36,K$53=\"12AWG\",'Actuator Cable Distance'!$O36,K$53=\"1.5mm2\",'Actuator Cable Distance'!$P36,K$53=\"2.5mm2\",'Actuator Cable Distance'!$H$36)),0)","v":0},{"$f":"IF(L$38>0,(_xlfn.IFS(L$53=\"18AWG\",'Actuator Cable Distance'!$L36,L$53=\"16AWG\",'Actuator Cable Distance'!$M36,L$53=\"14AWG\",'Actuator Cable Distance'!$N36,L$53=\"12AWG\",'Actuator Cable Distance'!$O36,L$53=\"1.5mm2\",'Actuator Cable Distance'!$P36,L$53=\"2.5mm2\",'Actuator Cable Distance'!$H$36)),0)","v":0},{"$f":"IF(M$38>0,(_xlfn.IFS(M$53=\"18AWG\",'Actuator Cable Distance'!$L36,M$53=\"16AWG\",'Actuator Cable Distance'!$M36,M$53=\"14AWG\",'Actuator Cable Distance'!$N36,M$53=\"12AWG\",'Actuator Cable Distance'!$O36,M$53=\"1.5mm2\",'Actuator Cable Distance'!$P36,M$53=\"2.5mm2\",'Actuator Cable Distance'!$H$36)),0)","v":0},{"$f":"IF(N$38>0,(_xlfn.IFS(N$53=\"18AWG\",'Actuator Cable Distance'!$L36,N$53=\"16AWG\",'Actuator Cable Distance'!$M36,N$53=\"14AWG\",'Actuator Cable Distance'!$N36,N$53=\"12AWG\",'Actuator Cable Distance'!$O36,N$53=\"1.5mm2\",'Actuator Cable Distance'!$P36,N$53=\"2.5mm2\",'Actuator Cable Distance'!$H$36)),0)","v":0},{"$f":"IF(O$38>0,(_xlfn.IFS(O$53=\"18AWG\",'Actuator Cable Distance'!$L36,O$53=\"16AWG\",'Actuator Cable Distance'!$M36,O$53=\"14AWG\",'Actuator Cable Distance'!$N36,O$53=\"12AWG\",'Actuator Cable Distance'!$O36,O$53=\"1.5mm2\",'Actuator Cable Distance'!$P36,O$53=\"2.5mm2\",'Actuator Cable Distance'!$H$36)),0)","v":0},{"$f":"IF(P$38>0,(_xlfn.IFS(P$53=\"18AWG\",'Actuator Cable Distance'!$L36,P$53=\"16AWG\",'Actuator Cable Distance'!$M36,P$53=\"14AWG\",'Actuator Cable Distance'!$N36,P$53=\"12AWG\",'Actuator Cable Distance'!$O36,P$53=\"1.5mm2\",'Actuator Cable Distance'!$P36,P$53=\"2.5mm2\",'Actuator Cable Distance'!$H$36)),0)","v":0},{"$f":"IF(Q$38>0,(_xlfn.IFS(Q$53=\"18AWG\",'Actuator Cable Distance'!$L36,Q$53=\"16AWG\",'Actuator Cable Distance'!$M36,Q$53=\"14AWG\",'Actuator Cable Distance'!$N36,Q$53=\"12AWG\",'Actuator Cable Distance'!$O36,Q$53=\"1.5mm2\",'Actuator Cable Distance'!$P36,Q$53=\"2.5mm2\",'Actuator Cable Distance'!$H$36)),0)","v":0},{"$f":"IF(R$38>0,(_xlfn.IFS(R$53=\"18AWG\",'Actuator Cable Distance'!$L36,R$53=\"16AWG\",'Actuator Cable Distance'!$M36,R$53=\"14AWG\",'Actuator Cable Distance'!$N36,R$53=\"12AWG\",'Actuator Cable Distance'!$O36,R$53=\"1.5mm2\",'Actuator Cable Distance'!$P36,R$53=\"2.5mm2\",'Actuator Cable Distance'!$H$36)),0)","v":0},{"$f":"IF(S$38>0,(_xlfn.IFS(S$53=\"18AWG\",'Actuator Cable Distance'!$L36,S$53=\"16AWG\",'Actuator Cable Distance'!$M36,S$53=\"14AWG\",'Actuator Cable Distance'!$N36,S$53=\"12AWG\",'Actuator Cable Distance'!$O36,S$53=\"1.5mm2\",'Actuator Cable Distance'!$P36,S$53=\"2.5mm2\",'Actuator Cable Distance'!$H$36)),0)","v":0},{"$f":"IF(T$38>0,(_xlfn.IFS(T$53=\"18AWG\",'Actuator Cable Distance'!$L36,T$53=\"16AWG\",'Actuator Cable Distance'!$M36,T$53=\"14AWG\",'Actuator Cable Distance'!$N36,T$53=\"12AWG\",'Actuator Cable Distance'!$O36,T$53=\"1.5mm2\",'Actuator Cable Distance'!$P36,T$53=\"2.5mm2\",'Actuator Cable Distance'!$H$36)),0)","v":0},{"$f":"IF(U$38>0,(_xlfn.IFS(U$53=\"18AWG\",'Actuator Cable Distance'!$L36,U$53=\"16AWG\",'Actuator Cable Distance'!$M36,U$53=\"14AWG\",'Actuator Cable Distance'!$N36,U$53=\"12AWG\",'Actuator Cable Distance'!$O36,U$53=\"1.5mm2\",'Actuator Cable Distance'!$P36,U$53=\"2.5mm2\",'Actuator Cable Distance'!$H$36)),0)","v":0},{"$f":"IF(V$38>0,(_xlfn.IFS(V$53=\"18AWG\",'Actuator Cable Distance'!$L36,V$53=\"16AWG\",'Actuator Cable Distance'!$M36,V$53=\"14AWG\",'Actuator Cable Distance'!$N36,V$53=\"12AWG\",'Actuator Cable Distance'!$O36,V$53=\"1.5mm2\",'Actuator Cable Distance'!$P36,V$53=\"2.5mm2\",'Actuator Cable Distance'!$H$36)),0)","v":0},{"$f":"IF(W$38>0,(_xlfn.IFS(W$53=\"18AWG\",'Actuator Cable Distance'!$L36,W$53=\"16AWG\",'Actuator Cable Distance'!$M36,W$53=\"14AWG\",'Actuator Cable Distance'!$N36,W$53=\"12AWG\",'Actuator Cable Distance'!$O36,W$53=\"1.5mm2\",'Actuator Cable Distance'!$P36,W$53=\"2.5mm2\",'Actuator Cable Distance'!$H$36)),0)","v":0},{"$f":"IF(X$38>0,(_xlfn.IFS(X$53=\"18AWG\",'Actuator Cable Distance'!$L36,X$53=\"16AWG\",'Actuator Cable Distance'!$M36,X$53=\"14AWG\",'Actuator Cable Distance'!$N36,X$53=\"12AWG\",'Actuator Cable Distance'!$O36,X$53=\"1.5mm2\",'Actuator Cable Distance'!$P36,X$53=\"2.5mm2\",'Actuator Cable Distance'!$H$36)),0)","v":0},{"$f":"IF(Y$38>0,(_xlfn.IFS(Y$53=\"18AWG\",'Actuator Cable Distance'!$L36,Y$53=\"16AWG\",'Actuator Cable Distance'!$M36,Y$53=\"14AWG\",'Actuator Cable Distance'!$N36,Y$53=\"12AWG\",'Actuator Cable Distance'!$O36,Y$53=\"1.5mm2\",'Actuator Cable Distance'!$P36,Y$53=\"2.5mm2\",'Actuator Cable Distance'!$H$36)),0)","v":0},{"$f":"IF(Z$38>0,(_xlfn.IFS(Z$53=\"18AWG\",'Actuator Cable Distance'!$L36,Z$53=\"16AWG\",'Actuator Cable Distance'!$M36,Z$53=\"14AWG\",'Actuator Cable Distance'!$N36,Z$53=\"12AWG\",'Actuator Cable Distance'!$O36,Z$53=\"1.5mm2\",'Actuator Cable Distance'!$P36,Z$53=\"2.5mm2\",'Actuator Cable Distance'!$H$36)),0)","v":0},{"$f":"IF(AA$38>0,(_xlfn.IFS(AA$53=\"18AWG\",'Actuator Cable Distance'!$L36,AA$53=\"16AWG\",'Actuator Cable Distance'!$M36,AA$53=\"14AWG\",'Actuator Cable Distance'!$N36,AA$53=\"12AWG\",'Actuator Cable Distance'!$O36,AA$53=\"1.5mm2\",'Actuator Cable Distance'!$P36,AA$53=\"2.5mm2\",'Actuator Cable Distance'!$H$36)),0)","v":0},{"$f":"IF(AB$38>0,(_xlfn.IFS(AB$53=\"18AWG\",'Actuator Cable Distance'!$L36,AB$53=\"16AWG\",'Actuator Cable Distance'!$M36,AB$53=\"14AWG\",'Actuator Cable Distance'!$N36,AB$53=\"12AWG\",'Actuator Cable Distance'!$O36,AB$53=\"1.5mm2\",'Actuator Cable Distance'!$P36,AB$53=\"2.5mm2\",'Actuator Cable Distance'!$H$36)),0)","v":0},{"$f":"IF(AC$38>0,(_xlfn.IFS(AC$53=\"18AWG\",'Actuator Cable Distance'!$L36,AC$53=\"16AWG\",'Actuator Cable Distance'!$M36,AC$53=\"14AWG\",'Actuator Cable Distance'!$N36,AC$53=\"12AWG\",'Actuator Cable Distance'!$O36,AC$53=\"1.5mm2\",'Actuator Cable Distance'!$P36,AC$53=\"2.5mm2\",'Actuator Cable Distance'!$H$36)),0)","v":0},{"$f":"IF(AD$38>0,(_xlfn.IFS(AD$53=\"18AWG\",'Actuator Cable Distance'!$L36,AD$53=\"16AWG\",'Actuator Cable Distance'!$M36,AD$53=\"14AWG\",'Actuator Cable Distance'!$N36,AD$53=\"12AWG\",'Actuator Cable Distance'!$O36,AD$53=\"1.5mm2\",'Actuator Cable Distance'!$P36,AD$53=\"2.5mm2\",'Actuator Cable Distance'!$H$36)),0)","v":0},null,0,0,"RAC Powered",0,null,null,null,null,null,null,null,null,"RAC",{"$f":"+K39","v":0},{"$f":"+L39","v":0},0,0,0,0,0,0,0,0,0,0,0,0,0,0,0,0,0,0,null,{"$f":"IF(BN$38>0,(_xlfn.IFS(BN$53=\"18AWG\",'Actuator Cable Distance'!$L36,BN$53=\"16AWG\",'Actuator Cable Distance'!$M36,BN$53=\"14AWG\",'Actuator Cable Distance'!$N36,BN$53=\"12AWG\",'Actuator Cable Distance'!$O36,BN$53=\"1.5mm2\",'Actuator Cable Distance'!$P36,BN$53=\"2.5mm2\",'Actuator Cable Distance'!$H$36)),0)","v":0},{"$f":"IF(BO$38>0,(_xlfn.IFS(BO$53=\"18AWG\",'Actuator Cable Distance'!$L36,BO$53=\"16AWG\",'Actuator Cable Distance'!$M36,BO$53=\"14AWG\",'Actuator Cable Distance'!$N36,BO$53=\"12AWG\",'Actuator Cable Distance'!$O36,BO$53=\"1.5mm2\",'Actuator Cable Distance'!$P36,BO$53=\"2.5mm2\",'Actuator Cable Distance'!$H$36)),0)","v":0},{"$f":"IF(BP$38>0,(_xlfn.IFS(BP$53=\"18AWG\",'Actuator Cable Distance'!$L36,BP$53=\"16AWG\",'Actuator Cable Distance'!$M36,BP$53=\"14AWG\",'Actuator Cable Distance'!$N36,BP$53=\"12AWG\",'Actuator Cable Distance'!$O36,BP$53=\"1.5mm2\",'Actuator Cable Distance'!$P36,BP$53=\"2.5mm2\",'Actuator Cable Distance'!$H$36)),0)","v":0},{"$f":"IF(BQ$38>0,(_xlfn.IFS(BQ$53=\"18AWG\",'Actuator Cable Distance'!$L36,BQ$53=\"16AWG\",'Actuator Cable Distance'!$M36,BQ$53=\"14AWG\",'Actuator Cable Distance'!$N36,BQ$53=\"12AWG\",'Actuator Cable Distance'!$O36,BQ$53=\"1.5mm2\",'Actuator Cable Distance'!$P36,BQ$53=\"2.5mm2\",'Actuator Cable Distance'!$H$36)),0)","v":0},{"$f":"IF(BR$38>0,(_xlfn.IFS(BR$53=\"18AWG\",'Actuator Cable Distance'!$L36,BR$53=\"16AWG\",'Actuator Cable Distance'!$M36,BR$53=\"14AWG\",'Actuator Cable Distance'!$N36,BR$53=\"12AWG\",'Actuator Cable Distance'!$O36,BR$53=\"1.5mm2\",'Actuator Cable Distance'!$P36,BR$53=\"2.5mm2\",'Actuator Cable Distance'!$H$36)),0)","v":0},{"$f":"IF(BS$38>0,(_xlfn.IFS(BS$53=\"18AWG\",'Actuator Cable Distance'!$L36,BS$53=\"16AWG\",'Actuator Cable Distance'!$M36,BS$53=\"14AWG\",'Actuator Cable Distance'!$N36,BS$53=\"12AWG\",'Actuator Cable Distance'!$O36,BS$53=\"1.5mm2\",'Actuator Cable Distance'!$P36,BS$53=\"2.5mm2\",'Actuator Cable Distance'!$H$36)),0)","v":0},{"$f":"IF(BT$38>0,(_xlfn.IFS(BT$53=\"18AWG\",'Actuator Cable Distance'!$L36,BT$53=\"16AWG\",'Actuator Cable Distance'!$M36,BT$53=\"14AWG\",'Actuator Cable Distance'!$N36,BT$53=\"12AWG\",'Actuator Cable Distance'!$O36,BT$53=\"1.5mm2\",'Actuator Cable Distance'!$P36,BT$53=\"2.5mm2\",'Actuator Cable Distance'!$H$36)),0)","v":0},{"$f":"IF(BU$38>0,(_xlfn.IFS(BU$53=\"18AWG\",'Actuator Cable Distance'!$L36,BU$53=\"16AWG\",'Actuator Cable Distance'!$M36,BU$53=\"14AWG\",'Actuator Cable Distance'!$N36,BU$53=\"12AWG\",'Actuator Cable Distance'!$O36,BU$53=\"1.5mm2\",'Actuator Cable Distance'!$P36,BU$53=\"2.5mm2\",'Actuator Cable Distance'!$H$36)),0)","v":0},{"$f":"IF(BV$38>0,(_xlfn.IFS(BV$53=\"18AWG\",'Actuator Cable Distance'!$L36,BV$53=\"16AWG\",'Actuator Cable Distance'!$M36,BV$53=\"14AWG\",'Actuator Cable Distance'!$N36,BV$53=\"12AWG\",'Actuator Cable Distance'!$O36,BV$53=\"1.5mm2\",'Actuator Cable Distance'!$P36,BV$53=\"2.5mm2\",'Actuator Cable Distance'!$H$36)),0)","v":0},{"$f":"IF(BW$38>0,(_xlfn.IFS(BW$53=\"18AWG\",'Actuator Cable Distance'!$L36,BW$53=\"16AWG\",'Actuator Cable Distance'!$M36,BW$53=\"14AWG\",'Actuator Cable Distance'!$N36,BW$53=\"12AWG\",'Actuator Cable Distance'!$O36,BW$53=\"1.5mm2\",'Actuator Cable Distance'!$P36,BW$53=\"2.5mm2\",'Actuator Cable Distance'!$H$36)),0)","v":0},{"$f":"IF(BX$38>0,(_xlfn.IFS(BX$53=\"18AWG\",'Actuator Cable Distance'!$L36,BX$53=\"16AWG\",'Actuator Cable Distance'!$M36,BX$53=\"14AWG\",'Actuator Cable Distance'!$N36,BX$53=\"12AWG\",'Actuator Cable Distance'!$O36,BX$53=\"1.5mm2\",'Actuator Cable Distance'!$P36,BX$53=\"2.5mm2\",'Actuator Cable Distance'!$H$36)),0)","v":0},{"$f":"IF(BY$38>0,(_xlfn.IFS(BY$53=\"18AWG\",'Actuator Cable Distance'!$L36,BY$53=\"16AWG\",'Actuator Cable Distance'!$M36,BY$53=\"14AWG\",'Actuator Cable Distance'!$N36,BY$53=\"12AWG\",'Actuator Cable Distance'!$O36,BY$53=\"1.5mm2\",'Actuator Cable Distance'!$P36,BY$53=\"2.5mm2\",'Actuator Cable Distance'!$H$36)),0)","v":0},{"$f":"IF(BZ$38>0,(_xlfn.IFS(BZ$53=\"18AWG\",'Actuator Cable Distance'!$L36,BZ$53=\"16AWG\",'Actuator Cable Distance'!$M36,BZ$53=\"14AWG\",'Actuator Cable Distance'!$N36,BZ$53=\"12AWG\",'Actuator Cable Distance'!$O36,BZ$53=\"1.5mm2\",'Actuator Cable Distance'!$P36,BZ$53=\"2.5mm2\",'Actuator Cable Distance'!$H$36)),0)","v":0},{"$f":"IF(CA$38>0,(_xlfn.IFS(CA$53=\"18AWG\",'Actuator Cable Distance'!$L36,CA$53=\"16AWG\",'Actuator Cable Distance'!$M36,CA$53=\"14AWG\",'Actuator Cable Distance'!$N36,CA$53=\"12AWG\",'Actuator Cable Distance'!$O36,CA$53=\"1.5mm2\",'Actuator Cable Distance'!$P36,CA$53=\"2.5mm2\",'Actuator Cable Distance'!$H$36)),0)","v":0},{"$f":"IF(CB$38>0,(_xlfn.IFS(CB$53=\"18AWG\",'Actuator Cable Distance'!$L36,CB$53=\"16AWG\",'Actuator Cable Distance'!$M36,CB$53=\"14AWG\",'Actuator Cable Distance'!$N36,CB$53=\"12AWG\",'Actuator Cable Distance'!$O36,CB$53=\"1.5mm2\",'Actuator Cable Distance'!$P36,CB$53=\"2.5mm2\",'Actuator Cable Distance'!$H$36)),0)","v":0},{"$f":"IF(CC$38>0,(_xlfn.IFS(CC$53=\"18AWG\",'Actuator Cable Distance'!$L36,CC$53=\"16AWG\",'Actuator Cable Distance'!$M36,CC$53=\"14AWG\",'Actuator Cable Distance'!$N36,CC$53=\"12AWG\",'Actuator Cable Distance'!$O36,CC$53=\"1.5mm2\",'Actuator Cable Distance'!$P36,CC$53=\"2.5mm2\",'Actuator Cable Distance'!$H$36)),0)","v":0},{"$f":"IF(CD$38>0,(_xlfn.IFS(CD$53=\"18AWG\",'Actuator Cable Distance'!$L36,CD$53=\"16AWG\",'Actuator Cable Distance'!$M36,CD$53=\"14AWG\",'Actuator Cable Distance'!$N36,CD$53=\"12AWG\",'Actuator Cable Distance'!$O36,CD$53=\"1.5mm2\",'Actuator Cable Distance'!$P36,CD$53=\"2.5mm2\",'Actuator Cable Distance'!$H$36)),0)","v":0},{"$f":"IF(CE$38>0,(_xlfn.IFS(CE$53=\"18AWG\",'Actuator Cable Distance'!$L36,CE$53=\"16AWG\",'Actuator Cable Distance'!$M36,CE$53=\"14AWG\",'Actuator Cable Distance'!$N36,CE$53=\"12AWG\",'Actuator Cable Distance'!$O36,CE$53=\"1.5mm2\",'Actuator Cable Distance'!$P36,CE$53=\"2.5mm2\",'Actuator Cable Distance'!$H$36)),0)","v":0},{"$f":"IF(CF$38>0,(_xlfn.IFS(CF$53=\"18AWG\",'Actuator Cable Distance'!$L36,CF$53=\"16AWG\",'Actuator Cable Distance'!$M36,CF$53=\"14AWG\",'Actuator Cable Distance'!$N36,CF$53=\"12AWG\",'Actuator Cable Distance'!$O36,CF$53=\"1.5mm2\",'Actuator Cable Distance'!$P36,CF$53=\"2.5mm2\",'Actuator Cable Distance'!$H$36)),0)","v":0},{"$f":"IF(CG$38>0,(_xlfn.IFS(CG$53=\"18AWG\",'Actuator Cable Distance'!$L36,CG$53=\"16AWG\",'Actuator Cable Distance'!$M36,CG$53=\"14AWG\",'Actuator Cable Distance'!$N36,CG$53=\"12AWG\",'Actuator Cable Distance'!$O36,CG$53=\"1.5mm2\",'Actuator Cable Distance'!$P36,CG$53=\"2.5mm2\",'Actuator Cable Distance'!$H$36)),0)","v":0}]
[" ",5,{"$f":"+L46","v":"No Actuator Selected"}," ",null,null,{"$f":"+O46","v":0},null,{"$f":"IF(I46>0,\"**You have either \" & I46 & \" Missing Solenoid or Missing Allocation of Panel to hazard Zone\",\"\")","v":""},null,"Solenoid 1",{"$f":"VLOOKUP($K38,'4007ESConfigurator'!$B$192:$M$280,4,TRUE)","v":"No Actuator Selected"},null,null,{"$f":"IF(L42=\"No Actuator Selected\",0,1)","v":0},"Solenoid 6",{"$f":"VLOOKUP($P38,'4007ESConfigurator'!$B$192:$M$280,4,TRUE)","v":"No Actuator Selected"},null,null,{"$f":"IF(Q42=\"No Actuator Selected\",0,1)","v":0},"Solenoid 11",{"$f":"VLOOKUP($U38,'4007ESConfigurator'!$B$192:$M$280,4,TRUE)","v":"No Actuator Selected"},null,null,{"$f":"IF(V42=\"No Actuator Selected\",0,1)","v":0},"Solenoid 16",{"$f":"VLOOKUP($Z38,'4007ESConfigurator'!$B$192:$M$280,4,TRUE)","v":"No Actuator Selected"},null,null,{"$f":"IF(AA42=\"No Actuator Selected\",0,1)","v":0},null,0,0,"RAC Powered",0,null,null,null,null,null,null,null,null,null,null,null,null,null,null,null,null,null,null,null,null,null,null,null,null,null,null,null,null,null,null,"Solenoid 1",{"$f":"VLOOKUP($K38,'4007ESConfigurator'!$B$192:$M$280,4,TRUE)","v":"No Actuator Selected"},null,null,{"$f":"IF(BO42=\"No Actuator Selected\",0,1)","v":0},"Solenoid 6",{"$f":"VLOOKUP($P38,'4007ESConfigurator'!$B$192:$M$280,4,TRUE)","v":"No Actuator Selected"},null,null,{"$f":"IF(BT42=\"No Actuator Selected\",0,1)","v":0},"Solenoid 11",{"$f":"VLOOKUP($U38,'4007ESConfigurator'!$B$192:$M$280,4,TRUE)","v":"No Actuator Selected"},null,null,{"$f":"IF(BY42=\"No Actuator Selected\",0,1)","v":0},"Solenoid 16",{"$f":"VLOOKUP($Z38,'4007ESConfigurator'!$B$192:$M$280,4,TRUE)","v":"No Actuator Selected"},null,null,{"$f":"IF(CD42=\"No Actuator Selected\",0,1)","v":0}]
[" ",6,{"$f":"+Q42","v":"No Actuator Selected"}," ",null,null,{"$f":"+T42","v":0},null,null,null,"Solenoid 2",{"$f":"VLOOKUP($L38,'4007ESConfigurator'!$B$192:$M$280,4,TRUE)","v":"No Actuator Selected"},null,null,{"$f":"IF(L43=\"No Actuator Selected\",0,1)","v":0},"Solenoid 7",{"$f":"VLOOKUP($Q38,'4007ESConfigurator'!$B$192:$M$280,4,TRUE)","v":"No Actuator Selected"},null,null,{"$f":"IF(Q43=\"No Actuator Selected\",0,1)","v":0},"Solenoid 12",{"$f":"VLOOKUP($V38,'4007ESConfigurator'!$B$192:$M$280,4,TRUE)","v":"No Actuator Selected"},null,null,{"$f":"IF(V43=\"No Actuator Selected\",0,1)","v":0},"Solenoid 17",{"$f":"VLOOKUP($AA38,'4007ESConfigurator'!$B$192:$M$280,4,TRUE)","v":"No Actuator Selected"},null,null,{"$f":"IF(AA43=\"No Actuator Selected\",0,1)","v":0},null,0,0,"RAC Powered",0,null,null,null,null,null,null,null,null,"Hazard",{"$f":"+K35","v":"Hazard 1"},{"$f":"+L35","v":"Hazard 2"},{"$f":"+M$35","v":"Hazard 3"},{"$f":"+N$35","v":"Hazard 4"},"Hazard 5","Hazard 6","Hazard 7","Hazard 8","Hazard 9","Hazard 10","Hazard 11","Hazard 12","Hazard 13","Hazard 14","Hazard 15","Hazard 16","Hazard 17","Hazard 18","Hazard 19","Hazard 20",null,"Solenoid 2",{"$f":"VLOOKUP($L38,'4007ESConfigurator'!$B$192:$M$280,4,TRUE)","v":"No Actuator Selected"},null,null,{"$f":"IF(BO43=\"No Actuator Selected\",0,1)","v":0},"Solenoid 7",{"$f":"VLOOKUP($Q38,'4007ESConfigurator'!$B$192:$M$280,4,TRUE)","v":"No Actuator Selected"},null,null,{"$f":"IF(BT43=\"No Actuator Selected\",0,1)","v":0},"Solenoid 12",{"$f":"VLOOKUP($V38,'4007ESConfigurator'!$B$192:$M$280,4,TRUE)","v":"No Actuator Selected"},null,null,{"$f":"IF(BY43=\"No Actuator Selected\",0,1)","v":0},"Solenoid 17",{"$f":"VLOOKUP($AA38,'4007ESConfigurator'!$B$192:$M$280,4,TRUE)","v":"No Actuator Selected"},null,null,{"$f":"IF(CD43=\"No Actuator Selected\",0,1)","v":0}]
[" ",7,{"$f":"+Q43","v":"No Actuator Selected"}," ",null,null,{"$f":"+T43","v":0},null,null,null,"Solenoid 3",{"$f":"VLOOKUP($M38,'4007ESConfigurator'!$B$192:$M$280,4,TRUE)","v":"No Actuator Selected"},null,null,0,"Solenoid 8",{"$f":"VLOOKUP($R38,'4007ESConfigurator'!$B$192:$M$280,4,TRUE)","v":"No Actuator Selected"},null,null,0,"Solenoid 13",{"$f":"VLOOKUP($W38,'4007ESConfigurator'!$B$192:$M$280,4,TRUE)","v":"No Actuator Selected"},null,null,0,"Solenoid 18",{"$f":"VLOOKUP($AB38,'4007ESConfigurator'!$B$192:$M$280,4,TRUE)","v":"No Actuator Selected"},null,null,0,null,0,0,"RAC Powered",0,null,null,null,null,null,null,null,null,"Panel",{"$f":"+K$19","v":"No Selection"},{"$f":"+L$19","v":"No Selection"},"No Selection","No Selection","No Selection","No Selection","No Selection",{"$f":"+R$19","v":"No Selection"},"No Selection","No Selection","No Selection","No Selection","No Selection","No Selection","No Selection","No Selection","No Selection","No Selection","No Selection","No Selection",null,"Solenoid 3",{"$f":"VLOOKUP($M38,'4007ESConfigurator'!$B$192:$M$280,4,TRUE)","v":"No Actuator Selected"},null,null,0,"Solenoid 8",{"$f":"VLOOKUP($R38,'4007ESConfigurator'!$B$192:$M$280,4,TRUE)","v":"No Actuator Selected"},null,null,0,"Solenoid 13",{"$f":"VLOOKUP($W38,'4007ESConfigurator'!$B$192:$M$280,4,TRUE)","v":"No Actuator Selected"},null,null,0,"Solenoid 18",{"$f":"VLOOKUP($AB38,'4007ESConfigurator'!$B$192:$M$280,4,TRUE)","v":"No Actuator Selected"},null,null,0]
[" ",8,{"$f":"+Q44","v":"No Actuator Selected"}," ",null,null,{"$f":"+T44","v":0},null,"** This Check is for matching Hazard Zone have matching Solenoid assigned",null,"Solenoid 4",{"$f":"VLOOKUP($N38,'4007ESConfigurator'!$B$192:$M$280,4,TRUE)","v":"No Actuator Selected"},null,null,0,"Solenoid 9",{"$f":"VLOOKUP($S38,'4007ESConfigurator'!$B$192:$M$280,4,TRUE)","v":"No Actuator Selected"},null,null,0,"Solenoid 14",{"$f":"VLOOKUP($X38,'4007ESConfigurator'!$B$192:$M$280,4,TRUE)","v":"No Actuator Selected"},null,null,0,"Solenoid 19",{"$f":"VLOOKUP($AC38,'4007ESConfigurator'!$B$192:$M$280,4,TRUE)","v":"No Actuator Selected"},null,null,0,null,0,0,"RAC Powered",0,null,null,null,null,null,null,null,null,"NAC",{"$f":"+K175","v":0},{"$f":"+L175","v":0},0,0,0,0,0,0,0,0,0,0,0,0,0,0,0,0,0,0,null,"Solenoid 4",{"$f":"VLOOKUP($N38,'4007ESConfigurator'!$B$192:$M$280,4,TRUE)","v":"No Actuator Selected"},null,null,0,"Solenoid 9",{"$f":"VLOOKUP($S38,'4007ESConfigurator'!$B$192:$M$280,4,TRUE)","v":"No Actuator Selected"},null,null,0,"Solenoid 14",{"$f":"VLOOKUP($X38,'4007ESConfigurator'!$B$192:$M$280,4,TRUE)","v":"No Actuator Selected"},null,null,0,"Solenoid 19",{"$f":"VLOOKUP($AC38,'4007ESConfigurator'!$B$192:$M$280,4,TRUE)","v":"No Actuator Selected"},null,null,0]
[" ",9,{"$f":"+Q45","v":"No Actuator Selected"}," ",null,null,{"$f":"+T45","v":0},null,null,null,"Solenoid 5",{"$f":"VLOOKUP($O38,'4007ESConfigurator'!$B$192:$M$280,4,TRUE)","v":"No Actuator Selected"},null,null,0,"Solenoid 10",{"$f":"VLOOKUP($T38,'4007ESConfigurator'!$B$192:$M$280,4,TRUE)","v":"No Actuator Selected"},null,null,0,"Solenoid 15",{"$f":"VLOOKUP($Y38,'4007ESConfigurator'!$B$192:$M$280,4,TRUE)","v":"No Actuator Selected"},null,null,0,"Solenoid 20",{"$f":"VLOOKUP($AD38,'4007ESConfigurator'!$B$192:$M$280,4,TRUE)","v":"No Actuator Selected"},null,null,0," ",0,0,"RAC Powered",0,null,null,null,null,null,null,null,null,null,null,null,null,"Auxillary PS",null,null,null,null,null,null,null,null,null,null,null,null,null,null,null,null,null,"Solenoid 5",{"$f":"VLOOKUP($O38,'4007ESConfigurator'!$B$192:$M$280,4,TRUE)","v":"No Actuator Selected"},null,null,0,"Solenoid 10",{"$f":"VLOOKUP($T38,'4007ESConfigurator'!$B$192:$M$280,4,TRUE)","v":"No Actuator Selected"},null,null,0,"Solenoid 15",{"$f":"VLOOKUP($Y38,'4007ESConfigurator'!$B$192:$M$280,4,TRUE)","v":"No Actuator Selected"},null,null,0,"Solenoid 20",{"$f":"VLOOKUP($AD38,'4007ESConfigurator'!$B$192:$M$280,4,TRUE)","v":"No Actuator Selected"},null,null,0]
[" ",10,{"$f":"+Q46","v":"No Actuator Selected"}," ",null,null,{"$f":"+T46","v":0},null,"4007ES NAC Wiring to Addr SRP Modules",null,"Cable Selection for 4007ES NAC to RAC Suppression Release Peripheral Modules",null,null,null,null,null,null,null,null,null,null,null,null,null,null,null,null,null,null,null,null,0,0,"RAC Powered",0,null,null,null,null,null,null,null,null,null,"Panel","RAC","NAC","Alarm","Standby","Type","Gas","Preaction"," ",null,null,null,null,null,null,null,null,null,null,null,null,"Cable Selection for 4007ES NAC to RAC Suppression Release Peripheral Modules"]
[" ",11,{"$f":"+V42","v":"No Actuator Selected"}," ",null,null,{"$f":"+Y42","v":0},null,"RAC Wire Gauge Selection",null,"2.5mm2","2.5mm2","2.5mm2","2.5mm2","2.5mm2","2.5mm2","2.5mm2","2.5mm2","2.5mm2","2.5mm2","2.5mm2","2.5mm2","2.5mm2","2.5mm2","2.5mm2","2.5mm2","2.5mm2","2.5mm2","2.5mm2","2.5mm2",null,0,0,"RAC Powered",0,null,null,null,null,null,null,null,null,null,"4007ES",{"$f":"SUMPRODUCT(--($AS$40:$BL$40=\"4007ES\")*($AS$41:$BL$41))","v":0},{"$f":"SUMPRODUCT(--($AS$44:$BL$44=\"4007ES\")*($AS$45:$BL$45))","v":0},{"$f":"SUMPRODUCT(--($AS$56:$BL$56=\"4007ES\")*($AS$57:$BL$73))","v":0},{"$f":"SUMPRODUCT(--($AS$77:$BL$77=\"4007ES\")*($AS$78:$BL$93))","v":0},{"$f":"IF(AZ48>0.9,\"Preaction\",\"Gas\")","v":"Gas"},{"$f":"(((SUMPRODUCT(--($AS$25:$BL$25=\"4007ES\")*($AS$27:$BL$27)))))","v":0},{"$f":"(((SUMPRODUCT(--($AS$25:$BL$25=\"4007ES\")*($AS$28:$BL$28)))))","v":0},null,null,null,null,null,null,null,null,null,null,null,null,4,"16AWG","16AWG","16AWG","16AWG","16AWG","16AWG","16AWG","16AWG","16AWG","16AWG","16AWG","16AWG","16AWG","16AWG","16AWG","16AWG","16AWG","16AWG","16AWG","16AWG"]
[" ",12,{"$f":"+V43","v":"No Actuator Selected"}," ",null,null,{"$f":"+Y43","v":0},null,"Max Line Resistance",null,"Max Line Resistance","Max Line Resistance","Max Line Resistance","Max Line Resistance","Max Line Resistance","Max Line Resistance","Max Line Resistance","Max Line Resistance","Max Line Resistance","Max Line Resistance","Max Line Resistance","Max Line Resistance","Max Line Resistance","Max Line Resistance","Max Line Resistance","Max Line Resistance","Max Line Resistance","Max Line Resistance","Max Line Resistance","Max Line Resistance",null,0,0,"RAC Powered",0,null,null,null,null,null,null,null,null,null,"NAC Repeat 1",{"$f":"SUMPRODUCT(--($AS$40:$BL$40=\"NAC REPEAT 1\")*($AS$41:$BL$41))","v":0},{"$f":"SUMPRODUCT(--($AS$44:$BL$44=\"NAC REPEAT 1\")*($AS$45:$BL$45))","v":0},{"$f":"SUMPRODUCT(--($AS$56:$BL$56=\"NAC REPEAT 1\")*($AS$57:$BL$73))","v":0},{"$f":"SUMPRODUCT(--($AS$77:$BL$77=\"NAC Repeat 1\")*($AS$78:$BL$93))","v":0},{"$f":"IF(AZ49>0.9,\"Preaction\",\"Gas\")","v":"Gas"},{"$f":"(((SUMPRODUCT(--($AS$25:$BL$25=\"NAC Repeat 1\")*($AS$27:$BL$27)))))","v":0},{"$f":"(((SUMPRODUCT(--($AS$25:$BL$25=\"NAC Repeat 1\")*($AS$28:$BL$28)))))","v":0},null,null,null,null,null,null,null,null,null,null,null,null,null,"Max Line Resistance","Max Line Resistance","Max Line Resistance","Max Line Resistance","Max Line Resistance","Max Line Resistance","Max Line Resistance","Max Line Resistance","Max Line Resistance","Max Line Resistance","Max Line Resistance","Max Line Resistance","Max Line Resistance","Max Line Resistance","Max Line Resistance","Max Line Resistance","Max Line Resistance","Max Line Resistance","Max Line Resistance","Max Line Resistance"]
[" ",13,{"$f":"+V44","v":"No Actuator Selected"}," ",null,null,{"$f":"+Y44","v":0},null,"Affected by Solenoid Current Rating",null,{"$f":"_xlfn.IFS(K$39>1999,'[1]Actuator Cable Distance'!$M$10,K$39>1749,'[1]Actuator Cable Distance'!$M$9,K$39>1499,'[1]Actuator Cable Distance'!$M$8,K$39>1249,'[1]Actuator Cable Distance'!$M$7,K$39>999,'[1]Actuator Cable Distance'!$M$6,K$39>749,'[1]Actuator Cable Distance'!$M$5,K$39>499,'[1]Actuator Cable Distance'!$M$4,K$39>249,'[1]Actuator Cable Distance'!$M$4,K38<1,0)","v":0},{"$f":"_xlfn.IFS(L$39>1999,'Actuator Cable Distance'!$M$22,L$39>1749,'Actuator Cable Distance'!$M$21,L$39>1499,'Actuator Cable Distance'!$M$20,L$39>1249,'Actuator Cable Distance'!$M$19,L$39>999,'Actuator Cable Distance'!$M$18,L$39>749,'Actuator Cable Distance'!$M$17,L$39>499,'Actuator Cable Distance'!$M$16,L$39>249,'Actuator Cable Distance'!$M$16,L38<1,0)","v":0},{"$f":"_xlfn.IFS(M$39>1999,'Actuator Cable Distance'!$M$22,M$39>1749,'Actuator Cable Distance'!$M$21,M$39>1499,'Actuator Cable Distance'!$M$20,M$39>1249,'Actuator Cable Distance'!$M$19,M$39>999,'Actuator Cable Distance'!$M$18,M$39>749,'Actuator Cable Distance'!$M$17,M$39>499,'Actuator Cable Distance'!$M$16,M$39>249,'Actuator Cable Distance'!$M$16,M38<1,0)","v":0},{"$f":"_xlfn.IFS(N$39>1999,'Actuator Cable Distance'!$M$22,N$39>1749,'Actuator Cable Distance'!$M$21,N$39>1499,'Actuator Cable Distance'!$M$20,N$39>1249,'Actuator Cable Distance'!$M$19,N$39>999,'Actuator Cable Distance'!$M$18,N$39>749,'Actuator Cable Distance'!$M$17,N$39>499,'Actuator Cable Distance'!$M$16,N$39>249,'Actuator Cable Distance'!$M$16,N38<1,0)","v":0},{"$f":"_xlfn.IFS(O$39>1999,'Actuator Cable Distance'!$M$22,O$39>1749,'Actuator Cable Distance'!$M$21,O$39>1499,'Actuator Cable Distance'!$M$20,O$39>1249,'Actuator Cable Distance'!$M$19,O$39>999,'Actuator Cable Distance'!$M$18,O$39>749,'Actuator Cable Distance'!$M$17,O$39>499,'Actuator Cable Distance'!$M$16,O$39>249,'Actuator Cable Distance'!$M$16,O38<1,0)","v":0},{"$f":"_xlfn.IFS(P$39>1999,'Actuator Cable Distance'!$M$22,P$39>1749,'Actuator Cable Distance'!$M$21,P$39>1499,'Actuator Cable Distance'!$M$20,P$39>1249,'Actuator Cable Distance'!$M$19,P$39>999,'Actuator Cable Distance'!$M$18,P$39>749,'Actuator Cable Distance'!$M$17,P$39>499,'Actuator Cable Distance'!$M$16,P$39>249,'Actuator Cable Distance'!$M$16,P38<1,0)","v":0},{"$f":"_xlfn.IFS(Q$39>1999,'Actuator Cable Distance'!$M$22,Q$39>1749,'Actuator Cable Distance'!$M$21,Q$39>1499,'Actuator Cable Distance'!$M$20,Q$39>1249,'Actuator Cable Distance'!$M$19,Q$39>999,'Actuator Cable Distance'!$M$18,Q$39>749,'Actuator Cable Distance'!$M$17,Q$39>499,'Actuator Cable Distance'!$M$16,Q$39>249,'Actuator Cable Distance'!$M$16,Q38<1,0)","v":0},{"$f":"_xlfn.IFS(R$39>1999,'Actuator Cable Distance'!$M$22,R$39>1749,'Actuator Cable Distance'!$M$21,R$39>1499,'Actuator Cable Distance'!$M$20,R$39>1249,'Actuator Cable Distance'!$M$19,R$39>999,'Actuator Cable Distance'!$M$18,R$39>749,'Actuator Cable Distance'!$M$17,R$39>499,'Actuator Cable Distance'!$M$16,R$39>249,'Actuator Cable Distance'!$M$16,R38<1,0)","v":0},{"$f":"_xlfn.IFS(S$39>1999,'Actuator Cable Distance'!$M$22,S$39>1749,'Actuator Cable Distance'!$M$21,S$39>1499,'Actuator Cable Distance'!$M$20,S$39>1249,'Actuator Cable Distance'!$M$19,S$39>999,'Actuator Cable Distance'!$M$18,S$39>749,'Actuator Cable Distance'!$M$17,S$39>499,'Actuator Cable Distance'!$M$16,S$39>249,'Actuator Cable Distance'!$M$16,S38<1,0)","v":0},{"$f":"_xlfn.IFS(T$39>1999,'Actuator Cable Distance'!$M$22,T$39>1749,'Actuator Cable Distance'!$M$21,T$39>1499,'Actuator Cable Distance'!$M$20,T$39>1249,'Actuator Cable Distance'!$M$19,T$39>999,'Actuator Cable Distance'!$M$18,T$39>749,'Actuator Cable Distance'!$M$17,T$39>499,'Actuator Cable Distance'!$M$16,T$39>249,'Actuator Cable Distance'!$M$16,T38<1,0)","v":0},{"$f":"_xlfn.IFS(U$39>1999,'Actuator Cable Distance'!$M$22,U$39>1749,'Actuator Cable Distance'!$M$21,U$39>1499,'Actuator Cable Distance'!$M$20,U$39>1249,'Actuator Cable Distance'!$M$19,U$39>999,'Actuator Cable Distance'!$M$18,U$39>749,'Actuator Cable Distance'!$M$17,U$39>499,'Actuator Cable Distance'!$M$16,U$39>249,'Actuator Cable Distance'!$M$16,U38<1,0)","v":0},{"$f":"_xlfn.IFS(V$39>1999,'Actuator Cable Distance'!$M$22,V$39>1749,'Actuator Cable Distance'!$M$21,V$39>1499,'Actuator Cable Distance'!$M$20,V$39>1249,'Actuator Cable Distance'!$M$19,V$39>999,'Actuator Cable Distance'!$M$18,V$39>749,'Actuator Cable Distance'!$M$17,V$39>499,'Actuator Cable Distance'!$M$16,V$39>249,'Actuator Cable Distance'!$M$16,V38<1,0)","v":0},{"$f":"_xlfn.IFS(W$39>1999,'Actuator Cable Distance'!$M$22,W$39>1749,'Actuator Cable Distance'!$M$21,W$39>1499,'Actuator Cable Distance'!$M$20,W$39>1249,'Actuator Cable Distance'!$M$19,W$39>999,'Actuator Cable Distance'!$M$18,W$39>749,'Actuator Cable Distance'!$M$17,W$39>499,'Actuator Cable Distance'!$M$16,W$39>249,'Actuator Cable Distance'!$M$16,W38<1,0)","v":0},{"$f":"_xlfn.IFS(X$39>1999,'Actuator Cable Distance'!$M$22,X$39>1749,'Actuator Cable Distance'!$M$21,X$39>1499,'Actuator Cable Distance'!$M$20,X$39>1249,'Actuator Cable Distance'!$M$19,X$39>999,'Actuator Cable Distance'!$M$18,X$39>749,'Actuator Cable Distance'!$M$17,X$39>499,'Actuator Cable Distance'!$M$16,X$39>249,'Actuator Cable Distance'!$M$16,X38<1,0)","v":0},{"$f":"_xlfn.IFS(Y$39>1999,'Actuator Cable Distance'!$M$22,Y$39>1749,'Actuator Cable Distance'!$M$21,Y$39>1499,'Actuator Cable Distance'!$M$20,Y$39>1249,'Actuator Cable Distance'!$M$19,Y$39>999,'Actuator Cable Distance'!$M$18,Y$39>749,'Actuator Cable Distance'!$M$17,Y$39>499,'Actuator Cable Distance'!$M$16,Y$39>249,'Actuator Cable Distance'!$M$16,Y38<1,0)","v":0},{"$f":"_xlfn.IFS(Z$39>1999,'Actuator Cable Distance'!$M$22,Z$39>1749,'Actuator Cable Distance'!$M$21,Z$39>1499,'Actuator Cable Distance'!$M$20,Z$39>1249,'Actuator Cable Distance'!$M$19,Z$39>999,'Actuator Cable Distance'!$M$18,Z$39>749,'Actuator Cable Distance'!$M$17,Z$39>499,'Actuator Cable Distance'!$M$16,Z$39>249,'Actuator Cable Distance'!$M$16,Z38<1,0)","v":0},{"$f":"_xlfn.IFS(AA$39>1999,'Actuator Cable Distance'!$M$22,AA$39>1749,'Actuator Cable Distance'!$M$21,AA$39>1499,'Actuator Cable Distance'!$M$20,AA$39>1249,'Actuator Cable Distance'!$M$19,AA$39>999,'Actuator Cable Distance'!$M$18,AA$39>749,'Actuator Cable Distance'!$M$17,AA$39>499,'Actuator Cable Distance'!$M$16,AA$39>249,'Actuator Cable Distance'!$M$16,AA38<1,0)","v":0},{"$f":"_xlfn.IFS(AB$39>1999,'Actuator Cable Distance'!$M$22,AB$39>1749,'Actuator Cable Distance'!$M$21,AB$39>1499,'Actuator Cable Distance'!$M$20,AB$39>1249,'Actuator Cable Distance'!$M$19,AB$39>999,'Actuator Cable Distance'!$M$18,AB$39>749,'Actuator Cable Distance'!$M$17,AB$39>499,'Actuator Cable Distance'!$M$16,AB$39>249,'Actuator Cable Distance'!$M$16,AB38<1,0)","v":0},{"$f":"_xlfn.IFS(AC$39>1999,'Actuator Cable Distance'!$M$22,AC$39>1749,'Actuator Cable Distance'!$M$21,AC$39>1499,'Actuator Cable Distance'!$M$20,AC$39>1249,'Actuator Cable Distance'!$M$19,AC$39>999,'Actuator Cable Distance'!$M$18,AC$39>749,'Actuator Cable Distance'!$M$17,AC$39>499,'Actuator Cable Distance'!$M$16,AC$39>249,'Actuator Cable Distance'!$M$16,AC38<1,0)","v":0},{"$f":"_xlfn.IFS(AD$39>1999,'Actuator Cable Distance'!$M$22,AD$39>1749,'Actuator Cable Distance'!$M$21,AD$39>1499,'Actuator Cable Distance'!$M$20,AD$39>1249,'Actuator Cable Distance'!$M$19,AD$39>999,'Actuator Cable Distance'!$M$18,AD$39>749,'Actuator Cable Distance'!$M$17,AD$39>499,'Actuator Cable Distance'!$M$16,AD$39>249,'Actuator Cable Distance'!$M$16,AD38<1,0)","v":0},null,0,0,"RAC Powered",0,null,null,null,null,null,null,null,null,null,"NAC Repeat 2",{"$f":"SUMPRODUCT(--($AS$40:$BL$40=\"NAC REPEAT 2\")*($AS$41:$BL$41))","v":0},{"$f":"SUMPRODUCT(--($AS$44:$BL$44=\"NAC REPEAT 2\")*($AS$45:$BL$45))","v":0},{"$f":"SUMPRODUCT(--($AS$56:$BL$56=\"NAC REPEAT 2\")*($AS$57:$BL$73))","v":0},{"$f":"SUMPRODUCT(--($AS$77:$BL$77=\"NAC Repeat 2\")*($AS$78:$BL$93))","v":0},"Gas",{"$f":"(((SUMPRODUCT(--($AS$25:$BL$25=\"4007ES\")*($AS$27:$BL$27)))))","v":0},{"$f":"(((SUMPRODUCT(--($AS$25:$BL$25=\"NAC Repeat 2\")*($AS$28:$BL$28)))))","v":0},null,null,null,null,null,null,null,null,null,null,null,null,null,{"$f":"_xlfn.IFS(BN$39>1999,'Actuator Cable Distance'!$M$10,BN$39>1749,'Actuator Cable Distance'!$M$9,BN$39>1499,'Actuator Cable Distance'!$M$8,BN$39>1249,'Actuator Cable Distance'!$M$7,BN$39>999,'Actuator Cable Distance'!$M$6,BN$39>749,'Actuator Cable Distance'!$M$5,BN$39>499,'Actuator Cable Distance'!$M$4,BN$39>249,'Actuator Cable Distance'!$M$4,BN38<1,0)","v":0},{"$f":"_xlfn.IFS(BO$39>1999,'Actuator Cable Distance'!$M$22,BO$39>1749,'Actuator Cable Distance'!$M$21,BO$39>1499,'Actuator Cable Distance'!$M$20,BO$39>1249,'Actuator Cable Distance'!$M$19,BO$39>999,'Actuator Cable Distance'!$M$18,BO$39>749,'Actuator Cable Distance'!$M$17,BO$39>499,'Actuator Cable Distance'!$M$16,BO$39>249,'Actuator Cable Distance'!$M$16,BO38<1,0)","v":0},{"$f":"_xlfn.IFS(BP$39>1999,'Actuator Cable Distance'!$M$22,BP$39>1749,'Actuator Cable Distance'!$M$21,BP$39>1499,'Actuator Cable Distance'!$M$20,BP$39>1249,'Actuator Cable Distance'!$M$19,BP$39>999,'Actuator Cable Distance'!$M$18,BP$39>749,'Actuator Cable Distance'!$M$17,BP$39>499,'Actuator Cable Distance'!$M$16,BP$39>249,'Actuator Cable Distance'!$M$16,BP38<1,0)","v":0},{"$f":"_xlfn.IFS(BQ$39>1999,'Actuator Cable Distance'!$M$22,BQ$39>1749,'Actuator Cable Distance'!$M$21,BQ$39>1499,'Actuator Cable Distance'!$M$20,BQ$39>1249,'Actuator Cable Distance'!$M$19,BQ$39>999,'Actuator Cable Distance'!$M$18,BQ$39>749,'Actuator Cable Distance'!$M$17,BQ$39>499,'Actuator Cable Distance'!$M$16,BQ$39>249,'Actuator Cable Distance'!$M$16,BQ38<1,0)","v":0},{"$f":"_xlfn.IFS(BR$39>1999,'Actuator Cable Distance'!$M$22,BR$39>1749,'Actuator Cable Distance'!$M$21,BR$39>1499,'Actuator Cable Distance'!$M$20,BR$39>1249,'Actuator Cable Distance'!$M$19,BR$39>999,'Actuator Cable Distance'!$M$18,BR$39>749,'Actuator Cable Distance'!$M$17,BR$39>499,'Actuator Cable Distance'!$M$16,BR$39>249,'Actuator Cable Distance'!$M$16,BR38<1,0)","v":0},{"$f":"_xlfn.IFS(BS$39>1999,'Actuator Cable Distance'!$M$22,BS$39>1749,'Actuator Cable Distance'!$M$21,BS$39>1499,'Actuator Cable Distance'!$M$20,BS$39>1249,'Actuator Cable Distance'!$M$19,BS$39>999,'Actuator Cable Distance'!$M$18,BS$39>749,'Actuator Cable Distance'!$M$17,BS$39>499,'Actuator Cable Distance'!$M$16,BS$39>249,'Actuator Cable Distance'!$M$16,BS38<1,0)","v":0},{"$f":"_xlfn.IFS(BT$39>1999,'Actuator Cable Distance'!$M$22,BT$39>1749,'Actuator Cable Distance'!$M$21,BT$39>1499,'Actuator Cable Distance'!$M$20,BT$39>1249,'Actuator Cable Distance'!$M$19,BT$39>999,'Actuator Cable Distance'!$M$18,BT$39>749,'Actuator Cable Distance'!$M$17,BT$39>499,'Actuator Cable Distance'!$M$16,BT$39>249,'Actuator Cable Distance'!$M$16,BT38<1,0)","v":0},{"$f":"_xlfn.IFS(BU$39>1999,'Actuator Cable Distance'!$M$22,BU$39>1749,'Actuator Cable Distance'!$M$21,BU$39>1499,'Actuator Cable Distance'!$M$20,BU$39>1249,'Actuator Cable Distance'!$M$19,BU$39>999,'Actuator Cable Distance'!$M$18,BU$39>749,'Actuator Cable Distance'!$M$17,BU$39>499,'Actuator Cable Distance'!$M$16,BU$39>249,'Actuator Cable Distance'!$M$16,BU38<1,0)","v":0},{"$f":"_xlfn.IFS(BV$39>1999,'Actuator Cable Distance'!$M$22,BV$39>1749,'Actuator Cable Distance'!$M$21,BV$39>1499,'Actuator Cable Distance'!$M$20,BV$39>1249,'Actuator Cable Distance'!$M$19,BV$39>999,'Actuator Cable Distance'!$M$18,BV$39>749,'Actuator Cable Distance'!$M$17,BV$39>499,'Actuator Cable Distance'!$M$16,BV$39>249,'Actuator Cable Distance'!$M$16,BV38<1,0)","v":0},{"$f":"_xlfn.IFS(BW$39>1999,'Actuator Cable Distance'!$M$22,BW$39>1749,'Actuator Cable Distance'!$M$21,BW$39>1499,'Actuator Cable Distance'!$M$20,BW$39>1249,'Actuator Cable Distance'!$M$19,BW$39>999,'Actuator Cable Distance'!$M$18,BW$39>749,'Actuator Cable Distance'!$M$17,BW$39>499,'Actuator Cable Distance'!$M$16,BW$39>249,'Actuator Cable Distance'!$M$16,BW38<1,0)","v":0},{"$f":"_xlfn.IFS(BX$39>1999,'Actuator Cable Distance'!$M$22,BX$39>1749,'Actuator Cable Distance'!$M$21,BX$39>1499,'Actuator Cable Distance'!$M$20,BX$39>1249,'Actuator Cable Distance'!$M$19,BX$39>999,'Actuator Cable Distance'!$M$18,BX$39>749,'Actuator Cable Distance'!$M$17,BX$39>499,'Actuator Cable Distance'!$M$16,BX$39>249,'Actuator Cable Distance'!$M$16,BX38<1,0)","v":0},{"$f":"_xlfn.IFS(BY$39>1999,'Actuator Cable Distance'!$M$22,BY$39>1749,'Actuator Cable Distance'!$M$21,BY$39>1499,'Actuator Cable Distance'!$M$20,BY$39>1249,'Actuator Cable Distance'!$M$19,BY$39>999,'Actuator Cable Distance'!$M$18,BY$39>749,'Actuator Cable Distance'!$M$17,BY$39>499,'Actuator Cable Distance'!$M$16,BY$39>249,'Actuator Cable Distance'!$M$16,BY38<1,0)","v":0},{"$f":"_xlfn.IFS(BZ$39>1999,'Actuator Cable Distance'!$M$22,BZ$39>1749,'Actuator Cable Distance'!$M$21,BZ$39>1499,'Actuator Cable Distance'!$M$20,BZ$39>1249,'Actuator Cable Distance'!$M$19,BZ$39>999,'Actuator Cable Distance'!$M$18,BZ$39>749,'Actuator Cable Distance'!$M$17,BZ$39>499,'Actuator Cable Distance'!$M$16,BZ$39>249,'Actuator Cable Distance'!$M$16,BZ38<1,0)","v":0},{"$f":"_xlfn.IFS(CA$39>1999,'Actuator Cable Distance'!$M$22,CA$39>1749,'Actuator Cable Distance'!$M$21,CA$39>1499,'Actuator Cable Distance'!$M$20,CA$39>1249,'Actuator Cable Distance'!$M$19,CA$39>999,'Actuator Cable Distance'!$M$18,CA$39>749,'Actuator Cable Distance'!$M$17,CA$39>499,'Actuator Cable Distance'!$M$16,CA$39>249,'Actuator Cable Distance'!$M$16,CA38<1,0)","v":0},{"$f":"_xlfn.IFS(CB$39>1999,'Actuator Cable Distance'!$M$22,CB$39>1749,'Actuator Cable Distance'!$M$21,CB$39>1499,'Actuator Cable Distance'!$M$20,CB$39>1249,'Actuator Cable Distance'!$M$19,CB$39>999,'Actuator Cable Distance'!$M$18,CB$39>749,'Actuator Cable Distance'!$M$17,CB$39>499,'Actuator Cable Distance'!$M$16,CB$39>249,'Actuator Cable Distance'!$M$16,CB38<1,0)","v":0},{"$f":"_xlfn.IFS(CC$39>1999,'Actuator Cable Distance'!$M$22,CC$39>1749,'Actuator Cable Distance'!$M$21,CC$39>1499,'Actuator Cable Distance'!$M$20,CC$39>1249,'Actuator Cable Distance'!$M$19,CC$39>999,'Actuator Cable Distance'!$M$18,CC$39>749,'Actuator Cable Distance'!$M$17,CC$39>499,'Actuator Cable Distance'!$M$16,CC$39>249,'Actuator Cable Distance'!$M$16,CC38<1,0)","v":0},{"$f":"_xlfn.IFS(CD$39>1999,'Actuator Cable Distance'!$M$22,CD$39>1749,'Actuator Cable Distance'!$M$21,CD$39>1499,'Actuator Cable Distance'!$M$20,CD$39>1249,'Actuator Cable Distance'!$M$19,CD$39>999,'Actuator Cable Distance'!$M$18,CD$39>749,'Actuator Cable Distance'!$M$17,CD$39>499,'Actuator Cable Distance'!$M$16,CD$39>249,'Actuator Cable Distance'!$M$16,CD38<1,0)","v":0},{"$f":"_xlfn.IFS(CE$39>1999,'Actuator Cable Distance'!$M$22,CE$39>1749,'Actuator Cable Distance'!$M$21,CE$39>1499,'Actuator Cable Distance'!$M$20,CE$39>1249,'Actuator Cable Distance'!$M$19,CE$39>999,'Actuator Cable Distance'!$M$18,CE$39>749,'Actuator Cable Distance'!$M$17,CE$39>499,'Actuator Cable Distance'!$M$16,CE$39>249,'Actuator Cable Distance'!$M$16,CE38<1,0)","v":0},{"$f":"_xlfn.IFS(CF$39>1999,'Actuator Cable Distance'!$M$22,CF$39>1749,'Actuator Cable Distance'!$M$21,CF$39>1499,'Actuator Cable Distance'!$M$20,CF$39>1249,'Actuator Cable Distance'!$M$19,CF$39>999,'Actuator Cable Distance'!$M$18,CF$39>749,'Actuator Cable Distance'!$M$17,CF$39>499,'Actuator Cable Distance'!$M$16,CF$39>249,'Actuator Cable Distance'!$M$16,CF38<1,0)","v":0},{"$f":"_xlfn.IFS(CG$39>1999,'Actuator Cable Distance'!$M$22,CG$39>1749,'Actuator Cable Distance'!$M$21,CG$39>1499,'Actuator Cable Distance'!$M$20,CG$39>1249,'Actuator Cable Distance'!$M$19,CG$39>999,'Actuator Cable Distance'!$M$18,CG$39>749,'Actuator Cable Distance'!$M$17,CG$39>499,'Actuator Cable Distance'!$M$16,CG$39>249,'Actuator Cable Distance'!$M$16,CG38<1,0)","v":0}]
[" ",14,{"$f":"+V45","v":"No Actuator Selected"}," ",null,null,{"$f":"+Y45","v":0},null,"Max Volt -Affected by Solenoid Current Rating"," ",{"$f":"IF(K$38>0,(IF(K$39<1751,\"Vdrop=3.4V\",\"Vdrop=1.2V\")),0)","v":0},0,0,0,0,0,0,0,0,0,0,0,0,0,0,0,0,0,0,0,null,0,0,"RAC Powered",0,null,null,null,null,null,null,null,null,null,"NAC Repeat 3",{"$f":"SUMPRODUCT(--($AS$40:$BL$40=\"NAC REPEAT 3\")*($AS$41:$BL$41))","v":0},{"$f":"SUMPRODUCT(--($AS$44:$BL$44=\"NAC REPEAT 4\")*($AS$45:$BL$45))","v":0},{"$f":"SUMPRODUCT(--($AS$56:$BL$56=\"NAC REPEAT 3\")*($AS$57:$BL$73))","v":0},{"$f":"SUMPRODUCT(--($AS$77:$BL$77=\"NAC Repeat 3\")*($AS$78:$BL$93))","v":0},"Gas",{"$f":"(((SUMPRODUCT(--($AS$25:$BL$25=\"4007ES\")*($AS$27:$BL$27)))))","v":0},{"$f":"(((SUMPRODUCT(--($AS$25:$BL$25=\"NAC Repeat 3\")*($AS$28:$BL$28)))))","v":0},null,null,null,null,null,null,null,null,null,null,null,null,null,{"$f":"IF(BN$38>0,(IF(BN$39<1751,\"Vdrop=3.4V\",\"Vdrop=1.2V\")),0)","v":0},0,0,0,0,0,0,0,0,0,0,0,0,0,0,0,0,0,0,0]
[" ",15,{"$f":"+V46","v":"No Actuator Selected"}," ",null,null,{"$f":"+Y46","v":0},null,"Addr SRP Modules Wiring to Solenoid",null,"Cable Selection for Addressable Suppression Release Peripheral Modules to Solenoid",null,null,null,null,null,null,null,null,null,null,null,null,null,null,null,null,null,null,null,null,0,0,"RAC Powered",0,null,null,null,null,null,null,null,null,null,"NAC Repeat 4",{"$f":"SUMPRODUCT(--($AS$40:$BL$40=\"NAC REPEAT 4\")*($AS$41:$BL$41))","v":0},{"$f":"SUMPRODUCT(--($AS$44:$BL$44=\"NAC REPEAT 4\")*($AS$45:$BL$45))","v":0},{"$f":"SUMPRODUCT(--($AS$56:$BL$56=\"NAC REPEAT 4\")*($AS$57:$BL$73))","v":0},{"$f":"SUMPRODUCT(--($AS$77:$BL$77=\"NAC Repeat 4\")*($AS$78:$BL$93))","v":0},"Gas",{"$f":"(((SUMPRODUCT(--($AS$25:$BL$25=\"4007ES\")*($AS$27:$BL$27)))))","v":0},{"$f":"(((SUMPRODUCT(--($AS$25:$BL$25=\"NAC Repeat 4\")*($AS$28:$BL$28)))))","v":0},null,null,null,null,null,null,null,null,null,null,null,null,null,"Cable Selection for Addressable Suppression Release Peripheral Modules to Solenoid"]
[" ",16,{"$f":"+AA42","v":"No Actuator Selected"}," ",null,null,{"$f":"+AD42","v":0},null,"NAC Wire Gauge Selection",null,"2.5mm2","2.5mm2","2.5mm2","2.5mm2","2.5mm2","2.5mm2","2.5mm2","2.5mm2","2.5mm2","2.5mm2","2.5mm2","2.5mm2","2.5mm2","2.5mm2","2.5mm2","2.5mm2","2.5mm2","2.5mm2","2.5mm2","2.5mm2",null,0,0,"RAC Powered",0,null,null,null,null,null,null,null,null,null,"NAC Repeat 5",{"$f":"SUMPRODUCT(--($AS$40:$BL$40=\"NAC REPEAT 5\")*($AS$41:$BL$41))","v":0},{"$f":"SUMPRODUCT(--($AS$44:$BL$44=\"NAC REPEAT 5\")*($AS$45:$BL$45))","v":0},{"$f":"SUMPRODUCT(--($AS$56:$BL$56=\"NAC REPEAT 5\")*($AS$57:$BL$73))","v":0},{"$f":"SUMPRODUCT(--($AS$77:$BL$77=\"NAC Repeat 5\")*($AS$78:$BL$93))","v":0},"Gas",{"$f":"(((SUMPRODUCT(--($AS$25:$BL$25=\"4007ES\")*($AS$27:$BL$27)))))","v":0},{"$f":"(((SUMPRODUCT(--($AS$25:$BL$25=\"NAC Repeat 5\")*($AS$28:$BL$28)))))","v":0},null,null,null,null,null,null,null,null,null,null,null,null,null,"16AWG","16AWG","16AWG","16AWG","16AWG","16AWG","16AWG","16AWG","16AWG","16AWG","16AWG","16AWG","16AWG","16AWG","16AWG","16AWG","16AWG","16AWG","16AWG","16AWG"]
[" ",17,{"$f":"+AA43","v":"No Actuator Selected"}," ",null,null,{"$f":"+AD43","v":0},null,"Max Line Resistance",null,"Max Line Resistance","Max Line Resistance","Max Line Resistance","Max Line Resistance","Max Line Resistance","Max Line Resistance","Max Line Resistance","Max Line Resistance","Max Line Resistance","Max Line Resistance","Max Line Resistance","Max Line Resistance","Max Line Resistance","Max Line Resistance","Max Line Resistance","Max Line Resistance","Max Line Resistance","Max Line Resistance","Max Line Resistance","Max Line Resistance",null,0,0,"RAC Powered",0,null,null,null,null,null,null,null,null,"Alarm Power Summary",null,null,null,null,null,null,null,null,null,null,null,null,null,null,null,null,null,null,null,null,null,"Max Line Resistance","Max Line Resistance","Max Line Resistance","Max Line Resistance","Max Line Resistance","Max Line Resistance","Max Line Resistance","Max Line Resistance","Max Line Resistance","Max Line Resistance","Max Line Resistance","Max Line Resistance","Max Line Resistance","Max Line Resistance","Max Line Resistance","Max Line Resistance","Max Line Resistance","Max Line Resistance","Max Line Resistance","Max Line Resistance"]
[" ",18,{"$f":"+AA44","v":"No Actuator Selected"}," ",null,null,{"$f":"+AD44","v":0},null,"Affected by Solenoid Current Rating",null,{"$f":"_xlfn.IFS(K$39>1999,'[1]Actuator Cable Distance'!$M$22,K$39>1749,'[1]Actuator Cable Distance'!$M$21,K$39>1499,'[1]Actuator Cable Distance'!$M$20,K$39>1249,'[1]Actuator Cable Distance'!$M$19,K$39>999,'[1]Actuator Cable Distance'!$M$18,K$39>749,'[1]Actuator Cable Distance'!$M$17,K$39>499,'[1]Actuator Cable Distance'!$M$16,K$39>249,'[1]Actuator Cable Distance'!$M$16,K38<1,0)","v":0},{"$f":"_xlfn.IFS(L$39>1999,'Actuator Cable Distance'!$M$22,L$39>1749,'Actuator Cable Distance'!$M$21,L$39>1499,'Actuator Cable Distance'!$M$20,L$39>1249,'Actuator Cable Distance'!$M$19,L$39>999,'Actuator Cable Distance'!$M$18,L$39>749,'Actuator Cable Distance'!$M$17,L$39>499,'Actuator Cable Distance'!$M$16,L$39>249,'Actuator Cable Distance'!$M$16,L38<1,0)","v":0},{"$f":"_xlfn.IFS(M$39>1999,'Actuator Cable Distance'!$M$22,M$39>1749,'Actuator Cable Distance'!$M$21,M$39>1499,'Actuator Cable Distance'!$M$20,M$39>1249,'Actuator Cable Distance'!$M$19,M$39>999,'Actuator Cable Distance'!$M$18,M$39>749,'Actuator Cable Distance'!$M$17,M$39>499,'Actuator Cable Distance'!$M$16,M$39>249,'Actuator Cable Distance'!$M$16,M38<1,0)","v":0},{"$f":"_xlfn.IFS(N$39>1999,'Actuator Cable Distance'!$M$22,N$39>1749,'Actuator Cable Distance'!$M$21,N$39>1499,'Actuator Cable Distance'!$M$20,N$39>1249,'Actuator Cable Distance'!$M$19,N$39>999,'Actuator Cable Distance'!$M$18,N$39>749,'Actuator Cable Distance'!$M$17,N$39>499,'Actuator Cable Distance'!$M$16,N$39>249,'Actuator Cable Distance'!$M$16,N38<1,0)","v":0},{"$f":"_xlfn.IFS(O$39>1999,'Actuator Cable Distance'!$M$22,O$39>1749,'Actuator Cable Distance'!$M$21,O$39>1499,'Actuator Cable Distance'!$M$20,O$39>1249,'Actuator Cable Distance'!$M$19,O$39>999,'Actuator Cable Distance'!$M$18,O$39>749,'Actuator Cable Distance'!$M$17,O$39>499,'Actuator Cable Distance'!$M$16,O$39>249,'Actuator Cable Distance'!$M$16,O38<1,0)","v":0},{"$f":"_xlfn.IFS(P$39>1999,'Actuator Cable Distance'!$M$22,P$39>1749,'Actuator Cable Distance'!$M$21,P$39>1499,'Actuator Cable Distance'!$M$20,P$39>1249,'Actuator Cable Distance'!$M$19,P$39>999,'Actuator Cable Distance'!$M$18,P$39>749,'Actuator Cable Distance'!$M$17,P$39>499,'Actuator Cable Distance'!$M$16,P$39>249,'Actuator Cable Distance'!$M$16,P38<1,0)","v":0},{"$f":"_xlfn.IFS(Q$39>1999,'Actuator Cable Distance'!$M$22,Q$39>1749,'Actuator Cable Distance'!$M$21,Q$39>1499,'Actuator Cable Distance'!$M$20,Q$39>1249,'Actuator Cable Distance'!$M$19,Q$39>999,'Actuator Cable Distance'!$M$18,Q$39>749,'Actuator Cable Distance'!$M$17,Q$39>499,'Actuator Cable Distance'!$M$16,Q$39>249,'Actuator Cable Distance'!$M$16,Q38<1,0)","v":0},{"$f":"_xlfn.IFS(R$39>1999,'Actuator Cable Distance'!$M$22,R$39>1749,'Actuator Cable Distance'!$M$21,R$39>1499,'Actuator Cable Distance'!$M$20,R$39>1249,'Actuator Cable Distance'!$M$19,R$39>999,'Actuator Cable Distance'!$M$18,R$39>749,'Actuator Cable Distance'!$M$17,R$39>499,'Actuator Cable Distance'!$M$16,R$39>249,'Actuator Cable Distance'!$M$16,R38<1,0)","v":0},{"$f":"_xlfn.IFS(S$39>1999,'Actuator Cable Distance'!$M$22,S$39>1749,'Actuator Cable Distance'!$M$21,S$39>1499,'Actuator Cable Distance'!$M$20,S$39>1249,'Actuator Cable Distance'!$M$19,S$39>999,'Actuator Cable Distance'!$M$18,S$39>749,'Actuator Cable Distance'!$M$17,S$39>499,'Actuator Cable Distance'!$M$16,S$39>249,'Actuator Cable Distance'!$M$16,S38<1,0)","v":0},{"$f":"_xlfn.IFS(T$39>1999,'Actuator Cable Distance'!$M$22,T$39>1749,'Actuator Cable Distance'!$M$21,T$39>1499,'Actuator Cable Distance'!$M$20,T$39>1249,'Actuator Cable Distance'!$M$19,T$39>999,'Actuator Cable Distance'!$M$18,T$39>749,'Actuator Cable Distance'!$M$17,T$39>499,'Actuator Cable Distance'!$M$16,T$39>249,'Actuator Cable Distance'!$M$16,T38<1,0)","v":0},{"$f":"_xlfn.IFS(U$39>1999,'Actuator Cable Distance'!$M$22,U$39>1749,'Actuator Cable Distance'!$M$21,U$39>1499,'Actuator Cable Distance'!$M$20,U$39>1249,'Actuator Cable Distance'!$M$19,U$39>999,'Actuator Cable Distance'!$M$18,U$39>749,'Actuator Cable Distance'!$M$17,U$39>499,'Actuator Cable Distance'!$M$16,U$39>249,'Actuator Cable Distance'!$M$16,U38<1,0)","v":0},{"$f":"_xlfn.IFS(V$39>1999,'Actuator Cable Distance'!$M$22,V$39>1749,'Actuator Cable Distance'!$M$21,V$39>1499,'Actuator Cable Distance'!$M$20,V$39>1249,'Actuator Cable Distance'!$M$19,V$39>999,'Actuator Cable Distance'!$M$18,V$39>749,'Actuator Cable Distance'!$M$17,V$39>499,'Actuator Cable Distance'!$M$16,V$39>249,'Actuator Cable Distance'!$M$16,V38<1,0)","v":0},{"$f":"_xlfn.IFS(W$39>1999,'Actuator Cable Distance'!$M$22,W$39>1749,'Actuator Cable Distance'!$M$21,W$39>1499,'Actuator Cable Distance'!$M$20,W$39>1249,'Actuator Cable Distance'!$M$19,W$39>999,'Actuator Cable Distance'!$M$18,W$39>749,'Actuator Cable Distance'!$M$17,W$39>499,'Actuator Cable Distance'!$M$16,W$39>249,'Actuator Cable Distance'!$M$16,W38<1,0)","v":0},{"$f":"_xlfn.IFS(X$39>1999,'Actuator Cable Distance'!$M$22,X$39>1749,'Actuator Cable Distance'!$M$21,X$39>1499,'Actuator Cable Distance'!$M$20,X$39>1249,'Actuator Cable Distance'!$M$19,X$39>999,'Actuator Cable Distance'!$M$18,X$39>749,'Actuator Cable Distance'!$M$17,X$39>499,'Actuator Cable Distance'!$M$16,X$39>249,'Actuator Cable Distance'!$M$16,X38<1,0)","v":0},{"$f":"_xlfn.IFS(Y$39>1999,'Actuator Cable Distance'!$M$22,Y$39>1749,'Actuator Cable Distance'!$M$21,Y$39>1499,'Actuator Cable Distance'!$M$20,Y$39>1249,'Actuator Cable Distance'!$M$19,Y$39>999,'Actuator Cable Distance'!$M$18,Y$39>749,'Actuator Cable Distance'!$M$17,Y$39>499,'Actuator Cable Distance'!$M$16,Y$39>249,'Actuator Cable Distance'!$M$16,Y38<1,0)","v":0},{"$f":"_xlfn.IFS(Z$39>1999,'Actuator Cable Distance'!$M$22,Z$39>1749,'Actuator Cable Distance'!$M$21,Z$39>1499,'Actuator Cable Distance'!$M$20,Z$39>1249,'Actuator Cable Distance'!$M$19,Z$39>999,'Actuator Cable Distance'!$M$18,Z$39>749,'Actuator Cable Distance'!$M$17,Z$39>499,'Actuator Cable Distance'!$M$16,Z$39>249,'Actuator Cable Distance'!$M$16,Z38<1,0)","v":0},{"$f":"_xlfn.IFS(AA$39>1999,'Actuator Cable Distance'!$M$22,AA$39>1749,'Actuator Cable Distance'!$M$21,AA$39>1499,'Actuator Cable Distance'!$M$20,AA$39>1249,'Actuator Cable Distance'!$M$19,AA$39>999,'Actuator Cable Distance'!$M$18,AA$39>749,'Actuator Cable Distance'!$M$17,AA$39>499,'Actuator Cable Distance'!$M$16,AA$39>249,'Actuator Cable Distance'!$M$16,AA38<1,0)","v":0},{"$f":"_xlfn.IFS(AB$39>1999,'Actuator Cable Distance'!$M$22,AB$39>1749,'Actuator Cable Distance'!$M$21,AB$39>1499,'Actuator Cable Distance'!$M$20,AB$39>1249,'Actuator Cable Distance'!$M$19,AB$39>999,'Actuator Cable Distance'!$M$18,AB$39>749,'Actuator Cable Distance'!$M$17,AB$39>499,'Actuator Cable Distance'!$M$16,AB$39>249,'Actuator Cable Distance'!$M$16,AB38<1,0)","v":0},{"$f":"_xlfn.IFS(AC$39>1999,'Actuator Cable Distance'!$M$22,AC$39>1749,'Actuator Cable Distance'!$M$21,AC$39>1499,'Actuator Cable Distance'!$M$20,AC$39>1249,'Actuator Cable Distance'!$M$19,AC$39>999,'Actuator Cable Distance'!$M$18,AC$39>749,'Actuator Cable Distance'!$M$17,AC$39>499,'Actuator Cable Distance'!$M$16,AC$39>249,'Actuator Cable Distance'!$M$16,AC38<1,0)","v":0},{"$f":"_xlfn.IFS(AD$39>1999,'Actuator Cable Distance'!$M$22,AD$39>1749,'Actuator Cable Distance'!$M$21,AD$39>1499,'Actuator Cable Distance'!$M$20,AD$39>1249,'Actuator Cable Distance'!$M$19,AD$39>999,'Actuator Cable Distance'!$M$18,AD$39>749,'Actuator Cable Distance'!$M$17,AD$39>499,'Actuator Cable Distance'!$M$16,AD$39>249,'Actuator Cable Distance'!$M$16,AD38<1,0)","v":0},null,0,0,"RAC Powered",0,null,null,null,null,null,null,null,null,"Hazard",{"$f":"AS43","v":"Hazard 1"},"Hazard 2","Hazard 3","Hazard 4","Hazard 5","Hazard 6","Hazard 7","Hazard 8","Hazard 9","Hazard 10","Hazard 11","Hazard 12","Hazard 13","Hazard 14","Hazard 15","Hazard 16","Hazard 17","Hazard 18","Hazard 19","Hazard 20",null,{"$f":"_xlfn.IFS(BN$39>1999,'Actuator Cable Distance'!$M$22,BN$39>1749,'Actuator Cable Distance'!$M$21,BN$39>1499,'Actuator Cable Distance'!$M$20,BN$39>1249,'Actuator Cable Distance'!$M$19,BN$39>999,'Actuator Cable Distance'!$M$18,BN$39>749,'Actuator Cable Distance'!$M$17,BN$39>499,'Actuator Cable Distance'!$M$16,BN$39>249,'Actuator Cable Distance'!$M$16,BN38<1,0)","v":0},{"$f":"_xlfn.IFS(BO$39>1999,'Actuator Cable Distance'!$M$22,BO$39>1749,'Actuator Cable Distance'!$M$21,BO$39>1499,'Actuator Cable Distance'!$M$20,BO$39>1249,'Actuator Cable Distance'!$M$19,BO$39>999,'Actuator Cable Distance'!$M$18,BO$39>749,'Actuator Cable Distance'!$M$17,BO$39>499,'Actuator Cable Distance'!$M$16,BO$39>249,'Actuator Cable Distance'!$M$16,BO38<1,0)","v":0},{"$f":"_xlfn.IFS(BP$39>1999,'Actuator Cable Distance'!$M$22,BP$39>1749,'Actuator Cable Distance'!$M$21,BP$39>1499,'Actuator Cable Distance'!$M$20,BP$39>1249,'Actuator Cable Distance'!$M$19,BP$39>999,'Actuator Cable Distance'!$M$18,BP$39>749,'Actuator Cable Distance'!$M$17,BP$39>499,'Actuator Cable Distance'!$M$16,BP$39>249,'Actuator Cable Distance'!$M$16,BP38<1,0)","v":0},{"$f":"_xlfn.IFS(BQ$39>1999,'Actuator Cable Distance'!$M$22,BQ$39>1749,'Actuator Cable Distance'!$M$21,BQ$39>1499,'Actuator Cable Distance'!$M$20,BQ$39>1249,'Actuator Cable Distance'!$M$19,BQ$39>999,'Actuator Cable Distance'!$M$18,BQ$39>749,'Actuator Cable Distance'!$M$17,BQ$39>499,'Actuator Cable Distance'!$M$16,BQ$39>249,'Actuator Cable Distance'!$M$16,BQ38<1,0)","v":0},{"$f":"_xlfn.IFS(BR$39>1999,'Actuator Cable Distance'!$M$22,BR$39>1749,'Actuator Cable Distance'!$M$21,BR$39>1499,'Actuator Cable Distance'!$M$20,BR$39>1249,'Actuator Cable Distance'!$M$19,BR$39>999,'Actuator Cable Distance'!$M$18,BR$39>749,'Actuator Cable Distance'!$M$17,BR$39>499,'Actuator Cable Distance'!$M$16,BR$39>249,'Actuator Cable Distance'!$M$16,BR38<1,0)","v":0},{"$f":"_xlfn.IFS(BS$39>1999,'Actuator Cable Distance'!$M$22,BS$39>1749,'Actuator Cable Distance'!$M$21,BS$39>1499,'Actuator Cable Distance'!$M$20,BS$39>1249,'Actuator Cable Distance'!$M$19,BS$39>999,'Actuator Cable Distance'!$M$18,BS$39>749,'Actuator Cable Distance'!$M$17,BS$39>499,'Actuator Cable Distance'!$M$16,BS$39>249,'Actuator Cable Distance'!$M$16,BS38<1,0)","v":0},{"$f":"_xlfn.IFS(BT$39>1999,'Actuator Cable Distance'!$M$22,BT$39>1749,'Actuator Cable Distance'!$M$21,BT$39>1499,'Actuator Cable Distance'!$M$20,BT$39>1249,'Actuator Cable Distance'!$M$19,BT$39>999,'Actuator Cable Distance'!$M$18,BT$39>749,'Actuator Cable Distance'!$M$17,BT$39>499,'Actuator Cable Distance'!$M$16,BT$39>249,'Actuator Cable Distance'!$M$16,BT38<1,0)","v":0},{"$f":"_xlfn.IFS(BU$39>1999,'Actuator Cable Distance'!$M$22,BU$39>1749,'Actuator Cable Distance'!$M$21,BU$39>1499,'Actuator Cable Distance'!$M$20,BU$39>1249,'Actuator Cable Distance'!$M$19,BU$39>999,'Actuator Cable Distance'!$M$18,BU$39>749,'Actuator Cable Distance'!$M$17,BU$39>499,'Actuator Cable Distance'!$M$16,BU$39>249,'Actuator Cable Distance'!$M$16,BU38<1,0)","v":0},{"$f":"_xlfn.IFS(BV$39>1999,'Actuator Cable Distance'!$M$22,BV$39>1749,'Actuator Cable Distance'!$M$21,BV$39>1499,'Actuator Cable Distance'!$M$20,BV$39>1249,'Actuator Cable Distance'!$M$19,BV$39>999,'Actuator Cable Distance'!$M$18,BV$39>749,'Actuator Cable Distance'!$M$17,BV$39>499,'Actuator Cable Distance'!$M$16,BV$39>249,'Actuator Cable Distance'!$M$16,BV38<1,0)","v":0},{"$f":"_xlfn.IFS(BW$39>1999,'Actuator Cable Distance'!$M$22,BW$39>1749,'Actuator Cable Distance'!$M$21,BW$39>1499,'Actuator Cable Distance'!$M$20,BW$39>1249,'Actuator Cable Distance'!$M$19,BW$39>999,'Actuator Cable Distance'!$M$18,BW$39>749,'Actuator Cable Distance'!$M$17,BW$39>499,'Actuator Cable Distance'!$M$16,BW$39>249,'Actuator Cable Distance'!$M$16,BW38<1,0)","v":0},{"$f":"_xlfn.IFS(BX$39>1999,'Actuator Cable Distance'!$M$22,BX$39>1749,'Actuator Cable Distance'!$M$21,BX$39>1499,'Actuator Cable Distance'!$M$20,BX$39>1249,'Actuator Cable Distance'!$M$19,BX$39>999,'Actuator Cable Distance'!$M$18,BX$39>749,'Actuator Cable Distance'!$M$17,BX$39>499,'Actuator Cable Distance'!$M$16,BX$39>249,'Actuator Cable Distance'!$M$16,BX38<1,0)","v":0},{"$f":"_xlfn.IFS(BY$39>1999,'Actuator Cable Distance'!$M$22,BY$39>1749,'Actuator Cable Distance'!$M$21,BY$39>1499,'Actuator Cable Distance'!$M$20,BY$39>1249,'Actuator Cable Distance'!$M$19,BY$39>999,'Actuator Cable Distance'!$M$18,BY$39>749,'Actuator Cable Distance'!$M$17,BY$39>499,'Actuator Cable Distance'!$M$16,BY$39>249,'Actuator Cable Distance'!$M$16,BY38<1,0)","v":0},{"$f":"_xlfn.IFS(BZ$39>1999,'Actuator Cable Distance'!$M$22,BZ$39>1749,'Actuator Cable Distance'!$M$21,BZ$39>1499,'Actuator Cable Distance'!$M$20,BZ$39>1249,'Actuator Cable Distance'!$M$19,BZ$39>999,'Actuator Cable Distance'!$M$18,BZ$39>749,'Actuator Cable Distance'!$M$17,BZ$39>499,'Actuator Cable Distance'!$M$16,BZ$39>249,'Actuator Cable Distance'!$M$16,BZ38<1,0)","v":0},{"$f":"_xlfn.IFS(CA$39>1999,'Actuator Cable Distance'!$M$22,CA$39>1749,'Actuator Cable Distance'!$M$21,CA$39>1499,'Actuator Cable Distance'!$M$20,CA$39>1249,'Actuator Cable Distance'!$M$19,CA$39>999,'Actuator Cable Distance'!$M$18,CA$39>749,'Actuator Cable Distance'!$M$17,CA$39>499,'Actuator Cable Distance'!$M$16,CA$39>249,'Actuator Cable Distance'!$M$16,CA38<1,0)","v":0},{"$f":"_xlfn.IFS(CB$39>1999,'Actuator Cable Distance'!$M$22,CB$39>1749,'Actuator Cable Distance'!$M$21,CB$39>1499,'Actuator Cable Distance'!$M$20,CB$39>1249,'Actuator Cable Distance'!$M$19,CB$39>999,'Actuator Cable Distance'!$M$18,CB$39>749,'Actuator Cable Distance'!$M$17,CB$39>499,'Actuator Cable Distance'!$M$16,CB$39>249,'Actuator Cable Distance'!$M$16,CB38<1,0)","v":0},{"$f":"_xlfn.IFS(CC$39>1999,'Actuator Cable Distance'!$M$22,CC$39>1749,'Actuator Cable Distance'!$M$21,CC$39>1499,'Actuator Cable Distance'!$M$20,CC$39>1249,'Actuator Cable Distance'!$M$19,CC$39>999,'Actuator Cable Distance'!$M$18,CC$39>749,'Actuator Cable Distance'!$M$17,CC$39>499,'Actuator Cable Distance'!$M$16,CC$39>249,'Actuator Cable Distance'!$M$16,CC38<1,0)","v":0},{"$f":"_xlfn.IFS(CD$39>1999,'Actuator Cable Distance'!$M$22,CD$39>1749,'Actuator Cable Distance'!$M$21,CD$39>1499,'Actuator Cable Distance'!$M$20,CD$39>1249,'Actuator Cable Distance'!$M$19,CD$39>999,'Actuator Cable Distance'!$M$18,CD$39>749,'Actuator Cable Distance'!$M$17,CD$39>499,'Actuator Cable Distance'!$M$16,CD$39>249,'Actuator Cable Distance'!$M$16,CD38<1,0)","v":0},{"$f":"_xlfn.IFS(CE$39>1999,'Actuator Cable Distance'!$M$22,CE$39>1749,'Actuator Cable Distance'!$M$21,CE$39>1499,'Actuator Cable Distance'!$M$20,CE$39>1249,'Actuator Cable Distance'!$M$19,CE$39>999,'Actuator Cable Distance'!$M$18,CE$39>749,'Actuator Cable Distance'!$M$17,CE$39>499,'Actuator Cable Distance'!$M$16,CE$39>249,'Actuator Cable Distance'!$M$16,CE38<1,0)","v":0},{"$f":"_xlfn.IFS(CF$39>1999,'Actuator Cable Distance'!$M$22,CF$39>1749,'Actuator Cable Distance'!$M$21,CF$39>1499,'Actuator Cable Distance'!$M$20,CF$39>1249,'Actuator Cable Distance'!$M$19,CF$39>999,'Actuator Cable Distance'!$M$18,CF$39>749,'Actuator Cable Distance'!$M$17,CF$39>499,'Actuator Cable Distance'!$M$16,CF$39>249,'Actuator Cable Distance'!$M$16,CF38<1,0)","v":0},{"$f":"_xlfn.IFS(CG$39>1999,'Actuator Cable Distance'!$M$22,CG$39>1749,'Actuator Cable Distance'!$M$21,CG$39>1499,'Actuator Cable Distance'!$M$20,CG$39>1249,'Actuator Cable Distance'!$M$19,CG$39>999,'Actuator Cable Distance'!$M$18,CG$39>749,'Actuator Cable Distance'!$M$17,CG$39>499,'Actuator Cable Distance'!$M$16,CG$39>249,'Actuator Cable Distance'!$M$16,CG38<1,0)","v":0}]
[" ",19,{"$f":"+AA45","v":"No Actuator Selected"}," ",null,null,{"$f":"+AD45","v":0},null,"Max Voltage Drop Allowed"," ",{"$f":"IF(K$38>0,(IF(K$39<1751,\"Vdrop=3.4V\",\"Vdrop=1.2V\")),0)","v":0},{"$f":"IF(L$38>0,(IF(L$39<1751,\"Vdrop=3.4V\",\"Vdrop=1.2V\")),0)","v":0},0,0,0,0,0,0,0,0,0,0,0,0,0,0,0,0,0,0,null,0,0,"RAC Powered",0,null,null,null,null,null,null,null,null,"Panel",{"$f":"+K$19","v":"No Selection"},{"$f":"+L$19","v":"No Selection"},{"$f":"+M$19","v":"No Selection"},{"$f":"+N$19","v":"No Selection"},{"$f":"+O$19","v":"No Selection"},{"$f":"+P$19","v":"No Selection"},{"$f":"+Q$19","v":"No Selection"},{"$f":"+R$19","v":"No Selection"},{"$f":"+S$19","v":"No Selection"},{"$f":"+T$19","v":"No Selection"},{"$f":"+U$19","v":"No Selection"},{"$f":"+V$19","v":"No Selection"},{"$f":"+W$19","v":"No Selection"},{"$f":"+X$19","v":"No Selection"},{"$f":"+Y$19","v":"No Selection"},{"$f":"+Z$19","v":"No Selection"},{"$f":"+AA$19","v":"No Selection"},{"$f":"+AB$19","v":"No Selection"},{"$f":"+AC$19","v":"No Selection"},{"$f":"+AD$19","v":"No Selection"},null,{"$f":"IF(BN$38>0,(IF(BN$39<1751,\"Vdrop=3.4V\",\"Vdrop=1.2V\")),0)","v":0},{"$f":"IF(BO$38>0,(IF(BO$39<1751,\"Vdrop=3.4V\",\"Vdrop=1.2V\")),0)","v":0},0,0,0,0,0,0,0,0,0,0,0,0,0,0,0,0,0,0]
[" ",20,{"$f":"+AA46","v":"No Actuator Selected"}," ",null,null,{"$f":"+AD46","v":0},null,null,null,null,null,null,null,null,null,null,null,null,null,null,null,null,null,null,null,null,null,null,null,null,0,0,"RAC Powered",0,null,null,null,null,null,null,null,null,"2080-9069",{"$f":"+K62*$AG$62","v":0},0,0,0,0,0,0,0,0,0,0,0,0,0,0,0,0,0,0,0]
[" ",null,"Step 2A: Add in Solenoid Interface Devices",null,null,null,null,null,null,null,"Hazard 1","Hazard 2","Hazard 3","Hazard 4","Hazard 5","Hazard 6","Hazard 7","Hazard 8","Hazard 9","Hazard 10","Hazard 11","Hazard 12","Hazard 13","Hazard 14","Hazard 15","Hazard 16","Hazard 17","Hazard 18","Hazard 19","Hazard 20",null,null,null,null,0,null,null,null,null,null,null,null,null,"Discharge Signage",{"$f":"+K67*$AG$67","v":0},0,0,0,0,0,0,0,0,0,0,0,0,0,0,0,0,0,0,0,null,"Hazard 1","Hazard 2","Hazard 3","Hazard 4","Hazard 5","Hazard 6","Hazard 7","Hazard 8","Hazard 9","Hazard 10","Hazard 11","Hazard 12","Hazard 13","Hazard 14","Hazard 15","Hazard 16","Hazard 17","Hazard 18","Hazard 19","Hazard 20"]
[" ",1,"Addressable interface for Release Actuating Circuit(SRP)",null,null,null,{"$f":"SUM(K59:AD59)","v":0},null,{"$f":"+'4007ESConfigurator'!C109","v":"4090-9006"}," ",{"$f":"IF(K16>0,1,0)","v":0},0,0,0,0,0,0,0,0,0,0,0,0,0,0,0,0,0,0,0,null,{"$f":"+'4007ESConfigurator'!L108","v":0},{"$f":"+'4007ESConfigurator'!M108","v":0},{"$f":"+'4007ESConfigurator'!N108","v":"Loop Powered"},0,null,null,null,null,null,null,null,null,{"$f":"+I68","v":"1st Alarm Signage"},{"$f":"+K68*$AG$68","v":0},{"$f":"+L68*$AG$68","v":0},0,0,0,0,0,0,0,0,0,0,0,0,0,0,0,0,0,0,null,{"$f":"IF(BN16>0,1,0)","v":0},0,0,0,0,0,0,0,0,0,0,0,0,0,0,0,0,0,0,0]
[" ",2,"Coil Supervision Module (01 Each RAC)",null,null,null,{"$f":"SUM(K60:AD60)","v":0},null,{"$f":"+'4007ESConfigurator'!C110","v":"2081-9046"},null,{"$f":"IF(K16>0,1,0)","v":0},0,0,0,0,0,0,0,0,0,0,0,0,0,0,0,0,0,0,0,null,{"$f":"+'4007ESConfigurator'!L110","v":0},{"$f":"+'4007ESConfigurator'!M110","v":0},{"$f":"+'4007ESConfigurator'!N110","v":"NA"},0,null,null,null,null,null,null,null,null,"4098-VEP-A00-1P",{"$f":"+K96*($AG$96)","v":0},0,0,0,0,0,0,0,0,0,{"$f":"+U96*($AG$96)","v":0},0,0,0,0,0,0,0,0,{"$f":"+AD96*($AF$96+$AG$96)","v":0},null,{"$f":"IF(BN16>0,1,0)","v":0},0,0,0,0,0,0,0,0,0,0,0,0,0,0,0,0,0,0,0]
[" ",3,"Maintenance Switch With Out Lights(UL)",null,null,null,0,null,{"$f":"+'4007ESConfigurator'!C112","v":"2080-9059"},null,0,0,0,0,0,0,0,0,0,0,0,0,0,0,0,0,0,0,0,0,null,{"$f":"+'4007ESConfigurator'!L112","v":0},{"$f":"+'4007ESConfigurator'!M112","v":0},{"$f":"+'4007ESConfigurator'!N112","v":"NA"},0,null,null,null,null,null,null,null,null,"4098-VEP-A00-P",0,0,0,0,0,0,0,0,0,0,0,0,0,0,0,0,0,0,0,0,null,0,0,0,0,0,0,0,0,0,0,0,0,0,0,0,0,0,0,0,0]
[" ",4,"Maintenance Switch with Lights(UL)",null,null,null,0,null,{"$f":"+'4007ESConfigurator'!C113","v":"2080-9069"},null,{"$f":"IF(K61>0,0,(IF(K16>0,1,0)))","v":0},0,0,0,0,0,0,0,0,0,0,0,0,0,0,0,0,0,0,0,null,{"$f":"+'4007ESConfigurator'!L113","v":0},{"$f":"+'4007ESConfigurator'!M113","v":83},{"$f":"+'4007ESConfigurator'!N113","v":"Aux PS"},1,null,null,null,null,null,null,null,null,"4098-VEP-A10-P ",0,0,0,0,0,0,0,0,0,0,0,0,0,0,0,0,0,0,0,0,null,{"$f":"IF(BN61>0,0,(IF(BN16>0,1,0)))","v":0},0,0,0,0,0,0,0,0,0,0,0,0,0,0,0,0,0,0,0]
[" ",5,"Abort Switch with UL864 Listing with Addressable Module",null,null,null,0,null,{"$f":"+'4007ESConfigurator'!C111","v":"2081-9067"},null,{"$f":"(IF(K16>0,1,0))","v":0},0,0,0,0,0,0,0,0,0,0,0,0,0,0,0,0,0,0,0,null,{"$f":"+'4007ESConfigurator'!L111","v":0},{"$f":"+'4007ESConfigurator'!M111","v":0},{"$f":"+'4007ESConfigurator'!N111","v":"NA"},0,null,null,null,null,null,null,null,null,"4098-VEU-A00",0,0,0,0,0,0,0,0,0,0,0,0,0,0,0,0,0,0,0,0,null,{"$f":"(IF(BN16>0,1,0))","v":0},0,0,0,0,0,0,0,0,0,0,0,0,0,0,0,0,0,0,0]
[" ",6,"Addressable Input Module for Abort Switch",null,null,null,0,null,"4090-9001",null,{"$f":"(IF(K16>0,1,0))","v":0},0,0,0,0,0,0,0,0,0,0,0,0,0,0,0,0,0,0,0,null,{"$f":"+'4007ESConfigurator'!L69","v":0},{"$f":"+'4007ESConfigurator'!M69","v":0},{"$f":"+'4007ESConfigurator'!N69","v":"Looped Powered"},0,null,null,null,null,null,null,null,null,"4098-VEU-A10",0,0,0,0,0,0,0,0,0,0,0,0,0,0,0,0,0,0,0,0,null,{"$f":"(IF(BN16>0,1,0))","v":0},0,0,0,0,0,0,0,0,0,0,0,0,0,0,0,0,0,0,0]
[" ",7,"Addressable Manual Overide Pullstation",null,null,null,0,null,{"$f":"+'4007ESConfigurator'!C106","v":"4099-9015"},null,{"$f":"(IF(K16>0,1,0))","v":0},0,0,0,0,0,0,0,0,0,0,0,0,0,0,0,0,0,0,0,null,{"$f":"+'4007ESConfigurator'!L106","v":0},{"$f":"+'4007ESConfigurator'!M106","v":0},{"$f":"+'4007ESConfigurator'!N106","v":"Loop Powered"},0,null,null,null,null,null,null,null,null,"4098-VES-A00-P",0,0,0,0,0,0,0,0,0,0,0,0,0,0,0,0,0,0,0,0,null,{"$f":"(IF(BN16>0,1,0))","v":0},0,0,0,0,0,0,0,0,0,0,0,0,0,0,0,0,0,0,0]
[" ",8,"Label Kit For Specific Releasing Application.",null,null,null,{"$f":"+G65","v":0},null,{"$f":"+'4007ESConfigurator'!C107","v":"4099-9802"},null,{"$f":"+K65","v":0},{"$f":"+L65","v":0},0,0,0,0,0,0,0,0,0,0,0,0,0,0,0,0,0,0,null,{"$f":"+'4007ESConfigurator'!L107","v":0},{"$f":"+'4007ESConfigurator'!M107","v":0},{"$f":"+'4007ESConfigurator'!N107","v":"NA"},0,null,null,null,null,null,null,null,null,"4098-XAD",0,0,0,0,0,0,0,0,0,0,0,0,0,0,0,0,0,0,0,0,null,{"$f":"+BN65","v":0},{"$f":"+BO65","v":0},0,0,0,0,0,0,0,0,0,0,0,0,0,0,0,0,0,0]
[" ",9,"Local Discharge Signage",null,null,null,0,null,"Discharge Signage",null,0,0,0,0,0,0,0,0,0,0,0,0,0,0,0,0,0,0,0,0,null,{"$f":"+'4007ESConfigurator'!L116","v":0},{"$f":"+'4007ESConfigurator'!M116","v":150},{"$f":"+'4007ESConfigurator'!N116","v":"Aux PS"},1,null,null,null,null,null,null,null,null,"FV400",{"$f":"+K115*($AG$115)","v":0},0,0,0,0,0,0,0,0,0,0,0,0,0,0,0,0,0,0,{"$f":"+AD115*($AF$115+$AG$115)","v":0},null,0,0,0,0,0,0,0,0,0,0,0,0,0,0,0,0,0,0,0,0]
[null,10,{"$f":"+'4007ESConfigurator'!E117","v":"Pre Release Display Signage"},null,null,null,0,null,{"$f":"+'4007ESConfigurator'!D117","v":"1st Alarm Signage"},null,0,0,0,0,0,0,0,0,0,0,0,0,0,0,0,0,0,0,0,0,null,null,{"$f":"+'4007ESConfigurator'!M117","v":150},{"$f":"+'4007ESConfigurator'!N117","v":"Aux PS"},null,null,null,null,null,null,null,null,null,"ProReact",{"$f":"+K116*($AG$116)","v":0},0,0,0,0,0,0,0,0,0,0,0,0,0,0,0,0,0,0,{"$f":"+AD116*($AF$116+$AG$116)","v":0},null,0,0,0,0,0,0,0,0,0,0,0,0,0,0,0,0,0,0,0,0]
[" ",11,"Addressable Relay Module Interface",null,null,null,0,null,"4090-9002",null,{"$f":"+K67+K68","v":0},{"$f":"+L67+L68","v":0},0,0,0,0,0,0,0,0,0,0,0,0,0,0,0,0,0,0,null,null,null,null,0,null,null,null,null,null,null,null,null,"APSensing",{"$f":"+K117*($AG$117)","v":0},0,0,0,0,0,0,0,0,0,0,0,0,0,0,0,0,0,0,{"$f":"+AD117*($AF$117+$AG$117)","v":0},null,{"$f":"+BN67+BN68","v":0},{"$f":"+BO67+BO68","v":0},0,0,0,0,0,0,0,0,0,0,0,0,0,0,0,0,0,0]
[null,12,{"$f":"+'4007ESConfigurator'!E118","v":"Releasing Peripherals Input3B"},null,null,null,{"$f":"SUM(K70:AD70)","v":0},null,{"$f":"+'4007ESConfigurator'!C118","v":"Customised 3"},null,0,0,0,0,0,0,0,0,0,0,0,0,0,0,0,0,0,0,0,0,null,{"$f":"+'4007ESConfigurator'!L118","v":0},{"$f":"+'4007ESConfigurator'!M118","v":0},{"$f":"+'4007ESConfigurator'!N118","v":"Input \"Aux PS\" As Reqd"},null,null,null,null,null,null,null,null,null,"FireRay1",{"$f":"+K118*(+$AG$118)","v":0},0,0,0,0,0,0,0,0,0,0,0,0,0,0,0,0,0,0,{"$f":"+AD118*($AF$118+$AG$118)","v":0},null,0,0,0,0,0,0,0,0,0,0,0,0,0,0,0,0,0,0,0,0]
[null,13,{"$f":"+'4007ESConfigurator'!E119","v":"Releasing Peripherals Input4B"},null,null,null,0,null,{"$f":"+'4007ESConfigurator'!C119","v":"Customised 4"},null,0,0,0,0,0,0,0,0,0,0,0,0,0,0,0,0,0,0,0,0,null,{"$f":"+'4007ESConfigurator'!L119","v":0},{"$f":"+'4007ESConfigurator'!M119","v":0},{"$f":"+'4007ESConfigurator'!N119","v":"Input \"Aux PS\" As Reqd"},null,null,null,null,null,null,null,null,null,"CountdownTimer",{"$f":"+K149*(+$AG$149)","v":0},0,0,0,0,0,0,0,0,0,0,0,0,0,0,0,0,0,0,{"$f":"+AD149*($AF$149+$AG$149)","v":0},null,0,0,0,0,0,0,0,0,0,0,0,0,0,0,0,0,0,0,0,0]
[null,14,{"$f":"+'4007ESConfigurator'!E120","v":"Releasing Peripherals Input5B"},null,null,null,0,null,{"$f":"+'4007ESConfigurator'!C120","v":"Customised 5"},null,0,0,0,0,0,0,0,0,0,0,0,0,0,0,0,0,0,0,0,0,null,{"$f":"+'4007ESConfigurator'!L120","v":0},{"$f":"+'4007ESConfigurator'!M120","v":0},{"$f":"+'4007ESConfigurator'!N120","v":"Input \"Aux PS\" As Reqd"},null,null,null,null,null,null,null,null,null,"LCD Repeater",{"$f":"K151*(+$AG$149)","v":0},0,0,0,0,0,0,0,0,0,0,0,0,0,0,0,0,0,0,{"$f":"AD151*($AF$149+$AG$149)","v":0},null,0,0,0,0,0,0,0,0,0,0,0,0,0,0,0,0,0,0,0,0]
[null,15,{"$f":"+'4007ESConfigurator'!E121","v":"Releasing Peripherals Input6B"},null,null,null,0,null,{"$f":"+'4007ESConfigurator'!C121","v":"Customised 6"},null,0,0,0,0,0,0,0,0,0,0,0,0,0,0,0,0,0,0,0,0,null,{"$f":"+'4007ESConfigurator'!L121","v":0},{"$f":"+'4007ESConfigurator'!M121","v":0},{"$f":"+'4007ESConfigurator'!N121","v":"Input \"Aux PS\" As Reqd"},null,null,null,null,null,null,null,null,null,null,null,null,null,null,null,null,null,null,null,null,null,null,null,null,null,null,null,null,null,null,null,0,0,0,0,0,0,0,0,0,0,0,0,0,0,0,0,0,0,0,0]
[" ",null,"Step 2B: For Gas Suppression Devices for Monitoring.",null,null,null,null,null,null,null,null,null,null,null,null,null,null,null,null,null,null,null,null,null,null,null,null,null,null,null,null,{"$f":"+'4007ESConfigurator'!L122","v":0},{"$f":"+'4007ESConfigurator'!M122","v":0},{"$f":"+'4007ESConfigurator'!N122","v":0},0]
[" ",1,"Monitoring of Compressor for Pneumatic Operation of Actuators",null,null,null,{"$f":"SUM(K75:AD75)","v":0},null,"Dry Contacts",null,0,0,0,0,0,0,0,0,0,0,0,0,0,0,0,0,0,0,0,0,null,0,0,"By Others",0,null,null,null,null,null,null,null,null,"Standby Power Summary",null,null,null,null,null,null,null,null,null,null,null,null,null,null,null,null,null,null,null,null,null,0,0,0,0,0,0,0,0,0,0,0,0,0,0,0,0,0,0,0,0]
[" ",2,"Addressable Input Module for above",null,null,null,{"$f":"SUM(K76:AD76)","v":0},null,"4090-9001",null,{"$f":"+K75","v":0},{"$f":"+L75","v":0},0,0,0,0,0,0,0,0,0,0,0,0,0,0,0,0,0,0,null,0,0,"Loop Powered",0,null,null,null,null,null,null,null,null,"Hazard",{"$f":"+AS55","v":"Hazard 1"},"Hazard 2","Hazard 3","Hazard 4","Hazard 5","Hazard 6","Hazard 7","Hazard 8","Hazard 9","Hazard 10","Hazard 11","Hazard 12","Hazard 13","Hazard 14","Hazard 15","Hazard 16","Hazard 17","Hazard 18","Hazard 19","Hazard 20",null,{"$f":"+BN75","v":0},{"$f":"+BO75","v":0},0,0,0,0,0,0,0,0,0,0,0,0,0,0,0,0,0,0]
[" ",3,"Monitoring of Pressure Switch Alarm",null,null,null,0,null,"Dry Contacts",null,{"$f":"IF(K$16=1,(IF(K$17=\"Gas\",1,0)),)","v":0},{"$f":"IF(L$16=1,(IF(L$17=\"Gas\",1,0)),)","v":0},0,0,0,0,0,0,0,0,0,0,0,0,0,0,0,0,0,0,null,0,0,"By Others",0,null,null,null,null,null,null,null,null,"Panel",{"$f":"+K$19","v":"No Selection"},{"$f":"+L$19","v":"No Selection"},{"$f":"+M$19","v":"No Selection"},{"$f":"+N$19","v":"No Selection"},{"$f":"+O$19","v":"No Selection"},{"$f":"+P$19","v":"No Selection"},{"$f":"+Q$19","v":"No Selection"},{"$f":"+R$19","v":"No Selection"},{"$f":"+S$19","v":"No Selection"},{"$f":"+T$19","v":"No Selection"},{"$f":"+U$19","v":"No Selection"},{"$f":"+V$19","v":"No Selection"},{"$f":"+W$19","v":"No Selection"},{"$f":"+X$19","v":"No Selection"},{"$f":"+Y$19","v":"No Selection"},{"$f":"+Z$19","v":"No Selection"},{"$f":"+AA$19","v":"No Selection"},{"$f":"+AB$19","v":"No Selection"},{"$f":"+AC$19","v":"No Selection"},{"$f":"+AD$19","v":"No Selection"},null,{"$f":"IF(BN$16=1,(IF(BN$17=\"Gas\",1,0)),)","v":0},{"$f":"IF(BO$16=1,(IF(BO$17=\"Gas\",1,0)),)","v":0},0,0,0,0,0,0,0,0,0,0,0,0,0,0,0,0,0,0]
[" ",4,"Addressable Input Module for above",null,null,null,0,null,"4090-9001",null,{"$f":"+K77","v":0},{"$f":"+L77","v":0},0,0,0,0,0,0,0,0,0,0,0,0,0,0,0,0,0,0,null,0,0,"Loop Powered",0,null,null,null,null,null,null,null,null,"Discharge Signage",{"$f":"+K67*$AF$67","v":0},0,0,0,0,0,0,0,0,0,{"$f":"+U67*$AF$67","v":0},0,0,0,0,0,0,0,0,0,null,{"$f":"+BN77","v":0},{"$f":"+BO77","v":0},0,0,0,0,0,0,0,0,0,0,0,0,0,0,0,0,0,0]
[" ",5,"Monitoring of Supervisory Tamper Switch",null,null,null,0,null,"Dry Contacts",null,{"$f":"IF(K$16=1,(IF(K$17=\"Gas\",1,0)),)","v":0},{"$f":"IF(L$16=1,(IF(L$17=\"Gas\",1,0)),)","v":0},0,0,0,0,0,0,0,0,0,0,0,0,0,0,0,0,0,0,null,0,0,"By Others",0,null,null,null,null,null,null,null,null,{"$f":"+AR58","v":"Discharge Signage"},0,0,0,0,0,0,0,0,0,0,0,0,0,0,0,0,0,0,0,0,null,{"$f":"IF(BN$16=1,(IF(BN$17=\"Gas\",1,0)),)","v":0},{"$f":"IF(BO$16=1,(IF(BO$17=\"Gas\",1,0)),)","v":0},0,0,0,0,0,0,0,0,0,0,0,0,0,0,0,0,0,0]
[" ",6,"Addressable Input Module for Above",null,null,null,0,null,"4090-9001",null,{"$f":"+K79","v":0},{"$f":"+L79","v":0},0,0,0,0,0,0,0,0,0,0,0,0,0,0,0,0,0,0,null,0,0,"Loop Powered",0,null,null,null,null,null,null,null,null,"4098-VEP-A00-1P",{"$f":"+K96*($AF$96)","v":0},0,0,0,0,0,0,0,0,0,{"$f":"+U96*($AF$96)","v":0},0,0,0,0,0,0,0,0,0,null,{"$f":"+BN79","v":0},{"$f":"+BO79","v":0},0,0,0,0,0,0,0,0,0,0,0,0,0,0,0,0,0,0]
[" ",null,"Step 2C: For PreAction, Deluge Suppression Devices",null,null,null,null,null,null,null,null,null,null,null,null,null,null,null,null,null,null,null,null,null,null,null,null,null,null,null,null,null,null,null,0,null,null,null,null,null,null,null,null,"4098-VEP-A00-P",0,0,0,0,0,0,0,0,0,0,0,0,0,0,0,0,0,0,0,0]
[" ",7,"Monitoring of Water Flow Switch",null,null,null,0,null,"Dry Contacts",null,{"$f":"IF(K$16=1,(IF(K$17=\"Gas\",0,1)),)","v":0},{"$f":"IF(L$16=1,(IF(L$17=\"Gas\",0,1)),)","v":0},0,0,0,0,0,0,0,0,0,0,0,0,0,0,0,0,0,0,null,0,0,"By Others",0,null,null,null,null,null,null,null,null,"4098-VEP-A10-P ",0,0,0,0,0,0,0,0,0,0,0,0,0,0,0,0,0,0,0,0,null,{"$f":"IF(BN$16=1,(IF(BN$17=\"Gas\",0,1)),)","v":0},{"$f":"IF(BO$16=1,(IF(BO$17=\"Gas\",0,1)),)","v":0},0,0,0,0,0,0,0,0,0,0,0,0,0,0,0,0,0,0]
[" ",8,"Addressable Input Module for above",null,null,null,0,null,"4090-9001",null,{"$f":"+K82","v":0},{"$f":"+L82","v":0},0,0,0,0,0,0,0,0,0,0,0,0,0,0,0,0,0,0,null,0,0,"Loop Powered",0,null,null,null,null,null,null,null,null,"4098-VEU-A00",0,0,0,0,0,0,0,0,0,0,0,0,0,0,0,0,0,0,0,0,null,{"$f":"+BN82","v":0},{"$f":"+BO82","v":0},0,0,0,0,0,0,0,0,0,0,0,0,0,0,0,0,0,0]
[" ",9,"Monitoring of Supervisory Alert",null,null,null,0,null,"Dry Contacts",null,{"$f":"IF(K$16=1,(IF(K$17=\"Gas\",0,1)),)","v":0},0,0,0,0,0,0,0,0,0,0,0,0,0,0,0,0,0,0,0,null,0,0,"By Others",{"$f":"IF(AH84=\"Aux PS\",1,0)","v":0},null,null,null,null,null,null,null,null,"4098-VEU-A10",0,0,0,0,0,0,0,0,0,0,0,0,0,0,0,0,0,0,0,0,null,{"$f":"IF(BN$16=1,(IF(BN$17=\"Gas\",0,1)),)","v":0},0,0,0,0,0,0,0,0,0,0,0,0,0,0,0,0,0,0,0]
[" ",10,"Addressable Input Module for above",null,null,null,0,null,"4090-9001",null,{"$f":"+K84","v":0},{"$f":"+L84","v":0},0,0,0,0,0,0,0,0,0,0,0,0,0,0,0,0,0,0,null,0,0,"Loop Powered",0,null,null,null,null,null,null,null,null,"4098-VES-A00-P",0,0,0,0,0,0,0,0,0,0,0,0,0,0,0,0,0,0,0,0,null,{"$f":"+BN84","v":0},{"$f":"+BO84","v":0},0,0,0,0,0,0,0,0,0,0,0,0,0,0,0,0,0,0]
[" ",null,"Step 3A: Addressable Field Devices(Included in Idnet Current Loading)",null,null,null,null,null," ",null,"Hazard 1","Hazard 2","Hazard 3","Hazard 4","Hazard 5","Hazard 6","Hazard 7","Hazard 8","Hazard 9","Hazard 10","Hazard 11","Hazard 12","Hazard 13","Hazard 14","Hazard 15","Hazard 16","Hazard 17","Hazard 18","Hazard 19","Hazard 20",null,null,null,null,0,null,null,null,null,null,null,null,null,"4098-XAD",0,0,0,0,0,0,0,0,0,0,0,0,0,0,0,0,0,0,0,0,null,"Hazard 1","Hazard 2","Hazard 3","Hazard 4","Hazard 5","Hazard 6","Hazard 7","Hazard 8","Hazard 9","Hazard 10","Hazard 11","Hazard 12","Hazard 13","Hazard 14","Hazard 15","Hazard 16","Hazard 17","Hazard 18","Hazard 19","Hazard 20"]
[" ",1,"Addressable Smoke Detector UL 268 7th Edition",null,null,null,0,null,{"$f":"+'4007ESConfigurator'!C58","v":"4098-9714"},"Default 4",{"$f":"IF(K$16=1,4,0)","v":0},0,0,0,0,0,0,0,0,0,0,0,0,0,0,0,0,0,0,0,null,0,0,"Loop Powered",0,null,null,null,null,null,null,null,null,"FV400",{"$f":"+K115*($AF$115)","v":0},0,0,0,0,0,0,0,0,0,0,0,0,0,0,0,0,0,0,0,5,{"$f":"IF(BN$16=1,4,0)","v":0},0,0,0,0,0,0,0,0,0,0,0,0,0,0,0,0,0,0,0]
[" ",2,"Addressable Heat Detector UL & FM Listed",null,null,null,0,null,{"$f":"+'4007ESConfigurator'!C59","v":"4098-9733"},null,0,0,0,0,0,0,0,0,0,0,0,0,0,0,0,0,0,0,0,0,null,0,0,"Loop Powered",0,null,null,null,null,null,null,null,null,"ProReact",{"$f":"+K116*($AF$116)","v":0},0,0,0,0,0,0,0,0,0,0,0,0,0,0,0,0,0,0,0,null,0,0,0,0,0,0,0,0,0,0,0,0,0,0,0,0,0,0,0,0]
[" ",3,{"$f":"+'4007ESConfigurator'!E60","v":"Addressable High Temp Heat Detector"},null,null,null,0,null,"4098-9734",null,0,0,0,0,0,0,0,0,0,0,0,0,0,0,0,0,0,0,0,0,null,0,0,"Loop Powered",0,null,null,null,null,null,null,null,null,"APSensing",{"$f":"+K117*($AF$117)","v":0},0,0,0,0,0,0,0,0,0,0,0,0,0,0,0,0,0,0,0,null,0,0,0,0,0,0,0,0,0,0,0,0,0,0,0,0,0,0,0,0]
[" ",4,"Addressable Standard Base UL & FM Listed",null,null,null,{"$f":"SUM(K90:AD90)","v":0},null,{"$f":"+'4007ESConfigurator'!C61","v":"4098-9792"},null,{"$f":"+K$88+K$87+K$89","v":0},0,0,0,0,0,0,0,0,0,0,0,0,0,0,0,0,0,0,0,null,0,0,"Loop Powered",0,null,null,null,null,null,null,null,null,"FireRay1",{"$f":"+K118*(+$AF$118)","v":0},0,0,0,0,0,0,0,0,0,0,0,0,0,0,0,0,0,0,0,null,{"$f":"+BN$88+BN$87+BN$89","v":0},0,0,0,0,0,0,0,0,0,0,0,0,0,0,0,0,0,0,0]
[" ",5,"Addressable Manual PullStation",null,null,null,0,null,{"$f":"+'4007ESConfigurator'!C67","v":"4099-9004"},null,0,0,0,0,0,0,0,0,0,0,0,0,0,0,0,0,0,0,0,0,null,0,0,"Loop Powered",0,null,null,null,null,null,null,null,null,"CountdownTimer",{"$f":"+K149*(+$AF$149)","v":0},0,0,0,0,0,0,0,0,0,0,0,0,0,0,0,0,0,0,0,null,0,0,0,0,0,0,0,0,0,0,0,0,0,0,0,0,0,0,0,0]
[" ",6,"Addressable Input Module",null,null,null,0,null,{"$f":"+'4007ESConfigurator'!C69","v":"4090-9001"},null,0,0,0,0,0,0,0,0,0,0,0,0,0,0,0,0,0,0,0,0,null,0,0,"Loop Powered",0,null,null,null,null,null,null,null,null,"LCD Repeater",{"$f":"K151*(+$AF$149)","v":0},0,0,0,0,0,0,0,0,0,0,0,0,0,0,0,0,0,0,0,null,0,0,0,0,0,0,0,0,0,0,0,0,0,0,0,0,0,0,0,0]
[" ",7,"Addressable Zone Addressable Module",null,null,null,0,null,{"$f":"+'4007ESConfigurator'!C72","v":"4090-9101"},null,0,0,0,0,0,0,0,0,0,0,0,0,0,0,0,0,0,0,0,0,null,0,0,"Loop Powered",0,null,null,null,null,null,null,null,null,null,null,null,null,null,null,null,null,null,null,null,null,null,null,null,null,null,null,null,null,null,null,0,0,0,0,0,0,0,0,0,0,0,0,0,0,0,0,0,0,0,0]
[" ",8,"Addressable Relay Module",null,null,null,0,null,{"$f":"+'4007ESConfigurator'!C70","v":"4090-9002"},null,0,0,0,0,0,0,0,0,0,0,0,0,0,0,0,0,0,0,0,0,null,0,0,"Loop Powered",0,null,null,null,null,null,null,null,null,null,"type","Description",null,null,null,"Qty",null,null,null,null,null,null,null,null,null,null,null,null,null,null,null,0,0,0,0,0,0,0,0,0,0,0,0,0,0,0,0,0,0,0,0]
[" ",9,"Addressable Signal Module",null,null,null,0,null,{"$f":"+'4007ESConfigurator'!C71","v":"4090-9007"},null,0,0,0,0,0,0,0,0,0,0,0,0,0,0,0,0,0,0,0,0,null,0,0,"Loop Powered",0,null,null,null,null,null,null,null,null,1,{"$f":"+K38","v":0},{"$f":"+C38","v":"No Actuator Selected"},null,null,null,{"$f":"+G38","v":0},null,{"$f":"SUM(IF(AX95:AX114=AZ96,IF(AS95:AS114=BA95,AS95:AX114)))","v":0},{"$f":"+AS95","v":0},null,null,null,null,null,null,null,null,null,null,null,null,0,0,0,0,0,0,0,0,0,0,0,0,0,0,0,0,0,0,0,0]
[" ",10,"Addressable 4098-VEP-A00-1P",null,null,null,0,null,{"$f":"+'4007ESConfigurator'!C82","v":"4098-VEP-A00-1P"},null,0,0,0,0,0,0,0,0,0,0,0,0,0,0,0,0,0,0,0,0,null,{"$f":"+'4007ESConfigurator'!L82","v":320},{"$f":"+'4007ESConfigurator'!M82","v":350},"Aux PS",{"$f":"IF(AH96=\"Aux PS\",1,0)","v":1},null,null,null,null,null,null,null,null,2,{"$f":"+L38","v":0},"No Actuator Selected",null,null,null,0,null,null,null,null,null,null,null,null,null,null,null,null,null,null,null,0,0,0,0,0,0,0,0,0,0,0,0,0,0,0,0,0,0,0,0]
[" ",11,"Addressable 4098-VEP-A00-P",null,null,null,0,null,{"$f":"+'4007ESConfigurator'!C83","v":"4098-VEP-A00-P"},null,0,0,0,0,0,0,0,0,0,0,0,0,0,0,0,0,0,0,0,0,null,{"$f":"+'4007ESConfigurator'!L83","v":360},{"$f":"+'4007ESConfigurator'!M83","v":400},"Aux PS",{"$f":"IF(AH97=\"Aux PS\",1,0)","v":1},null,null,null,null,null,null,null,null,3,{"$f":"+M38","v":0},"No Actuator Selected",null,null,null,0,null,null,null,null,null,null,null,null,null,null,null,null,null,null,null,0,0,0,0,0,0,0,0,0,0,0,0,0,0,0,0,0,0,0,0]
[" ",12,"Addressable 4098-VEP-A10-P ",null,null,null,0,null,{"$f":"+'4007ESConfigurator'!C84","v":"4098-VEP-A10-P "},null,0,0,0,0,0,0,0,0,0,0,0,0,0,0,0,0,0,0,0,0,null,{"$f":"+'4007ESConfigurator'!L84","v":400},{"$f":"+'4007ESConfigurator'!M84","v":430},"Aux PS",1,null,null,null,null,null,null,null,null,4,{"$f":"+N38","v":0},"No Actuator Selected",null,null,null,0,null,null,null,null,null,null,null,null,null,null,null,null,null,null,null,0,0,0,0,0,0,0,0,0,0,0,0,0,0,0,0,0,0,0,0]
[" ",13,"Addressable 4098-VEU-A00",null,null,null,0,null,{"$f":"+'4007ESConfigurator'!C85","v":"4098-VEU-A00"},null,0,0,0,0,0,0,0,0,0,0,0,0,0,0,0,0,0,0,0,0,null,{"$f":"+'4007ESConfigurator'!L85","v":360},{"$f":"+'4007ESConfigurator'!M85","v":400},"Aux PS",1,null,null,null,null,null,null,null,null,5,{"$f":"+O38","v":0},"No Actuator Selected",null,null,null,0,null,null,null,null,null,null,null,null,null,null,null,null,null,null,null,0,0,0,0,0,0,0,0,0,0,0,0,0,0,0,0,0,0,0,0]
[" ",14,"Addressable 4098-VEU-A10",null,null,null,0,null,{"$f":"+'4007ESConfigurator'!C86","v":"4098-VEU-A10"},null,0,0,0,0,0,0,0,0,0,0,0,0,0,0,0,0,0,0,0,0,null,{"$f":"+'4007ESConfigurator'!L86","v":400},{"$f":"+'4007ESConfigurator'!M86","v":430},"Aux PS",1,null,null,null,null,null,null,null,null,6,{"$f":"+P38","v":0},"No Actuator Selected",null,null,null,0,null,null,null,null,null,null,null,null,null,null,null,null,null,null,null,0,0,0,0,0,0,0,0,0,0,0,0,0,0,0,0,0,0,0,0]
[" ",15,"Addressable 4098-VES-A00-P",null,null,null,0,null,{"$f":"+'4007ESConfigurator'!C87","v":"4098-VES-A00-P"},null,0,0,0,0,0,0,0,0,0,0,0,0,0,0,0,0,0,0,0,0,null,{"$f":"+'4007ESConfigurator'!L87","v":360},{"$f":"+'4007ESConfigurator'!M87","v":400},"Aux PS",1,null,null,null,null,null,null,null,null,7,{"$f":"+Q38","v":0},"No Actuator Selected",null,null,null,0,null,null,null,null,null,null,null,null,null,null,null,null,null,null,null,0,0,0,0,0,0,0,0,0,0,0,0,0,0,0,0,0,0,0,0]
[" ",16,"Addressable 4098-XAD",null,null,null,{"$f":"SUM(K102:AD102)","v":0},null,{"$f":"+'4007ESConfigurator'!C91","v":"4098-XAD"},null,0,0,0,0,0,0,0,0,0,0,0,0,0,0,0,0,0,0,0,0,null,{"$f":"+'4007ESConfigurator'!L91","v":300},{"$f":"+'4007ESConfigurator'!M91","v":680},"Aux PS",1,null,null,null,null,null,null,null,null,8,{"$f":"+R38","v":0},"No Actuator Selected",null,null,null,0,null,null,null,null,null,null,null,null,null,null,null,null,null,null,null,0,0,0,0,0,0,0,0,0,0,0,0,0,0,0,0,0,0,0,0]
[" ",17,{"$f":"+AddonDevice!E27","v":"Addressable Field Devices Input1B"},null,null,null,0,null,{"$f":"+'4007ESConfigurator'!C74","v":"Customised 1"},null,0,0,0,0,0,0,0,0,0,0,0,0,0,0,0,0,0,0,0,0,null,{"$f":"+'4007ESConfigurator'!L74","v":0},{"$f":"+'4007ESConfigurator'!M74","v":0},null,0,null,null,null,null,null,null,null,null,9,{"$f":"+S38","v":0},"No Actuator Selected",null,null,null,0,null,null,null,null,null,null,null,null,null,null,null,null,null,null,null,0,0,0,0,0,0,0,0,0,0,0,0,0,0,0,0,0,0,0,0]
[" ",18,{"$f":"+AddonDevice!E28","v":"Addressable Field Devices Input2B"},null,null,null,{"$f":"SUM(K104:AD104)","v":0},null,{"$f":"+'4007ESConfigurator'!C75","v":"Customised 2"},null,0,0,0,0,0,0,0,0,0,0,0,0,0,0,0,0,0,0,0,0,null," "," ",null,0,null,null,null,null,null,null,null,null,10,{"$f":"+T38","v":0},"No Actuator Selected",null,null,null,0,null,null,null,null,null,null,null,null,null,null,null,null,null,null,null,0,0,0,0,0,0,0,0,0,0,0,0,0,0,0,0,0,0,0,0]
[" ",19,{"$f":"+AddonDevice!E29","v":"Addressable Field Devices Input3B"},null,null,null,0,null,{"$f":"+'4007ESConfigurator'!C76","v":"Customised 3"},null,0,0,0,0,0,0,0,0,0,0,0,0,0,0,0,0,0,0,0,0,null,{"$f":"+'4007ESConfigurator'!L76","v":0},{"$f":"+'4007ESConfigurator'!M76","v":0},null,0,null,null,null,null,null,null,null,null,11,{"$f":"+U38","v":0},"No Actuator Selected",null,null,null,0,null,null,null,null,null,null,null,null,null,null,null,null,null,null,null,0,0,0,0,0,0,0,0,0,0,0,0,0,0,0,0,0,0,0,0]
[" ",20,{"$f":"+AddonDevice!E30","v":"Addressable Field Devices Input4B"},null,null,null,0,null,{"$f":"+'4007ESConfigurator'!C77","v":"Customised 4"},null,0,0,0,0,0,0,0,0,0,0,0,0,0,0,0,0,0,0,0,0,null,{"$f":"+'4007ESConfigurator'!L77","v":0},{"$f":"+'4007ESConfigurator'!M77","v":0},null,0,null,null,null,null,null,null,null,null,12,{"$f":"+V38","v":0},"No Actuator Selected",null,null,null,0,null,null,null,null,null,null,null,null,null,null,null,null,null,null,null,0,0,0,0,0,0,0,0,0,0,0,0,0,0,0,0,0,0,0,0]
[" ",21,{"$f":"+AddonDevice!E31","v":"Addressable Field Devices Input5B"},null,null,null,0,null,{"$f":"+'4007ESConfigurator'!C78","v":"Customised 5"},null,0,0,0,0,0,0,0,0,0,0,0,0,0,0,0,0,0,0,0,0,null,{"$f":"+'4007ESConfigurator'!L78","v":0},{"$f":"+'4007ESConfigurator'!M78","v":0},null,0,null,null,null,null,null,null,null,null,13,{"$f":"+W38","v":0},"No Actuator Selected",null,null,null,0,null,null,null,null,null,null,null,null,null,null,null,null,null,null,null,0,0,0,0,0,0,0,0,0,0,0,0,0,0,0,0,0,0,0,0]
[" ",22,{"$f":"+AddonDevice!E32","v":"Addressable Field Devices Input 6B"},null,null,null,0,null,{"$f":"+'4007ESConfigurator'!C79","v":"Customised 6"},null,0,0,0,0,0,0,0,0,0,0,0,0,0,0,0,0,0,0,0,0,null,{"$f":"+'4007ESConfigurator'!L79","v":0},{"$f":"+'4007ESConfigurator'!M79","v":0},null,0,null,null,null,null,null,null,null,null,14,{"$f":"+XS38","v":0},"No Actuator Selected",null,null,null,0,null,null,null,null,null,null,null,null,null,null,null,null,null,null,null,0,0,0,0,0,0,0,0,0,0,0,0,0,0,0,0,0,0,0,0]
[" ",null,"Step 4A: Conventional Field Devices",null,null,null,null,null," ",null,"Hazard 1","Hazard 2","Hazard 3","Hazard 4","Hazard 5","Hazard 6","Hazard 7","Hazard 8","Hazard 9","Hazard 10","Hazard 11","Hazard 12","Hazard 13","Hazard 14","Hazard 15","Hazard 16","Hazard 17","Hazard 18","Hazard 19","Hazard 20",null,null,0,null,0,null,null,null,null,null,null,null,null,15,{"$f":"+Y38","v":0},"No Actuator Selected",null,null,null,0,null,null,null,null,null,null,null,null,null,null,null,null,null,null,null,"Hazard 1","Hazard 2","Hazard 3","Hazard 4","Hazard 5","Hazard 6","Hazard 7","Hazard 8","Hazard 9","Hazard 10","Hazard 11","Hazard 12","Hazard 13","Hazard 14","Hazard 15","Hazard 16","Hazard 17","Hazard 18","Hazard 19","Hazard 20"]
[" ",1,"721P OPTICAL DET 721P UL",null,null,null,{"$f":"SUM(K110:AD110)","v":0},null,{"$f":"+'4007ESConfigurator'!C124","v":"516.900.201"},null,0,0,0,0,0,0,0,0,0,0,0,0,0,0,0,0,0,0,0,0,null,null,0,null,0,null,null,null,null,null,null,null,null,16,{"$f":"+Z38","v":0},"No Actuator Selected",null,null,null,0,null,null,null,null,null,null,null,null,null,null,null,null,null,null,6,0,0,0,0,0,0,0,0,0,0,0,0,0,0,0,0,0,0,0,0]
[" ",2,"721H HEAT RoR 135F DET UL",null,null,null,0,null,{"$f":"+'4007ESConfigurator'!C125","v":"516.900.203"},null,0,0,0,0,0,0,0,0,0,0,0,0,0,0,0,0,0,0,0,0,null,null,0,null,0,null,null,null,null,null,null,null,null,17,{"$f":"+AA38","v":0},"No Actuator Selected",null,null,null,0,null,null,null,null,null,null,null,null,null,null,null,null,null,null,null,0,0,0,0,0,0,0,0,0,0,0,0,0,0,0,0,0,0,0,0]
[" ",3,"722H HEAT FIX 135F DET UL",null,null,null,0,null,{"$f":"+'4007ESConfigurator'!C126","v":"516.900.204"},null,0,0,0,0,0,0,0,0,0,0,0,0,0,0,0,0,0,0,0,0,null,null,0,null,0,null,null,null,null,null,null,null,null,18,{"$f":"+AB38","v":0},"No Actuator Selected",null,null,null,0,null,null,null,null,null,null,null,null,null,null,null,null,null,null,null,0,0,0,0,0,0,0,0,0,0,0,0,0,0,0,0,0,0,0,0]
[" ",4,"700 series Conventional Base",null,null,null,0,null,{"$f":"+'4007ESConfigurator'!C127","v":"516.900.206"},null,0,0,0,0,0,0,0,0,0,0,0,0,0,0,0,0,0,0,0,0,null,null,0,null,0,null,null,null,null,null,null,null,null,19,{"$f":"+AC38","v":0},"No Actuator Selected",null,null,null,0,null,null,null,null,null,null,null,null,null,null,null,null,null,null,null,0,0,0,0,0,0,0,0,0,0,0,0,0,0,0,0,0,0,0,0]
[" ",5,"601F Single IR Flame Detector",null,null,null,0,null,{"$f":"+'4007ESConfigurator'!C93","v":"601F"},null,0,0,0,0,0,0,0,0,0,0,0,0,0,0,0,0,0,0,0,0,null,null,0,null,0,null,null,null,null,null,null,null,null,20,{"$f":"+AD38","v":0},"No Actuator Selected",null,null,null,0,null,null,null,null,null,null,null,null,null,null,null,null,null,null,null,0,0,0,0,0,0,0,0,0,0,0,0,0,0,0,0,0,0,0,0]
[" ",6,"FV400 Triple IR Flame Detector",null,null,null,0,null,{"$f":"+'4007ESConfigurator'!C94","v":"FV400"},null,0,0,0,0,0,0,0,0,0,0,0,0,0,0,0,0,0,0,0,0,null,{"$f":"+'4007ESConfigurator'!L94","v":0},{"$f":"+'4007ESConfigurator'!M94","v":0},{"$f":"+'4007ESConfigurator'!N94","v":"Aux PS"},1,null,null,null,null,null,null,null,null,null,null,null,null,null,null,null,null,null,null,null,null,null,null,null,null,null,null,null,null,null,null,0,0,0,0,0,0,0,0,0,0,0,0,0,0,0,0,0,0,0,0]
[" ",7,"ProReact Copper Linear Heat Detector(ProReact)",null,null,null,0,null,{"$f":"+'4007ESConfigurator'!C95","v":"ProReact"},null,0,0,0,0,0,0,0,0,0,0,0,0,0,0,0,0,0,0,0,0,null,{"$f":"+'4007ESConfigurator'!L95","v":0},{"$f":"+'4007ESConfigurator'!M95","v":0},{"$f":"+'4007ESConfigurator'!N95","v":"Aux PS"},1,null,null,null,null,null,null,null,null,null,null,null,null,null,null,null,null,null,null,null,null,null,null,null,null,null,null,null,null,null,null,0,0,0,0,0,0,0,0,0,0,0,0,0,0,0,0,0,0,0,0]
[" ",8,"APSensing Fiber Optic Linear Heat Detector",null,null,null,0,null,{"$f":"+'4007ESConfigurator'!C96","v":"APSensing"},null,0,0,0,0,0,0,0,0,0,0,0,0,0,0,0,0,0,0,0,0,null,{"$f":"+'4007ESConfigurator'!L96","v":0},{"$f":"+'4007ESConfigurator'!M96","v":0},{"$f":"+'4007ESConfigurator'!N96","v":"Aux PS"},1,null,null,null,null,null,null,null,null,null,null,null,null,null,null,null,null,null,null,null,null,null,null,null,null,null,null,null,null,null,null,0,0,0,0,0,0,0,0,0,0,0,0,0,0,0,0,0,0,0,0]
[" ",9,"Fireray Beam Detector",null,null,null,0,null,{"$f":"+'4007ESConfigurator'!C90","v":"FireRay1"},null,0,0,0,0,0,0,0,0,0,0,0,0,0,0,0,0,0,0,0,0,null,{"$f":"+'4007ESConfigurator'!L90","v":5},{"$f":"+'4007ESConfigurator'!M90","v":33},{"$f":"+'4007ESConfigurator'!N90","v":"Aux PS"},1,null,null,null,null,null,null,null,null,null,null,null,null,null,null,null,null,null,null,null,null,null,null,null,null,null,null,null,null,null,null,0,0,0,0,0,0,0,0,0,0,0,0,0,0,0,0,0,0,0,0]
[" ",{"$f":"+B118+1","v":10},{"$f":"+'4007ESConfigurator'!E98","v":"Special Device Input1B"},null,null,null,{"$f":"SUM(K119:AD119)","v":0},null,{"$f":"+'4007ESConfigurator'!C98","v":"Customised 1"},null,0,0,0,0,0,0,0,0,0,0,0,0,0,0,0,0,0,0,0,0,null,{"$f":"+'4007ESConfigurator'!L98","v":0},{"$f":"+'4007ESConfigurator'!M98","v":0},{"$f":"+'4007ESConfigurator'!N98","v":"Input \"Aux PS\" As Reqd"},{"$f":"IF(AH119=\"Aux PS\",1,0)","v":0},null,null,null,null,null,null,null,null,null,null,null,null,null,null,null,null,null,null,null,null,null,null,null,null,null,null,null,null,null,null,0,0,0,0,0,0,0,0,0,0,0,0,0,0,0,0,0,0,0,0]
[" ",11,{"$f":"+'4007ESConfigurator'!E99","v":"Special Device Input2B"},null,null,null,0,null,{"$f":"+'4007ESConfigurator'!C99","v":"Customised 2"},null,0,0,0,0,0,0,0,0,0,0,0,0,0,0,0,0,0,0,0,0,null,{"$f":"+'4007ESConfigurator'!L99","v":0},{"$f":"+'4007ESConfigurator'!M99","v":0},{"$f":"+'4007ESConfigurator'!N99","v":"Input \"Aux PS\" As Reqd"},0,null,null,null,null,null,null,null,null,null,null,null,null,null,null,null,null,null,null,null,null,null,null,null,null,null,null,null,null,null,null,0,0,0,0,0,0,0,0,0,0,0,0,0,0,0,0,0,0,0,0]
[" ",12,{"$f":"+'4007ESConfigurator'!E100","v":"Special Device Input3B"},null,null,null,0,null,{"$f":"+'4007ESConfigurator'!C100","v":"Customised 3"},null,0,0,0,0,0,0,0,0,0,0,0,0,0,0,0,0,0,0,0,0,null,{"$f":"+'4007ESConfigurator'!L100","v":0},{"$f":"+'4007ESConfigurator'!M100","v":0},{"$f":"+'4007ESConfigurator'!N100","v":"Input \"Aux PS\" As Reqd"},0,null,null,null,null,null,null,null,null,null,null,null,null,null,null,null,null,null,null,null,null,null,null,null,null,null,null,null,null,null,null,0,0,0,0,0,0,0,0,0,0,0,0,0,0,0,0,0,0,0,0]
[" ",13,{"$f":"+'4007ESConfigurator'!E101","v":"Special Device Input4B"},null,null,null,0,null,{"$f":"+'4007ESConfigurator'!C101","v":"Customised 4"},null,0,0,0,0,0,0,0,0,0,0,0,0,0,0,0,0,0,0,0,0,null,{"$f":"+'4007ESConfigurator'!L101","v":0},{"$f":"+'4007ESConfigurator'!M101","v":0},{"$f":"+'4007ESConfigurator'!N101","v":"Input \"Aux PS\" As Reqd"},0,null,null,null,null,null,null,null,null,null,null,null,null,null,null,null,null,null,null,null,null,null,null,null,null,null,null,null,null,null,null,0,0,0,0,0,0,0,0,0,0,0,0,0,0,0,0,0,0,0,0]
[" ",14,{"$f":"+'4007ESConfigurator'!E102","v":"Special Device Input5B"},null,null,null,0,null,{"$f":"+'4007ESConfigurator'!C102","v":"Customised 5"},null,0,0,0,0,0,0,0,0,0,0,0,0,0,0,0,0,0,0,0,0,null,{"$f":"+'4007ESConfigurator'!L102","v":0},{"$f":"+'4007ESConfigurator'!M102","v":0},{"$f":"+'4007ESConfigurator'!N102","v":"Input \"Aux PS\" As Reqd"},0,null,null,null,null,null,null,null,null,null,null,null,null,null,null,null,null,null,null,null,null,null,null,null,null,null,null,null,null,null,null,0,0,0,0,0,0,0,0,0,0,0,0,0,0,0,0,0,0,0,0]
[" ",15,"Addressable Input Module for above(Dry contact Monitoring)",null,null,null,{"$f":"SUM(K124:AD124)","v":0},null,{"$f":"+I92","v":"4090-9001"},null,0,0,0,0,0,0,0,0,0,0,0,0,0,0,0,0,0,0,0,0,null," "," "," ",0,null,null,null,null,null,null,null,null,null,null,null,null,null,null,null,null,null,null,null,null,null,null,null,null,null,null,null,null,null,null,0,0,0,0,0,0,0,0,0,0,0,0,0,0,0,0,0,0,0,0]
[" ",16,"Addressable Zone Addressable Module(For 2 Wire Conventional Zone)",null,null,null,0,null,{"$f":"+I93","v":"4090-9101"},null,0,0,0,0,0,0,0,0,0,0,0,0,0,0,0,0,0,0,0,0,null," "," "," ",0,null,null,null,null,null,null,null,null,null,null,null,null,null,null,null,null,null,null,null,null,null,null,null,null,null,null,null,null,null,null,0,0,0,0,0,0,0,0,0,0,0,0,0,0,0,0,0,0,0,0]
[" ",17,{"$f":"+'4007ESConfigurator'!E131","v":"Input1B- 2 Wired Powered by IDC"},null,null,null,0,null,{"$f":"+'4007ESConfigurator'!C131","v":"Customised 1"},null,0,0,0,0,0,0,0,0,0,0,0,0,0,0,0,0,0,0,0,0,null,{"$f":"+'4007ESConfigurator'!L131","v":0},{"$f":"+'4007ESConfigurator'!M131","v":0},{"$f":"+'4007ESConfigurator'!N131","v":"IDC Powered"},0,null,null,null,null,null,null,null,null,null,null,null,null,null,null,null,null,null,null,null,null,null,null,null,null,null,null,null,null,null,null,0,0,0,0,0,0,0,0,0,0,0,0,0,0,0,0,0,0,0,0]
[" ",{"$f":"+B126+1","v":18},{"$f":"+'4007ESConfigurator'!E132","v":"Input2B- 2 Wired Powered by IDC"},null,null,null,0,null,{"$f":"+'4007ESConfigurator'!C132","v":"Customised 2"},null,0,0,0,0,0,0,0,0,0,0,0,0,0,0,0,0,0,0,0,0,null,{"$f":"+'4007ESConfigurator'!L132","v":0},{"$f":"+'4007ESConfigurator'!M132","v":0},{"$f":"+'4007ESConfigurator'!N132","v":"IDC Powered"},0,null,null,null,null,null,null,null,null,null,null,null,null,null,null,null,null,null,null,null,null,null,null,null,null,null,null,null,null,null,null,0,0,0,0,0,0,0,0,0,0,0,0,0,0,0,0,0,0,0,0]
[" ",19,{"$f":"+'4007ESConfigurator'!E133","v":"Input3B- 2 Wired Powered by IDC"},null,null,null,0,null,{"$f":"+'4007ESConfigurator'!C133","v":"Customised 3"},null,0,0,0,0,0,0,0,0,0,0,0,0,0,0,0,0,0,0,0,0,null,{"$f":"+'4007ESConfigurator'!L133","v":0},{"$f":"+'4007ESConfigurator'!M133","v":0},{"$f":"+'4007ESConfigurator'!N133","v":"IDC Powered"},0,null,null,null,null,null,null,null,null,null,null,null,null,null,null,null,null,null,null,null,null,null,null,null,null,null,null,null,null,null,null,0,0,0,0,0,0,0,0,0,0,0,0,0,0,0,0,0,0,0,0]
[" ",20,{"$f":"+'4007ESConfigurator'!E134","v":"Input4B- 2 Wired Powered by IDC"},null,null,null,0,null,{"$f":"+'4007ESConfigurator'!C134","v":"Customised 4"},null,0,0,0,0,0,0,0,0,0,0,0,0,0,0,0,0,0,0,0,0,null,{"$f":"+'4007ESConfigurator'!L134","v":0},{"$f":"+'4007ESConfigurator'!M134","v":0},{"$f":"+'4007ESConfigurator'!N134","v":"IDC Powered"},0,null,null,null,null,null,null,null,null,null,null,null,null,null,null,null,null,null,null,null,null,null,null,null,null,null,null,null,null,null,null,0,0,0,0,0,0,0,0,0,0,0,0,0,0,0,0,0,0,0,0]
[" ",null,"Step 5A: Option Select Addressable Loop",null,null,null,null,null," ",null," "," "," "," "," "," "," "," "," "," "," "," "," "," "," "," "," "," "," "," ",null," "," ",null,0,null,null,null,null,null,null,null,null,null,null,null,null,null,null,null,null,null,null,null,null,null,null,null,null,null,null,null,null,null,null," "," "," "," "," "," "," "," "," "," "," "," "," "," "," "," "," "," "," "," "]
[" ",1,"Default Idnet Addressable Points Loop Card",null,null,"Actual Points used",null,null,{"$f":"SUM(G87:G103)-G95+G85+G83+G80+G78+G76+G69+G59+L24+M24+N24+O24+P24+G64+G65+G124+G125+Q31+Q30+Q32+(G168*2)+(G95*2)+G169","v":0},null,100,"Increase Addr Points as required",null,null,null,null,null,null,null,null,null,null,null,null,null,null,null,null,null,null,null,{"$f":"+'4007ESConfigurator'!L12","v":80},{"$f":"+'4007ESConfigurator'!M12","v":120},{"$f":"+'4007ESConfigurator'!N12","v":"Panel Powered"},0,null,null,null,null,null,null,null,null,null,null,null,null,null,null,null,null,null,null,null,null,null,null,null,null,null,null,null,null,null,7,100,"Increase Addr Points as required"]
[" ",2,"Idnet Loop 75 points Expansion Cards",null,null,"Increase to 175 pts",null,null,{"$f":"IF((-(K131-I131))>0,\"Increase to 175Pts\",\"Remain as 100 pts\")","v":"Remain as 100 pts"},null,{"$f":"IF($K$131=175,1,IF($K$131=250,2,0))","v":0},null,null,null,null,null,null,null,null,null,null,null,null,null,null,null,null,null,null,null,null,{"$f":"+'4007ESConfigurator'!L13","v":60},{"$f":"+'4007ESConfigurator'!M13","v":60},{"$f":"+'4007ESConfigurator'!N13","v":"Panel Powered"},0,null,null,null,null,null,null,null,null,null,null,null,null,null,null,null,null,null,null,null,null,null,null,null,null,null,null,null,null,null,null,{"$f":"IF($K$131=175,1,IF($K$131=250,2,0))","v":0}]
[" ",null,"Step 5B: Optional Select Conventional Zones",null,null,1,null,null,{"$f":"IF((-(K11-I131))>175,\"Increase to 250Pts\",\"Remain as above\")","v":"Remain as above"},null," "," "," "," "," "," "," "," "," "," "," "," "," "," "," "," "," "," "," "," "," "," "," ",null,0,null,null,null,null,null,null,null,null,null,null,null,null,null,null,null,null,null,null,null,null,null,null,null,null,null,null,null,null,null,null," "," "," "," "," "," "," "," "," "," "," "," "," "," "," "," "," "," "," "," "]
[" ",3,"Class B Conventional Zones",null,null,{"$f":"ROUNDUP(((AE134+AE136)/2),0)","v":{"$error":"#VALUE!"}},{"$f":"+'Aux & `Panel Current'!D46","v":0},null,{"$f":"+'4007ESConfigurator'!C16","v":"4007-9801"},null,0,null,null,null,null,null,null,null,null,null,null,null,null,null,null,null,null,null,null,null,{"$f":"+I134","v":"4007-9801"},{"$f":"'4007ESConfigurator'!L17","v":11},{"$f":"'4007ESConfigurator'!M17","v":60},null,0,null,null,null,null,null,null,null,null,null,null,null,null,null,null,null,null,null,null,null,null,null,null,null,null,null,null,null,null,null,null,0]
[" ",4,"Class A Conventional Zones",null,null,{"$f":"+(AE135*2)+AE134+AE136","v":{"$error":"#VALUE!"}},null,null,null,null,0,null,null,null,null,null,null,null,null,null,null,null,null,null,null,null,null,null,null,null,{"$f":"+I135","v":0},{"$f":"'4007ESConfigurator'!L18","v":20},{"$f":"'4007ESConfigurator'!M17","v":60},null,0,null,null,null,null,null,null,null,null,null,null,null,null,null,null,null,null,null,null,null,null,null,null,null,null,null,null,null,null,null,null,0]
[" ",5,"Relay Outputs",null,null," ",null,null,null,null,0,null,null,null,null,null,null,null,null,null,null,null,null,null,null,null,null,null,null,null,{"$f":"+I136","v":0},{"$f":"'4007ESConfigurator'!L19","v":0},{"$f":"'4007ESConfigurator'!M18","v":69},null,0,null,null,null,null,null,null,null,null,null,null,null,null,null,null,null,null,null,null,null,null,null,null,null,null,null,null,null,null,null,null,0]
[" ",6,"25V Zone Regulator Module",null,null," ",{"$f":"IF(K137=\"Yes\",1,0)","v":0},null,{"$f":"+'4007ESConfigurator'!C20","v":"4007-9802"},null,"No",null,null,null,null,null,null,null,null,null,null,null,null,null,null,null,null,null,null,null,0,{"$f":"'4007ESConfigurator'!L20","v":290},{"$f":"'4007ESConfigurator'!M20","v":801},null,0,null,null,null,null,null,null,null,null,null,null,null,null,null,null,null,null,null,null,null,null,null,null,null,null,null,null,null,null,null,null,"No"]
[" ",7,"Optional : RS 232 Card for Printer",null,null," ",0,null,{"$f":"+'4007ESConfigurator'!C21","v":"4007-9812"},null,"No",null,null,null,null,null,null,null,null,null,null,null,null,null,null,null,null,null,null,null,0,{"$f":"'4007ESConfigurator'!L21","v":60},{"$f":"'4007ESConfigurator'!M21","v":60},null,0,null,null,null,null,null,null,null,null,null,null,null,null,null,null,null,null,null,null,null,null,null,null,null,null,null,null,null,null,null,null,"No"]
[" ",null,"Step 5D: Optional Network Requirements",null,null,null,null,null," ",null," ",null,null,null,null,null,null,null,null," "," "," "," "," "," "," "," "," "," "," "," "," "," ",null,0,null,null,null,null,null,null,null,null,null,null,null,null,null,null,null,null,null,null,null,null,null,null,null,null,null,null,null,null,null,null," ",null,null,null,null,null,null,null,null," "," "," "," "," "," "," "," "," "," "," "]
[" ",8,"ESNet Network Main Card",null,null,null,{"$f":"IF(K140=\"Yes\",1,0)","v":0},null,{"$f":"+'4007ESConfigurator'!C23","v":"4007-9817"},null,"No",null,null,null,null,null,null,null,null,null,null,null,null,null,null,null,null,null,null,null,null,{"$f":"'4007ESConfigurator'!L23","v":120},{"$f":"'4007ESConfigurator'!M23","v":120},null,0,null,null,null,null,null,"No",null,null,null,null,null,null,null,null,null,null,null,null,null,null,null,null,null,null,null,null,null,null,null,null,"No"]
[" ",9,"ESNet Slot 1 Media Card - Requires only 1",null,null,null,{"$f":"IF(G140<1,0,(IF(K141=\"None\",0,1)))","v":0},null,{"$f":"IF(K141=\"None\",\"Not Selected\",IF(K141=\"DSL(Hardwired)\",\"4007-6307\",IF(K141=\"MM Fiber\",\"4007-6309\",IF(K141=\"SM Fiber\",\"4007-6308\",\"4007-6306\"))))","v":"Not Selected"},null,"None","4007-6307","ES Network Media Card - Hard Wired",null,null,"4007-6308","ES Network Media Card - Single mode Fibre Optic",null,null,null,null,null,null,null,null,null,null,null,null,null,null,{"$f":"IF($K141=\"DSL(Hardwired)\",'4007ESConfigurator'!L24,IF($K141=\"MM Fiber\",'4007ESConfigurator'!L25,IF($K141=\"SM Fiber\",'4007ESConfigurator'!L26,IF($K141=\"Ethernet\",'4007ESConfigurator'!L27,0))))","v":0},{"$f":"IF($K141=\"DSL(Hardwired)\",'4007ESConfigurator'!M24,IF($K141=\"MM Fiber\",'4007ESConfigurator'!M25,IF($K141=\"SM Fiber\",'4007ESConfigurator'!M26,IF($K141=\"Ethernet\",'4007ESConfigurator'!M27,0))))","v":0},null,0,null,null,null,null,null,"None",null,null,null,null,null,null,null,null,null,null,null,null,null,null,null,null,null,null,null,null,null,null,null,null,"None","4007-6307","ES Network Media Card - Hard Wired",null,null,"4007-6308","ES Network Media Card - Single mode Fibre Optic"]
[" ",10,"ESNet Slot 2 Media Card - Requires only 1",null,null,null,{"$f":"IF(G140<1,0,(IF(K142=\"None\",0,1)))","v":0},null,{"$f":"IF(K142=\"None\",\"Not Selected\",IF(K142=\"DSL(Hardwired)\",\"4007-6307\",IF(K142=\"MM Fiber\",\"4007-6309\",IF(K142=\"SM Fiber\",\"4007-6308\",\"4007-6306\"))))","v":"Not Selected"},null,"None","4007-6309","ES Network Media Card - Multi mode Fiber Optic",null,null,"4007-6306","ES Network Media Card - Ethernet ",null,null,null,null,null,null,null,null,null,null,null,null,null,null,{"$f":"IF($K142=\"DSL(Hardwired)\",'4007ESConfigurator'!L24,IF($K142=\"MM Fiber\",'4007ESConfigurator'!L25,IF($K142=\"SM Fiber\",'4007ESConfigurator'!L26,IF($K142=\"Ethernet\",'4007ESConfigurator'!L27,0))))","v":0},{"$f":"IF($K142=\"DSL(Hardwired)\",'4007ESConfigurator'!M24,IF($K142=\"MM Fiber\",'4007ESConfigurator'!M25,IF($K142=\"SM Fiber\",'4007ESConfigurator'!M26,IF($K142=\"Ethernet\",'4007ESConfigurator'!M27,0))))","v":0},null,0,null,null,null,null,null,"None",null,null,null,null,null,null,null,null,null,null,null,null,null,null,null,null,null,null,null,null,null,null,null,null,"None","4007-6309","ES Network Media Card - Multi mode Fiber Optic",null,null,"4007-6306","ES Network Media Card - Ethernet "]
[null,11,"4120 Network Main Card",null,null,null,{"$f":"(IF(K143=\"Yes\",1,0))","v":0},null,{"$f":"+'4007ESConfigurator'!C28","v":"4007-9810"},null,"No",null,{"$f":"IF((G140+G143)>1,\"Error, Only support 01 type of Network Card\",\"\")","v":""},null,null,null,null,null,null,null,null,null,null,null,null,null,null,null,null,null,null,{"$f":"+'4007ESConfigurator'!L28","v":30},{"$f":"+'4007ESConfigurator'!M28","v":30},null,null,null,null,null,null,null,null,null,null,"No",null,null,null,null,null,null,null,null,null,null,null,null,null,null,null,null,null,null,null,null,null,"No",null,{"$f":"IF((BJ140+BJ143)>1,\"Error, Only support 01 type of Network Card\",\"\")","v":""}]
[null,12,"4120 Slot 1 Media Card (Left) - Requires Left",null,null,null,{"$f":"IF(G143<1,0,(IF(K144=\"None\",0,1)))","v":0},null,{"$f":"IF(K144=\"None\",\"Not Selected\",IF(K144=\"485\",'4007ESConfigurator'!C29,IF(K144=\"MM Fiber\",'4007ESConfigurator'!C30,IF(K144=\"SM Fiber\",'4007ESConfigurator'!C32,'4007ESConfigurator'!C29))))","v":"Not Selected"},null,"None",null,{"$f":"IF((G141+G142)>1.1,\"**Note: Might have Error, You only need 01 Media Card unless changing media\",\"OK\")","v":"OK"},null,null,null,null,null,null,null,null,null,null,null,null,null,null,null,null,null,null,{"$f":"IF($K144=\"RS485\",'4007ESConfigurator'!L29,IF($K144=\"MM Fiber\",'4007ESConfigurator'!L30,IF($K144=\"SM Fiber\",'4007ESConfigurator'!L31,55)))","v":55},{"$f":"IF($K144=\"RS485\",'4007ESConfigurator'!M31,IF($K144=\"MM Fiber\",'4007ESConfigurator'!M32,IF($K144=\"SM Fiber\",'4007ESConfigurator'!M29,55)))","v":55},null,null,null,null,null,null,null,null,null,null,"None",null,null,null,null,null,null,null,null,null,null,null,null,null,null,null,null,null,null,null,null,null,"None",null,{"$f":"IF((BJ141+BJ142)>1.1,\"**Note: Might have Error, You only need 01 Media Card unless changing media\",\"OK\")","v":"OK"}]
[null,13,"4120 Slot 2 Media Card (Right) - Requires Right",null,null,null,{"$f":"IF(G143<1,0,(IF(K145=\"None\",0,1)))","v":0},null,{"$f":"IF(K145=\"None\",\"Not Selected\",IF(K145=\"485\",'4007ESConfigurator'!C30,IF(K145=\"MM Fiber\",'4007ESConfigurator'!C31,IF(K145=\"SM Fiber\",'4007ESConfigurator'!C33,'4007ESConfigurator'!C29))))","v":"Not Selected"},null,"None",null,{"$f":"IF(G144=G145,\"OK\",\"Error Missing Media Card Pair\")","v":"OK"},null,null,null,null,null,null,null,null,null,null,null,null,null,null,null,null,null,null,{"$f":"IF($K145=\"RS485\",'4007ESConfigurator'!L30,IF($K145=\"MM Fiber\",'4007ESConfigurator'!L31,IF($K145=\"SM Fiber\",'4007ESConfigurator'!L32,55)))","v":55},{"$f":"IF($K145=\"RS485\",'4007ESConfigurator'!M32,IF($K145=\"MM Fiber\",'4007ESConfigurator'!M33,IF($K145=\"SM Fiber\",'4007ESConfigurator'!M30,55)))","v":55},null,null,null,null,null,null,null,null,null,null,"None",null,null,null,null,null,null,null,null,null,null,null,null,null,null,null,null,null,null,null,null,null,"None",null,{"$f":"IF(BJ144=BJ145,\"OK\",\"Error Missing Media Card Pair\")","v":"OK"}]
[" ",null,"Step 5E: Optional Panel Suppression Field Accessories",null,null,null,null,null," ",null,null,null,null,null,null,null,null,null,null,null,null,null,null,null,null,null,null,null,null,null,null," ",null,null,0]
[" ",11,"Panel Mounted 48 LED Annunciator",null,null,null,{"$f":"IF(K147=\"Yes\",1,0)","v":0},null,{"$f":"+'4007ESConfigurator'!C10","v":"4007-9805"},null,"No",null,null,null,null,null,null,null,null,null,null,null,null,null,null,null,null,null,null,null,null,{"$f":"'4007ESConfigurator'!L10","v":10},{"$f":"+'4007ESConfigurator'!M10","v":10},{"$f":"+'4007ESConfigurator'!N10","v":"Panel Powered"},0,null,null,null,null,null,null,null,null,null,{"$f":"+AF147","v":10},{"$f":"+AG147","v":10},null,null,null,null,null,null,null,null,null,null,null,null,null,null,null,null,null,null,null,"No"]
[" ",12,"Enter Number of LEDs on in Alarm",null,null,null,{"$f":"+K148","v":0},null,"LED Loading",null,{"$f":"IF(K147=\"Yes\",16,0)","v":0},null,null,null,null,null,null,null,null,null,null,null,null,null,null,null,null,null,null,null,null,{"$f":"+'4007ESConfigurator'!L11","v":0},{"$f":"+'4007ESConfigurator'!M11","v":2},{"$f":"+'4007ESConfigurator'!N11","v":"Panel Powered"},0,null,null,null,null,null,null,null,null,null,null,{"$f":"+AG148*K148","v":0},null,null,null,null,null,null,null,null,null,null,null,null,null,null,null,null,null,null,null,{"$f":"IF(BN147=\"Yes\",16,0)","v":0}]
[" ",13,"Localised Count down Timer",null,null,null,{"$f":"SUM(K149:AD149)","v":0},null,"Local countdown",null,0,0,0,0,0,0,0,0,0,0,0,0,0,0,0,0,0,0,0,0,null,{"$f":"+'4007ESConfigurator'!L14","v":30},{"$f":"+'4007ESConfigurator'!M14","v":120},{"$f":"+'4007ESConfigurator'!N14","v":"Aux PS"},1,null,null,null,null,null,null,null,null,null," ",null,null,null,null,null,null,null,null,null,null,null,null,null,null,null,null,null,null,null,null,0,0,0,0,0,0,0,0,0,0,0,0,0,0,0,0,0,0,0,0]
[" ",null,"Step 5F: Repeater LCD Annunicator",null,null,null,null,null," ",null," "," "," "," "," "," "," "," "," "," "," "," "," "," "," "," "," "," "," "," ",null,null,null,null,0,null,null,null,null,null,null,null,null,null,null,null,null,null,null,null,null,null,null,null,null,null,null,null,null,null,null,null,null,null,null," "," "," "," "," "," "," "," "," "," "," "," "," "," "," "," "," "," "," "," "]
[" ",14,{"$f":"IF(K26=\"Red\",'4007ESConfigurator'!E36,'4007ESConfigurator'!E37)","v":"Remote Color Touchscreen LCD Annunciator-Beige - Max 6"},null,null,null,{"$f":"SUM(K151:AD151)","v":0},null,{"$f":"IF(K26=\"Red\",'4007ESConfigurator'!C36,'4007ESConfigurator'!C37)","v":"4606-9205(BA)"},null,0,0,0,0,0,0,0,0,0,0,0,0,0,0,0,0,0,0,0,0,null,{"$f":"+'4007ESConfigurator'!L36","v":45},{"$f":"+'4007ESConfigurator'!M36","v":124},{"$f":"+'4007ESConfigurator'!N36","v":"Aux PS"},1,null,null,null,null,null,null,null,null,null,null,null,null,null,null,null,null,null,null,null,null,null,null,null,null,null,null,null,null,null,null,0,0,0,0,0,0,0,0,0,0,0,0,0,0,0,0,0,0,0,0]
[" ",15,{"$f":"IF(C26=\"Red\",'4007ESConfigurator'!E38,'4007ESConfigurator'!E39)","v":"Surface mount metal box for above annunciators - Beige"},null,null,null,0,null,{"$f":"IF(C26=\"Red\",'4007ESConfigurator'!C38,'4007ESConfigurator'!C39)","v":"2975-9462"},null,{"$f":"+K151","v":0},0,0,0,0,0,0,0,0,0,0,0,0,0,0,0,0,0,0,0,null,0,0,0,0,null,null,null,null,null,null,null,null,null,null,null,null,null,null,null,null,null,null,null,null,null,null,null,null,null,null,null,null,null,null,{"$f":"+BN151","v":0},0,0,0,0,0,0,0,0,0,0,0,0,0,0,0,0,0,0,0]
[" ",null,null,null,null,null,null,null,{"$f":"IF((G151)>6,\"Error, Exceed 6 Limit\",\"OK within 6 Limit\")","v":"OK within 6 Limit"},null," "," "," "," "," "," "," "," "," "," "," "," "," "," "," "," "," "," "," "," ",null," ",null,null,0,null,null,null,null,null,null,null,null,null,null,null,null,null,null,null,null,null,null,null,null,null,null,null,null,null,null,null,null,null,null," "," "," "," "," "," "," "," "," "," "," "," "," "," "," "," "," "," "," "," "]
[" ",null,"Step 6A: Conventional Notification Devices",null,null,null,null,null," ",null,"Hazard 1","Hazard 2","Hazard 3","Hazard 4","Hazard 5","Hazard 6","Hazard 7","Hazard 8","Hazard 9","Hazard 10","Hazard 11","Hazard 12","Hazard 13","Hazard 14","Hazard 15","Hazard 16","Hazard 17","Hazard 18","Hazard 19","Hazard 20",null,null,null,null,0,null,null,null,null,null,null,null,null,null,null,null,null,null,null,null,null,null,null,null,null,null,null,null,null,null,null,null,null,null,null,"Hazard 1","Hazard 2","Hazard 3","Hazard 4","Hazard 5","Hazard 6","Hazard 7","Hazard 8","Hazard 9","Hazard 10","Hazard 11","Hazard 12","Hazard 13","Hazard 14","Hazard 15","Hazard 16","Hazard 17","Hazard 18","Hazard 19","Hazard 20"]
[" ",1,{"$f":"+'4007ESConfigurator'!E141","v":"Vibrating Bell 6\" - 24 VDC"},null,null,null,{"$f":"SUM(K155:AD155)","v":0},null,{"$f":"+'4007ESConfigurator'!D141","v":"Bell Only"},"Default 2",{"$f":"IF(K16=1,2,0)","v":0},0,0,0,0,0,0,0,0,0,0,0,0,0,0,0,0,0,0,0,null,{"$f":"+'4007ESConfigurator'!L141","v":0},{"$f":"+'4007ESConfigurator'!M141","v":41},{"$f":"+'4007ESConfigurator'!N141","v":"NAC Powered"},0,null,null,null,null,null,null,null,null,null,null,null,null,null,null,null,null,null,null,null,null,null,null,null,null,null,null,null,null,null,8,{"$f":"IF(BN16=1,2,0)","v":0},0,0,0,0,0,0,0,0,0,0,0,0,0,0,0,0,0,0,0]
[" ",2,{"$f":"+'4007ESConfigurator'!E138","v":"15 cd Red Wall Horn Strobe"},null,null,null,0,null,{"$f":"+'4007ESConfigurator'!D138","v":"Horn & Strobe 15Cd"},"Default 2",{"$f":"IF(K16=1,2,0)","v":0},0,0,0,0,0,0,0,0,0,0,0,0,0,0,0,0,0,0,0,null,{"$f":"+'4007ESConfigurator'!L137","v":0},{"$f":"+'4007ESConfigurator'!M138","v":75},{"$f":"+'4007ESConfigurator'!N137","v":"NAC Powered"},0,null,null,null,null,null,null,null,null,null,null,null,null,null,null,null,null,null,null,null,null,null,null,null,null,null,null,null,null,null,null,{"$f":"IF(BN16=1,2,0)","v":0},0,0,0,0,0,0,0,0,0,0,0,0,0,0,0,0,0,0,0]
[" ",3,{"$f":"+'4007ESConfigurator'!E139","v":"30 cd Red Wall Horn Strobe"},null,null,null,0,null,{"$f":"+'4007ESConfigurator'!D139","v":"Horn & Strobe 30Cd"}," ",0,0,0,0,0,0,0,0,0,0,0,0,0,0,0,0,0,0,0,0,null,{"$f":"+'4007ESConfigurator'!L138","v":0},{"$f":"+'4007ESConfigurator'!M139","v":116},{"$f":"+'4007ESConfigurator'!N138","v":"NAC Powered"},0,null,null,null,null,null,null,null,null,null,null,null,null,null,null,null,null,null,null,null,null,null,null,null,null,null,null,null,null,null,null,0,0,0,0,0,0,0,0,0,0,0,0,0,0,0,0,0,0,0,0]
[" ",4,{"$f":"+'4007ESConfigurator'!E140","v":"75 cd Red Wall Horn Strobe"},null,null,null,0,null,{"$f":"+'4007ESConfigurator'!D140","v":"Horn & Strobe 75Cd"}," ",0,0,0,0,0,0,0,0,0,0,0,0,0,0,0,0,0,0,0,0,null,{"$f":"+'4007ESConfigurator'!L139","v":0},{"$f":"+'4007ESConfigurator'!M140","v":221},{"$f":"+'4007ESConfigurator'!N139","v":"NAC Powered"},0,null,null,null,null,null,null,null,null,null,null,null,null,null,null,null,null,null,null,null,null,null,null,null,null,null,null,null,null,null,null,0,0,0,0,0,0,0,0,0,0,0,0,0,0,0,0,0,0,0,0]
[" ",5,{"$f":"+'4007ESConfigurator'!E137","v":"Red Wall Mounted Horn"},null,null,null,0,null,{"$f":"+'4007ESConfigurator'!D137","v":"Horn Only"}," ",0,0,0,0,0,0,0,0,0,0,0,0,0,0,0,0,0,0,0,0,null,{"$f":"+'4007ESConfigurator'!L137","v":0},{"$f":"+'4007ESConfigurator'!M137","v":27},{"$f":"+'4007ESConfigurator'!N137","v":"NAC Powered"},0,null,null,null,null,null,null,null,null,null,null,null,null,null,null,null,null,null,null,null,null,null,null,null,null,null,null,null,null,null,null,0,0,0,0,0,0,0,0,0,0,0,0,0,0,0,0,0,0,0,0]
[" ",6,{"$f":"+'4007ESConfigurator'!E143","v":"Input1B - Notification Device 1"},null,null,null,0,null,{"$f":"+AddonDevice!C112","v":"Customised 1"}," ",0,0,0,0,0,0,0,0,0,0,0,0,0,0,0,0,0,0,0,0,null,{"$f":"+AddonDevice!H112","v":" "},{"$f":"+AddonDevice!I112","v":0},{"$f":"+AddonDevice!J112","v":"NAC Powered"},0,null,null,null,null,null,null,null,null,null,null,null,null,null,null,null,null,null,null,null,null,null,null,null,null,null,null,null,null,null,null,0,0,0,0,0,0,0,0,0,0,0,0,0,0,0,0,0,0,0,0]
[" ",7,{"$f":"+'4007ESConfigurator'!E144","v":"Input2B - Notification Device 2"},null,null,null,0,null,{"$f":"+AddonDevice!C113","v":"Customised 2"}," ",0,0,0,0,0,0,0,0,0,0,0,0,0,0,0,0,0,0,0,0,null,{"$f":"+AddonDevice!H113","v":0},{"$f":"+AddonDevice!I113","v":0},{"$f":"+AddonDevice!J113","v":"NAC Powered"},0,null,null,null,null,null,null,null,null,null,null,null,null,null,null,null,null,null,null,null,null,null,null,null,null,null,null,null,null,null,null,0,0,0,0,0,0,0,0,0,0,0,0,0,0,0,0,0,0,0,0]
[" ",8,{"$f":"+'4007ESConfigurator'!E145","v":"Input3B - Notification Device 3"},null,null,null,0,null,{"$f":"+AddonDevice!C114","v":"Customised 3"}," ",0,0,0,0,0,0,0,0,0,0,0,0,0,0,0,0,0,0,0,0,null,{"$f":"+AddonDevice!H114","v":0},{"$f":"+AddonDevice!I114","v":0},{"$f":"+AddonDevice!J114","v":"NAC Powered"},0,null,null,null,null,null,null,null,null,null,null,null,null,null,null,null,null,null,null,null,null,null,null,null,null,null,null,null,null,null,null,0,0,0,0,0,0,0,0,0,0,0,0,0,0,0,0,0,0,0,0]
[" ",9,{"$f":"+'4007ESConfigurator'!E146","v":"Input4B - Notification Device 4"},null,null,null,0,null,{"$f":"+AddonDevice!C115","v":"Customised 4"}," ",0,0,0,0,0,0,0,0,0,0,0,0,0,0,0,0,0,0,0,0,null,{"$f":"+AddonDevice!H115","v":0},{"$f":"+AddonDevice!I115","v":0},{"$f":"+AddonDevice!J115","v":"NAC Powered"},0,null,null,null,null,null,null,null,null,null,null,null,null,null,null,null,null,null,null,null,null,null,null,null,null,null,null,null,null,null,null,0,0,0,0,0,0,0,0,0,0,0,0,0,0,0,0,0,0,0,0]
[" ",10,{"$f":"+'4007ESConfigurator'!E147","v":"Input5B - Notification Device 5"},null,null,null,0,null,{"$f":"+AddonDevice!C116","v":"Customised 5"}," ",0,0,0,0,0,0,0,0,0,0,0,0,0,0,0,0,0,0,0,0,null,{"$f":"+AddonDevice!H116","v":0},{"$f":"+AddonDevice!I116","v":0},{"$f":"+AddonDevice!J116","v":"NAC Powered"},0,null,null,null,null,null,null,null,null,null,null,null,null,null,null,null,null,null,null,null,null,null,null,null,null,null,null,null,null,null,null,0,0,0,0,0,0,0,0,0,0,0,0,0,0,0,0,0,0,0,0]
[" ",11,{"$f":"+'4007ESConfigurator'!E148","v":"Input6B - Notifiation Device 6"},null,null,null,0,null,{"$f":"+AddonDevice!C117","v":"Customised 6"}," ",0,0,0,0,0,0,0,0,0,0,0,0,0,0,0,0,0,0,0,0,null,{"$f":"+AddonDevice!H117","v":0},{"$f":"+AddonDevice!I117","v":0},{"$f":"+AddonDevice!J117","v":"NAC Powered"},0,null,null,null,null,null,null,null,null,null,null,null,null,null,null,null,null,null,null,null,null,null,null,null,null,null,null,null,null,null,null,0,0,0,0,0,0,0,0,0,0,0,0,0,0,0,0,0,0,0,0]
[" ",12,null,null,null,null,null,null," ","Default ",null,null,null,null,null,null,null,null,null,null,null,null,null,null,null,null,null,null,null,null,null,null,null,null,0]
[" ",12,"Addressable Notification Zones",null,null,null,{"$f":"SUM(K167:AD167)","v":0},null,"Addr NAC Zones"," ",{"$f":"IF(K16=1,2,0)","v":0},0,0,0,0,0,0,0,0,0,0,0,0,0,0,0,0,0,0,0,null,{"$f":"+'4007ESConfigurator'!L70","v":0},{"$f":"+'4007ESConfigurator'!M70","v":0},{"$f":"+'4007ESConfigurator'!N70","v":"Looped Powered"},0,null,null,null,null,null,null,null,null,null,null,null,null,null,null,null,null,null,null,null,null,null,null,null,null,null,null,null,null,null,null,{"$f":"IF(BN16=1,2,0)","v":0},0,0,0,0,0,0,0,0,0,0,0,0,0,0,0,0,0,0,0]
[" ",13,"Addressable Notification Zones Signalling Module",null,null,null,{"$f":"SUM(K168:AD168)","v":0},null,{"$f":"+I95","v":"4090-9007"}," ",{"$f":"+K167*(1-$J$170)","v":0},0,0,0,0,0,0,0,0,0,0,0,0,0,0,0,0,0,0,0,null,{"$f":"+'4007ESConfigurator'!L71","v":0},{"$f":"+'4007ESConfigurator'!M71","v":0},{"$f":"+'4007ESConfigurator'!N71","v":"Looped Powered"},0,null,null,null,null,null,null,null,null,null,null,null,null,null,null,null,null,null,null,null,null,null,null,null,null,null,null,null,null,null,null,{"$f":"+BN167*(1-$J$170)","v":0},0,0,0,0,0,0,0,0,0,0,0,0,0,0,0,0,0,0,0]
[null,13,"Addressable Notification Zones Relay Module",null,null,null,{"$f":"SUM(K169:AD169)","v":0},null,"4090-9002",null,{"$f":"+K167*$J$170","v":0},0,0,0,0,0,0,0,0,0,0,0,0,0,0,0,0,0,0,0,null,null,null,null,null,null,null,null,null,null,null,null,null,null,null,null,null,null,null,null,null,null,null,null,null,null,null,null,null,null,null,null,null,null,null,{"$f":"+BN167*$J$170","v":0},0,0,0,0,0,0,0,0,0,0,0,0,0,0,0,0,0,0,0]
[" ",null,"Step 6B: Panel Notification Circuits Loading",null,null,null,"Zone",null,"Subtotal NAC Amp",0]
[" ",1,"Select Zone 1 Notification Devices Type(Allow Only 1 type)",null,null,null,1,null,"Z1 Notification Device",1,"Bell Only","Bell Only","Bell Only","Bell Only","Bell Only","Bell Only","Bell Only","Bell Only","Bell Only","Bell Only","Bell Only","Bell Only","Bell Only","Bell Only","Bell Only","Bell Only","Bell Only","Bell Only","Bell Only","Bell Only",null,null,null,null,null,null,null,null,null,null,null,null,null,null,null,null,null,null,null,null,null,null,null,null,null,null,null,null,null,null,null,null,null,null,8,"Bell Only","Bell Only","Bell Only","Bell Only","Bell Only","Bell Only","Bell Only","Bell Only","Bell Only","Bell Only","Bell Only","Bell Only","Bell Only","Bell Only","Bell Only","Bell Only","Bell Only","Bell Only","Bell Only","Bell Only"]
[" ",2,"Zone 1 Total Notification Devices Consumption",null,null,null,null,null,"Zone 1 NAC Current(Bell or Horn)",0,{"$f":"IF(K$171=$I$155,(K$155*$AG$155),0)+IF(K$171=$I$156, (K$156*$AG$156),0)+IF(K$171=$I$157,(K$157*$AG$157),0)+IF(K$171=$I$158, (K$158*$AG$158),0)+IF(K$171=$I$159,(K$159*$AG$159),0)+IF(K$171=$I$160, (K$160*$AG$160),0)+IF(K$171=$I$161,(K$161*$AG$161),0)+IF(K$171=$I$162, (K$162*$AG$162),0)+IF(K$171=$I$163,(K$163*$AG$163),0)+IF(K$171=$I$164, (K$164*$AG$164),0)+IF(K$171=$I$165, (K$165*$AG$165),0)","v":0},{"$f":"IF(L$171=$I$155,(L$155*$AG$155),0)+IF(L$171=$I$156, (L$156*$AG$156),0)+IF(L$171=$I$157,(L$157*$AG$157),0)+IF(L$171=$I$158, (L$158*$AG$158),0)+IF(L$171=$I$159,(L$159*$AG$159),0)+IF(L$171=$I$160, (L$160*$AG$160),0)+IF(L$171=$I$161,(L$161*$AG$161),0)+IF(L$171=$I$162, (L$162*$AG$162),0)+IF(L$171=$I$163,(L$163*$AG$163),0)+IF(L$171=$I$164, (L$164*$AG$164),0)+IF(L$171=$I$165, (L$165*$AG$165),0)","v":0},0,0,0,0,0,0,0,0,0,0,0,0,0,0,0,0,0,0,null,null,null,null,null,null,null,null,null,null,null,null,null,null,null,null,null,null,null,null,null,null,null,null,null,null,null,null,null,null,null,null,null,null,null,{"$f":"IF(BN$171=$I$155,(BN$155*$AG$155),0)+IF(BN$171=$I$156, (BN$156*$AG$156),0)+IF(BN$171=$I$157,(BN$157*$AG$157),0)+IF(BN$171=$I$158, (BN$158*$AG$158),0)+IF(BN$171=$I$159,(BN$159*$AG$159),0)+IF(BN$171=$I$160, (BN$160*$AG$160),0)+IF(BN$171=$I$161,(BN$161*$AG$161),0)+IF(BN$171=$I$162, (BN$162*$AG$162),0)+IF(BN$171=$I$163,(BN$163*$AG$163),0)+IF(BN$171=$I$164, (BN$164*$AG$164),0)+IF(BN$171=$I$165, (BN$165*$AG$165),0)","v":0},{"$f":"IF(BO$171=$I$155,(BO$155*$AG$155),0)+IF(BO$171=$I$156, (BO$156*$AG$156),0)+IF(BO$171=$I$157,(BO$157*$AG$157),0)+IF(BO$171=$I$158, (BO$158*$AG$158),0)+IF(BO$171=$I$159,(BO$159*$AG$159),0)+IF(BO$171=$I$160, (BO$160*$AG$160),0)+IF(BO$171=$I$161,(BO$161*$AG$161),0)+IF(BO$171=$I$162, (BO$162*$AG$162),0)+IF(BO$171=$I$163,(BO$163*$AG$163),0)+IF(BO$171=$I$164, (BO$164*$AG$164),0)+IF(BO$171=$I$165, (BO$165*$AG$165),0)","v":0},0,0,0,0,0,0,0,0,0,0,0,0,0,0,0,0,0,0]
[" ",3,"Select Zone 2 Notification Devices Type(Allow only 1 type)",null,null,null,2,null,"Z2 Notification Device",null,"Horn & Strobe 15Cd","Horn & Strobe 15Cd","Horn & Strobe 15Cd","Horn & Strobe 15Cd","Horn & Strobe 15Cd","Horn & Strobe 15Cd","Horn & Strobe 15Cd","Horn & Strobe 15Cd","Horn & Strobe 15Cd","Horn & Strobe 15Cd","Horn & Strobe 15Cd","Horn & Strobe 15Cd","Horn & Strobe 15Cd","Horn & Strobe 15Cd","Horn & Strobe 15Cd","Horn & Strobe 15Cd","Horn & Strobe 15Cd","Horn & Strobe 15Cd","Horn & Strobe 15Cd","Horn & Strobe 15Cd",null,null,null,null,null,null,null,null,null,null,null,null,null,null,null,null,null,null,null,null,null,null,null,null,null,null,null,null,null,null,null,null,null,null,9,"Horn & Strobe 15Cd","Horn & Strobe 15Cd","Horn & Strobe 15Cd","Horn & Strobe 15Cd","Horn & Strobe 15Cd","Horn & Strobe 15Cd","Horn & Strobe 15Cd","Horn & Strobe 15Cd","Horn & Strobe 15Cd","Horn & Strobe 15Cd","Horn & Strobe 15Cd","Horn & Strobe 15Cd","Horn & Strobe 15Cd","Horn & Strobe 15Cd","Horn & Strobe 15Cd","Horn & Strobe 15Cd","Horn & Strobe 15Cd","Horn & Strobe 15Cd","Horn & Strobe 15Cd","Horn & Strobe 15Cd"]
[" ",4,"Zone 2 Total Notification Devices Consumption",null,null,null,null,null,"Zone 2 NAC Current(Strobe & Horns)",null,{"$f":"IF(K$173=$I$155,(K$155*$AG$155),0)+IF(K$173=$I$156, (K$156*$AG$156),0)+IF(K$173=$I$157,(K$157*$AG$157),0)+IF(K$173=$I$158, (K$158*$AG$158),0)+IF(K$173=$I$159,(K$159*$AG$159),0)+IF(K$173=$I$160, (K$160*$AG$160),0)+IF(K$173=$I$161,(K$161*$AG$161),0)+IF(K$173=$I$162, (K$162*$AG$162),0)+IF(K$173=$I$163,(K$163*$AG$163),0)+IF(K$173=$I$164, (K$164*$AG$164),0)+IF(K$173=$I$165, (K$165*$AG$165),0)","v":0},0,0,0,0,0,0,0,0,0,0,0,0,0,0,0,0,0,0,0,null,null,null,null,null,null,null,null,null,null,null,null,null,null,null,null,null,null,null,null,null,null,null,null,null,null,null,null,null,null,null,null,null,null,null,{"$f":"IF(BN$173=$I$155,(BN$155*$AG$155),0)+IF(BN$173=$I$156, (BN$156*$AG$156),0)+IF(BN$173=$I$157,(BN$157*$AG$157),0)+IF(BN$173=$I$158, (BN$158*$AG$158),0)+IF(BN$173=$I$159,(BN$159*$AG$159),0)+IF(BN$173=$I$160, (BN$160*$AG$160),0)+IF(BN$173=$I$161,(BN$161*$AG$161),0)+IF(BN$173=$I$162, (BN$162*$AG$162),0)+IF(BN$173=$I$163,(BN$163*$AG$163),0)+IF(BN$173=$I$164, (BN$164*$AG$164),0)+IF(BN$173=$I$165, (BN$165*$AG$165),0)","v":0},0,0,0,0,0,0,0,0,0,0,0,0,0,0,0,0,0,0,0]
[" ",5,"Total Notification NAC 4 Consumption for Battery Calculation",null,null,null," ",null,"Total NAC Current",null,{"$f":"+K174+K172","v":0},{"$f":"+L174+L172","v":0},0,0,0,0,0,0,0,0,0,0,0,0,0,0,0,0,0,0,null,null,null,null,null,null,null,null,null,null,null,null,null,null,null,null,null,null,null,null,null,null,null,null,null,null,null,null,null,null,null,null,null,null,null,{"$f":"+BN174+BN172","v":0},{"$f":"+BO174+BO172","v":0},0,0,0,0,0,0,0,0,0,0,0,0,0,0,0,0,0,0]
[" ",6,"Check on Duplicated Device Type across different Zone",null,null,null," ",null,"Z1 & 2 Duplicated Dev",null,{"$f":"IF(K171=K173,\"Error\",\"OK\")","v":"OK"},{"$f":"IF(L171=L173,\"Error\",\"OK\")","v":"OK"},"OK","OK","OK","OK","OK","OK","OK","OK","OK","OK","OK","OK","OK","OK","OK","OK","OK","OK",null,{"$f":"IF((\"D48\"=\"RAC1\"),0,1)","v":1},null,null,null,null,null,null,null,null,null,null,null,null,null,null,null,null,null,null,null,null,null,null,null,null,null,null,null,null,null,null,null,null,null,{"$f":"IF(BN171=BN173,\"Error\",\"OK\")","v":"OK"},{"$f":"IF(BO171=BO173,\"Error\",\"OK\")","v":"OK"},"OK","OK","OK","OK","OK","OK","OK","OK","OK","OK","OK","OK","OK","OK","OK","OK","OK","OK"]
[" ",7,"Zone 1 Notification Circuits Worse Case Wiring Distance",null,null,null,null,"**","Zone 1 Worse Case Distance",null,{"$f":"(IF(K$172>0,((((WorseV/(K$172/C_Amp))/Res_C1)*C_Res)/Core_2),\"NA\"))","v":"NA"},{"$f":"(IF(L$172>0,((((WorseV/(L$172/C_Amp))/Res_C2)*C_Res)/Core_2),\"NA\"))","v":"NA"},"NA","NA","NA","NA","NA","NA","NA","NA","NA","NA","NA","NA","NA","NA","NA","NA","NA","NA",null,null,null,null,null,null,null,null,null,null,null,null,null,null,null,null,null,null,null,null,null,null,null,null,null,null,null,null,null,null,null,null,null,null,null,{"$f":"(IF(BN$172>0,((((WorseV/(BN$172/C_Amp))/Res_C1)*C_Res)/Core_2),\"NA\"))","v":"NA"},{"$f":"(IF(BO$172>0,((((WorseV/(BO$172/C_Amp))/Res_C2)*C_Res)/Core_2),\"NA\"))","v":"NA"},"NA","NA","NA","NA","NA","NA","NA","NA","NA","NA","NA","NA","NA","NA","NA","NA","NA","NA"]
[" ",8,"Zone 1 Notification Circuits Mean Case Wiring Distance",null,null,null,null,"**","Zone 1 Mean Case Distance",null,{"$f":"(IF(K$172>0,((((MeanV/(K$172/C_Amp))/Res_C1)*C_Res)/Core_2),\"NA\"))","v":"NA"},{"$f":"(IF(L$172>0,((((MeanV/(L$172/C_Amp))/Res_C2)*C_Res)/Core_2),\"NA\"))","v":"NA"},"NA","NA","NA","NA","NA","NA","NA","NA","NA","NA","NA","NA","NA","NA","NA","NA","NA","NA",null,null,null,null,null,null,null,null,null,null,null,null,null,null,null,null,null,null,null,null,null,null,null,null,null,null,null,null,null,null,null,null,null,null,null,{"$f":"(IF(BN$172>0,((((MeanV/(BN$172/C_Amp))/Res_C1)*C_Res)/Core_2),\"NA\"))","v":"NA"},{"$f":"(IF(BO$172>0,((((MeanV/(BO$172/C_Amp))/Res_C2)*C_Res)/Core_2),\"NA\"))","v":"NA"},"NA","NA","NA","NA","NA","NA","NA","NA","NA","NA","NA","NA","NA","NA","NA","NA","NA","NA"]
[" ",9,"Zone 2 Notification Circuits Worse Case Wiring Distance",null,null,null,null,null,"Zone 2 Worse Case Distance",null,{"$f":"(IF(K$174>0,((((WorseV/(K$174/C_Amp))/Res_C1)*C_Res)/Core_2),\"NA\"))","v":"NA"},{"$f":"(IF(L$174>0,((((WorseV/(L$174/C_Amp))/Res_C2)*C_Res)/Core_2),\"NA\"))","v":"NA"},"NA","NA","NA","NA","NA","NA","NA","NA","NA","NA","NA","NA","NA","NA","NA","NA","NA","NA",null,null,null,null,null,null,null,null,null,null,null,null,null,null,null,null,null,null,null,null,null,null,null,null,null,null,null,null,null,null,null,null,null,null,null,{"$f":"(IF(BN$174>0,((((WorseV/(BN$174/C_Amp))/Res_C1)*C_Res)/Core_2),\"NA\"))","v":"NA"},{"$f":"(IF(BO$174>0,((((WorseV/(BO$174/C_Amp))/Res_C2)*C_Res)/Core_2),\"NA\"))","v":"NA"},"NA","NA","NA","NA","NA","NA","NA","NA","NA","NA","NA","NA","NA","NA","NA","NA","NA","NA"]
[" ",10,"Zone 2 Notification Circuits Mean Case Wiring Distance",null,null,null,null,null,"Zone 2 Mean Case Distance",null,{"$f":"(IF(K$174>0,((((MeanV/(K$174/C_Amp))/Res_C1)*C_Res)/Core_2),\"NA\"))","v":"NA"},{"$f":"(IF(L$174>0,((((MeanV/(L$174/C_Amp))/Res_C2)*C_Res)/Core_2),\"NA\"))","v":"NA"},"NA","NA","NA","NA","NA","NA","NA","NA","NA","NA","NA","NA","NA","NA","NA","NA","NA","NA",null,null,null,null,null,null,null,null,null,null,null,null,null,null,null,null,null,null,null,null,null,null,null,null,null,null,null,null,null,null,null,null,null,null,null,{"$f":"(IF(BN$174>0,((((MeanV/(BN$174/C_Amp))/Res_C1)*C_Res)/Core_2),\"NA\"))","v":"NA"},{"$f":"(IF(BO$174>0,((((MeanV/(BO$174/C_Amp))/Res_C2)*C_Res)/Core_2),\"NA\"))","v":"NA"},"NA","NA","NA","NA","NA","NA","NA","NA","NA","NA","NA","NA","NA","NA","NA","NA","NA","NA"]
[null,null,"Cable Properties Selection",null,null,null,null,null,null,null,"Cable Properties Selection that will affect the Maximum Distance ",null,null,null,null,null,null,null,null,null,null,null,null,null,null,null,null,null,null,null,null,null,null,null,null,null,null,null,null,null,null,null,null,null,null,null,null,null,null,null,null,null,null,null,null,null,null,null,null,null,null,null,null,null,null,"Cable Properties Selection that will affect the Maximum Distance "]
[" ",11,"Select Wire Gauge Cable for Each Hazard Zones",null,null,null,null,null,"Wire Gauge",null,"2.5mm2","2.5mm2","2.5mm2","2.5mm2","2.5mm2","2.5mm2","2.5mm2","2.5mm2","2.5mm2","2.5mm2","2.5mm2","2.5mm2","2.5mm2","2.5mm2","2.5mm2","2.5mm2","2.5mm2","2.5mm2","2.5mm2","2.5mm2"," ",null,null,null,null,null,null,null,null,null,null,null,null,null,null,null,null,null,null,null,null,null,null,null,null,null,null,null,null,null,null,null,null,null,10,"16AWG","16AWG","16AWG","16AWG","16AWG","16AWG","16AWG","16AWG","16AWG","16AWG","16AWG","16AWG","16AWG","16AWG","16AWG","16AWG","16AWG","16AWG","16AWG","16AWG"]
[" ",12,"Select the cable Operating Temperature Type",null,null,null,null,null,"Wire Temperature",null,"50°C (122°F)","50°C (122°F)","50°C (122°F)","50°C (122°F)","50°C (122°F)","50°C (122°F)","50°C (122°F)","50°C (122°F)","50°C (122°F)","50°C (122°F)","50°C (122°F)","50°C (122°F)","50°C (122°F)","50°C (122°F)","50°C (122°F)","50°C (122°F)","50°C (122°F)","50°C (122°F)","50°C (122°F)","50°C (122°F)"," ",null,null,null,null,null,null,null,null,null,null,null,null,null,null,null,null,null,null,null,null,null,null,null,null,null,null,null,null,null,null,null,null,null,null,"50°C (122°F)","50°C (122°F)","50°C (122°F)","50°C (122°F)","50°C (122°F)","50°C (122°F)","50°C (122°F)","50°C (122°F)","50°C (122°F)","50°C (122°F)","50°C (122°F)","50°C (122°F)","50°C (122°F)","50°C (122°F)","50°C (122°F)","50°C (122°F)","50°C (122°F)","50°C (122°F)","50°C (122°F)","50°C (122°F)"]
[" ",13,"Ohm Per Km base on above two selection",null,null,null,null,null,"Ohms / Km",null,{"$f":"IF(K183=\"50°C (122°F)\",(_xlfn.IFS(K$182=\"18AWG\",IdnetAddr!$H$3,K$182=\"16AWG\",IdnetAddr!$I$3,K$182=\"14AWG\",IdnetAddr!J$3,K$182=\"12AWG\",IdnetAddr!$K$3,K$182=\"1.5mm2\",IdnetAddr!$L$3,K$182=\"2.5mm2\",IdnetAddr!$M$3)),(_xlfn.IFS(K$182=\"18AWG\",IdnetAddr!$N$3,K$182=\"16AWG\",IdnetAddr!$O$3,K$182=\"14AWG\",IdnetAddr!$Q$3,K$182=\"12AWG\",IdnetAddr!$P$3,K$182=\"1.5mm2\",IdnetAddr!$Q$3,K$182=\"2.5mm2\",IdnetAddr!$R$3)))","v":7.5131233710000007},{"$f":"IF(L183=\"50°C (122°F)\",(_xlfn.IFS(L$182=\"18AWG\",IdnetAddr!$H$3,L$182=\"16AWG\",IdnetAddr!$I$3,L$182=\"14AWG\",IdnetAddr!K$3,L$182=\"12AWG\",IdnetAddr!$K$3,L$182=\"1.5mm2\",IdnetAddr!$L$3,L$182=\"2.5mm2\",IdnetAddr!$M$3)),(_xlfn.IFS(L$182=\"18AWG\",IdnetAddr!$N$3,L$182=\"16AWG\",IdnetAddr!$O$3,L$182=\"14AWG\",IdnetAddr!$Q$3,L$182=\"12AWG\",IdnetAddr!$P$3,L$182=\"1.5mm2\",IdnetAddr!$Q$3,L$182=\"2.5mm2\",IdnetAddr!$R$3)))","v":7.5131233710000007},{"$f":"IF(M183=\"50°C (122°F)\",(_xlfn.IFS(M$182=\"18AWG\",IdnetAddr!$H$3,M$182=\"16AWG\",IdnetAddr!$I$3,M$182=\"14AWG\",IdnetAddr!L$3,M$182=\"12AWG\",IdnetAddr!$K$3,M$182=\"1.5mm2\",IdnetAddr!$L$3,M$182=\"2.5mm2\",IdnetAddr!$M$3)),(_xlfn.IFS(M$182=\"18AWG\",IdnetAddr!$N$3,M$182=\"16AWG\",IdnetAddr!$O$3,M$182=\"14AWG\",IdnetAddr!$Q$3,M$182=\"12AWG\",IdnetAddr!$P$3,M$182=\"1.5mm2\",IdnetAddr!$Q$3,M$182=\"2.5mm2\",IdnetAddr!$R$3)))","v":7.5131233710000007},{"$f":"IF(N183=\"50°C (122°F)\",(_xlfn.IFS(N$182=\"18AWG\",IdnetAddr!$H$3,N$182=\"16AWG\",IdnetAddr!$I$3,N$182=\"14AWG\",IdnetAddr!M$3,N$182=\"12AWG\",IdnetAddr!$K$3,N$182=\"1.5mm2\",IdnetAddr!$L$3,N$182=\"2.5mm2\",IdnetAddr!$M$3)),(_xlfn.IFS(N$182=\"18AWG\",IdnetAddr!$N$3,N$182=\"16AWG\",IdnetAddr!$O$3,N$182=\"14AWG\",IdnetAddr!$Q$3,N$182=\"12AWG\",IdnetAddr!$P$3,N$182=\"1.5mm2\",IdnetAddr!$Q$3,N$182=\"2.5mm2\",IdnetAddr!$R$3)))","v":7.5131233710000007},{"$f":"IF(O183=\"50°C (122°F)\",(_xlfn.IFS(O$182=\"18AWG\",IdnetAddr!$H$3,O$182=\"16AWG\",IdnetAddr!$I$3,O$182=\"14AWG\",IdnetAddr!N$3,O$182=\"12AWG\",IdnetAddr!$K$3,O$182=\"1.5mm2\",IdnetAddr!$L$3,O$182=\"2.5mm2\",IdnetAddr!$M$3)),(_xlfn.IFS(O$182=\"18AWG\",IdnetAddr!$N$3,O$182=\"16AWG\",IdnetAddr!$O$3,O$182=\"14AWG\",IdnetAddr!$Q$3,O$182=\"12AWG\",IdnetAddr!$P$3,O$182=\"1.5mm2\",IdnetAddr!$Q$3,O$182=\"2.5mm2\",IdnetAddr!$R$3)))","v":7.5131233710000007},{"$f":"IF(P183=\"50°C (122°F)\",(_xlfn.IFS(P$182=\"18AWG\",IdnetAddr!$H$3,P$182=\"16AWG\",IdnetAddr!$I$3,P$182=\"14AWG\",IdnetAddr!O$3,P$182=\"12AWG\",IdnetAddr!$K$3,P$182=\"1.5mm2\",IdnetAddr!$L$3,P$182=\"2.5mm2\",IdnetAddr!$M$3)),(_xlfn.IFS(P$182=\"18AWG\",IdnetAddr!$N$3,P$182=\"16AWG\",IdnetAddr!$O$3,P$182=\"14AWG\",IdnetAddr!$Q$3,P$182=\"12AWG\",IdnetAddr!$P$3,P$182=\"1.5mm2\",IdnetAddr!$Q$3,P$182=\"2.5mm2\",IdnetAddr!$R$3)))","v":7.5131233710000007},{"$f":"IF(Q183=\"50°C (122°F)\",(_xlfn.IFS(Q$182=\"18AWG\",IdnetAddr!$H$3,Q$182=\"16AWG\",IdnetAddr!$I$3,Q$182=\"14AWG\",IdnetAddr!P$3,Q$182=\"12AWG\",IdnetAddr!$K$3,Q$182=\"1.5mm2\",IdnetAddr!$L$3,Q$182=\"2.5mm2\",IdnetAddr!$M$3)),(_xlfn.IFS(Q$182=\"18AWG\",IdnetAddr!$N$3,Q$182=\"16AWG\",IdnetAddr!$O$3,Q$182=\"14AWG\",IdnetAddr!$Q$3,Q$182=\"12AWG\",IdnetAddr!$P$3,Q$182=\"1.5mm2\",IdnetAddr!$Q$3,Q$182=\"2.5mm2\",IdnetAddr!$R$3)))","v":7.5131233710000007},{"$f":"IF(R183=\"50°C (122°F)\",(_xlfn.IFS(R$182=\"18AWG\",IdnetAddr!$H$3,R$182=\"16AWG\",IdnetAddr!$I$3,R$182=\"14AWG\",IdnetAddr!Q$3,R$182=\"12AWG\",IdnetAddr!$K$3,R$182=\"1.5mm2\",IdnetAddr!$L$3,R$182=\"2.5mm2\",IdnetAddr!$M$3)),(_xlfn.IFS(R$182=\"18AWG\",IdnetAddr!$N$3,R$182=\"16AWG\",IdnetAddr!$O$3,R$182=\"14AWG\",IdnetAddr!$Q$3,R$182=\"12AWG\",IdnetAddr!$P$3,R$182=\"1.5mm2\",IdnetAddr!$Q$3,R$182=\"2.5mm2\",IdnetAddr!$R$3)))","v":7.5131233710000007},{"$f":"IF(S183=\"50°C (122°F)\",(_xlfn.IFS(S$182=\"18AWG\",IdnetAddr!$H$3,S$182=\"16AWG\",IdnetAddr!$I$3,S$182=\"14AWG\",IdnetAddr!R$3,S$182=\"12AWG\",IdnetAddr!$K$3,S$182=\"1.5mm2\",IdnetAddr!$L$3,S$182=\"2.5mm2\",IdnetAddr!$M$3)),(_xlfn.IFS(S$182=\"18AWG\",IdnetAddr!$N$3,S$182=\"16AWG\",IdnetAddr!$O$3,S$182=\"14AWG\",IdnetAddr!$Q$3,S$182=\"12AWG\",IdnetAddr!$P$3,S$182=\"1.5mm2\",IdnetAddr!$Q$3,S$182=\"2.5mm2\",IdnetAddr!$R$3)))","v":7.5131233710000007},{"$f":"IF(T183=\"50°C (122°F)\",(_xlfn.IFS(T$182=\"18AWG\",IdnetAddr!$H$3,T$182=\"16AWG\",IdnetAddr!$I$3,T$182=\"14AWG\",IdnetAddr!S$3,T$182=\"12AWG\",IdnetAddr!$K$3,T$182=\"1.5mm2\",IdnetAddr!$L$3,T$182=\"2.5mm2\",IdnetAddr!$M$3)),(_xlfn.IFS(T$182=\"18AWG\",IdnetAddr!$N$3,T$182=\"16AWG\",IdnetAddr!$O$3,T$182=\"14AWG\",IdnetAddr!$Q$3,T$182=\"12AWG\",IdnetAddr!$P$3,T$182=\"1.5mm2\",IdnetAddr!$Q$3,T$182=\"2.5mm2\",IdnetAddr!$R$3)))","v":7.5131233710000007},{"$f":"IF(U183=\"50°C (122°F)\",(_xlfn.IFS(U$182=\"18AWG\",IdnetAddr!$H$3,U$182=\"16AWG\",IdnetAddr!$I$3,U$182=\"14AWG\",IdnetAddr!T$3,U$182=\"12AWG\",IdnetAddr!$K$3,U$182=\"1.5mm2\",IdnetAddr!$L$3,U$182=\"2.5mm2\",IdnetAddr!$M$3)),(_xlfn.IFS(U$182=\"18AWG\",IdnetAddr!$N$3,U$182=\"16AWG\",IdnetAddr!$O$3,U$182=\"14AWG\",IdnetAddr!$Q$3,U$182=\"12AWG\",IdnetAddr!$P$3,U$182=\"1.5mm2\",IdnetAddr!$Q$3,U$182=\"2.5mm2\",IdnetAddr!$R$3)))","v":7.5131233710000007},{"$f":"IF(V183=\"50°C (122°F)\",(_xlfn.IFS(V$182=\"18AWG\",IdnetAddr!$H$3,V$182=\"16AWG\",IdnetAddr!$I$3,V$182=\"14AWG\",IdnetAddr!U$3,V$182=\"12AWG\",IdnetAddr!$K$3,V$182=\"1.5mm2\",IdnetAddr!$L$3,V$182=\"2.5mm2\",IdnetAddr!$M$3)),(_xlfn.IFS(V$182=\"18AWG\",IdnetAddr!$N$3,V$182=\"16AWG\",IdnetAddr!$O$3,V$182=\"14AWG\",IdnetAddr!$Q$3,V$182=\"12AWG\",IdnetAddr!$P$3,V$182=\"1.5mm2\",IdnetAddr!$Q$3,V$182=\"2.5mm2\",IdnetAddr!$R$3)))","v":7.5131233710000007},{"$f":"IF(W183=\"50°C (122°F)\",(_xlfn.IFS(W$182=\"18AWG\",IdnetAddr!$H$3,W$182=\"16AWG\",IdnetAddr!$I$3,W$182=\"14AWG\",IdnetAddr!V$3,W$182=\"12AWG\",IdnetAddr!$K$3,W$182=\"1.5mm2\",IdnetAddr!$L$3,W$182=\"2.5mm2\",IdnetAddr!$M$3)),(_xlfn.IFS(W$182=\"18AWG\",IdnetAddr!$N$3,W$182=\"16AWG\",IdnetAddr!$O$3,W$182=\"14AWG\",IdnetAddr!$Q$3,W$182=\"12AWG\",IdnetAddr!$P$3,W$182=\"1.5mm2\",IdnetAddr!$Q$3,W$182=\"2.5mm2\",IdnetAddr!$R$3)))","v":7.5131233710000007},{"$f":"IF(X183=\"50°C (122°F)\",(_xlfn.IFS(X$182=\"18AWG\",IdnetAddr!$H$3,X$182=\"16AWG\",IdnetAddr!$I$3,X$182=\"14AWG\",IdnetAddr!W$3,X$182=\"12AWG\",IdnetAddr!$K$3,X$182=\"1.5mm2\",IdnetAddr!$L$3,X$182=\"2.5mm2\",IdnetAddr!$M$3)),(_xlfn.IFS(X$182=\"18AWG\",IdnetAddr!$N$3,X$182=\"16AWG\",IdnetAddr!$O$3,X$182=\"14AWG\",IdnetAddr!$Q$3,X$182=\"12AWG\",IdnetAddr!$P$3,X$182=\"1.5mm2\",IdnetAddr!$Q$3,X$182=\"2.5mm2\",IdnetAddr!$R$3)))","v":7.5131233710000007},{"$f":"IF(Y183=\"50°C (122°F)\",(_xlfn.IFS(Y$182=\"18AWG\",IdnetAddr!$H$3,Y$182=\"16AWG\",IdnetAddr!$I$3,Y$182=\"14AWG\",IdnetAddr!X$3,Y$182=\"12AWG\",IdnetAddr!$K$3,Y$182=\"1.5mm2\",IdnetAddr!$L$3,Y$182=\"2.5mm2\",IdnetAddr!$M$3)),(_xlfn.IFS(Y$182=\"18AWG\",IdnetAddr!$N$3,Y$182=\"16AWG\",IdnetAddr!$O$3,Y$182=\"14AWG\",IdnetAddr!$Q$3,Y$182=\"12AWG\",IdnetAddr!$P$3,Y$182=\"1.5mm2\",IdnetAddr!$Q$3,Y$182=\"2.5mm2\",IdnetAddr!$R$3)))","v":7.5131233710000007},{"$f":"IF(Z183=\"50°C (122°F)\",(_xlfn.IFS(Z$182=\"18AWG\",IdnetAddr!$H$3,Z$182=\"16AWG\",IdnetAddr!$I$3,Z$182=\"14AWG\",IdnetAddr!Y$3,Z$182=\"12AWG\",IdnetAddr!$K$3,Z$182=\"1.5mm2\",IdnetAddr!$L$3,Z$182=\"2.5mm2\",IdnetAddr!$M$3)),(_xlfn.IFS(Z$182=\"18AWG\",IdnetAddr!$N$3,Z$182=\"16AWG\",IdnetAddr!$O$3,Z$182=\"14AWG\",IdnetAddr!$Q$3,Z$182=\"12AWG\",IdnetAddr!$P$3,Z$182=\"1.5mm2\",IdnetAddr!$Q$3,Z$182=\"2.5mm2\",IdnetAddr!$R$3)))","v":7.5131233710000007},{"$f":"IF(AA183=\"50°C (122°F)\",(_xlfn.IFS(AA$182=\"18AWG\",IdnetAddr!$H$3,AA$182=\"16AWG\",IdnetAddr!$I$3,AA$182=\"14AWG\",IdnetAddr!Z$3,AA$182=\"12AWG\",IdnetAddr!$K$3,AA$182=\"1.5mm2\",IdnetAddr!$L$3,AA$182=\"2.5mm2\",IdnetAddr!$M$3)),(_xlfn.IFS(AA$182=\"18AWG\",IdnetAddr!$N$3,AA$182=\"16AWG\",IdnetAddr!$O$3,AA$182=\"14AWG\",IdnetAddr!$Q$3,AA$182=\"12AWG\",IdnetAddr!$P$3,AA$182=\"1.5mm2\",IdnetAddr!$Q$3,AA$182=\"2.5mm2\",IdnetAddr!$R$3)))","v":7.5131233710000007},{"$f":"IF(AB183=\"50°C (122°F)\",(_xlfn.IFS(AB$182=\"18AWG\",IdnetAddr!$H$3,AB$182=\"16AWG\",IdnetAddr!$I$3,AB$182=\"14AWG\",IdnetAddr!AA$3,AB$182=\"12AWG\",IdnetAddr!$K$3,AB$182=\"1.5mm2\",IdnetAddr!$L$3,AB$182=\"2.5mm2\",IdnetAddr!$M$3)),(_xlfn.IFS(AB$182=\"18AWG\",IdnetAddr!$N$3,AB$182=\"16AWG\",IdnetAddr!$O$3,AB$182=\"14AWG\",IdnetAddr!$Q$3,AB$182=\"12AWG\",IdnetAddr!$P$3,AB$182=\"1.5mm2\",IdnetAddr!$Q$3,AB$182=\"2.5mm2\",IdnetAddr!$R$3)))","v":7.5131233710000007},{"$f":"IF(AC183=\"50°C (122°F)\",(_xlfn.IFS(AC$182=\"18AWG\",IdnetAddr!$H$3,AC$182=\"16AWG\",IdnetAddr!$I$3,AC$182=\"14AWG\",IdnetAddr!AB$3,AC$182=\"12AWG\",IdnetAddr!$K$3,AC$182=\"1.5mm2\",IdnetAddr!$L$3,AC$182=\"2.5mm2\",IdnetAddr!$M$3)),(_xlfn.IFS(AC$182=\"18AWG\",IdnetAddr!$N$3,AC$182=\"16AWG\",IdnetAddr!$O$3,AC$182=\"14AWG\",IdnetAddr!$Q$3,AC$182=\"12AWG\",IdnetAddr!$P$3,AC$182=\"1.5mm2\",IdnetAddr!$Q$3,AC$182=\"2.5mm2\",IdnetAddr!$R$3)))","v":7.5131233710000007},{"$f":"IF(AD183=\"50°C (122°F)\",(_xlfn.IFS(AD$182=\"18AWG\",IdnetAddr!$H$3,AD$182=\"16AWG\",IdnetAddr!$I$3,AD$182=\"14AWG\",IdnetAddr!AC$3,AD$182=\"12AWG\",IdnetAddr!$K$3,AD$182=\"1.5mm2\",IdnetAddr!$L$3,AD$182=\"2.5mm2\",IdnetAddr!$M$3)),(_xlfn.IFS(AD$182=\"18AWG\",IdnetAddr!$N$3,AD$182=\"16AWG\",IdnetAddr!$O$3,AD$182=\"14AWG\",IdnetAddr!$Q$3,AD$182=\"12AWG\",IdnetAddr!$P$3,AD$182=\"1.5mm2\",IdnetAddr!$Q$3,AD$182=\"2.5mm2\",IdnetAddr!$R$3)))","v":7.5131233710000007},null,null,null,null,null,null,null,null,null,null,null,null,null,null,null,null,null,null,null,null,null,null,null,null,null,null,null,null,null,null,null,null,null,null,null,{"$f":"IF(BN183=\"50°C (122°F)\",(_xlfn.IFS(BN$182=\"18AWG\",IdnetAddr!$H$3,BN$182=\"16AWG\",IdnetAddr!$I$3,BN$182=\"14AWG\",IdnetAddr!BM$3,BN$182=\"12AWG\",IdnetAddr!$K$3,BN$182=\"1.5mm2\",IdnetAddr!$L$3,BN$182=\"2.5mm2\",IdnetAddr!$M$3)),(_xlfn.IFS(BN$182=\"18AWG\",IdnetAddr!$N$3,BN$182=\"16AWG\",IdnetAddr!$O$3,BN$182=\"14AWG\",IdnetAddr!$Q$3,BN$182=\"12AWG\",IdnetAddr!$P$3,BN$182=\"1.5mm2\",IdnetAddr!$Q$3,BN$182=\"2.5mm2\",IdnetAddr!$R$3)))","v":14.763779550000001},{"$f":"IF(BO183=\"50°C (122°F)\",(_xlfn.IFS(BO$182=\"18AWG\",IdnetAddr!$H$3,BO$182=\"16AWG\",IdnetAddr!$I$3,BO$182=\"14AWG\",IdnetAddr!BN$3,BO$182=\"12AWG\",IdnetAddr!$K$3,BO$182=\"1.5mm2\",IdnetAddr!$L$3,BO$182=\"2.5mm2\",IdnetAddr!$M$3)),(_xlfn.IFS(BO$182=\"18AWG\",IdnetAddr!$N$3,BO$182=\"16AWG\",IdnetAddr!$O$3,BO$182=\"14AWG\",IdnetAddr!$Q$3,BO$182=\"12AWG\",IdnetAddr!$P$3,BO$182=\"1.5mm2\",IdnetAddr!$Q$3,BO$182=\"2.5mm2\",IdnetAddr!$R$3)))","v":14.763779550000001},{"$f":"IF(BP183=\"50°C (122°F)\",(_xlfn.IFS(BP$182=\"18AWG\",IdnetAddr!$H$3,BP$182=\"16AWG\",IdnetAddr!$I$3,BP$182=\"14AWG\",IdnetAddr!BO$3,BP$182=\"12AWG\",IdnetAddr!$K$3,BP$182=\"1.5mm2\",IdnetAddr!$L$3,BP$182=\"2.5mm2\",IdnetAddr!$M$3)),(_xlfn.IFS(BP$182=\"18AWG\",IdnetAddr!$N$3,BP$182=\"16AWG\",IdnetAddr!$O$3,BP$182=\"14AWG\",IdnetAddr!$Q$3,BP$182=\"12AWG\",IdnetAddr!$P$3,BP$182=\"1.5mm2\",IdnetAddr!$Q$3,BP$182=\"2.5mm2\",IdnetAddr!$R$3)))","v":14.763779550000001},{"$f":"IF(BQ183=\"50°C (122°F)\",(_xlfn.IFS(BQ$182=\"18AWG\",IdnetAddr!$H$3,BQ$182=\"16AWG\",IdnetAddr!$I$3,BQ$182=\"14AWG\",IdnetAddr!BP$3,BQ$182=\"12AWG\",IdnetAddr!$K$3,BQ$182=\"1.5mm2\",IdnetAddr!$L$3,BQ$182=\"2.5mm2\",IdnetAddr!$M$3)),(_xlfn.IFS(BQ$182=\"18AWG\",IdnetAddr!$N$3,BQ$182=\"16AWG\",IdnetAddr!$O$3,BQ$182=\"14AWG\",IdnetAddr!$Q$3,BQ$182=\"12AWG\",IdnetAddr!$P$3,BQ$182=\"1.5mm2\",IdnetAddr!$Q$3,BQ$182=\"2.5mm2\",IdnetAddr!$R$3)))","v":14.763779550000001},{"$f":"IF(BR183=\"50°C (122°F)\",(_xlfn.IFS(BR$182=\"18AWG\",IdnetAddr!$H$3,BR$182=\"16AWG\",IdnetAddr!$I$3,BR$182=\"14AWG\",IdnetAddr!BQ$3,BR$182=\"12AWG\",IdnetAddr!$K$3,BR$182=\"1.5mm2\",IdnetAddr!$L$3,BR$182=\"2.5mm2\",IdnetAddr!$M$3)),(_xlfn.IFS(BR$182=\"18AWG\",IdnetAddr!$N$3,BR$182=\"16AWG\",IdnetAddr!$O$3,BR$182=\"14AWG\",IdnetAddr!$Q$3,BR$182=\"12AWG\",IdnetAddr!$P$3,BR$182=\"1.5mm2\",IdnetAddr!$Q$3,BR$182=\"2.5mm2\",IdnetAddr!$R$3)))","v":14.763779550000001},{"$f":"IF(BS183=\"50°C (122°F)\",(_xlfn.IFS(BS$182=\"18AWG\",IdnetAddr!$H$3,BS$182=\"16AWG\",IdnetAddr!$I$3,BS$182=\"14AWG\",IdnetAddr!BR$3,BS$182=\"12AWG\",IdnetAddr!$K$3,BS$182=\"1.5mm2\",IdnetAddr!$L$3,BS$182=\"2.5mm2\",IdnetAddr!$M$3)),(_xlfn.IFS(BS$182=\"18AWG\",IdnetAddr!$N$3,BS$182=\"16AWG\",IdnetAddr!$O$3,BS$182=\"14AWG\",IdnetAddr!$Q$3,BS$182=\"12AWG\",IdnetAddr!$P$3,BS$182=\"1.5mm2\",IdnetAddr!$Q$3,BS$182=\"2.5mm2\",IdnetAddr!$R$3)))","v":14.763779550000001},{"$f":"IF(BT183=\"50°C (122°F)\",(_xlfn.IFS(BT$182=\"18AWG\",IdnetAddr!$H$3,BT$182=\"16AWG\",IdnetAddr!$I$3,BT$182=\"14AWG\",IdnetAddr!BS$3,BT$182=\"12AWG\",IdnetAddr!$K$3,BT$182=\"1.5mm2\",IdnetAddr!$L$3,BT$182=\"2.5mm2\",IdnetAddr!$M$3)),(_xlfn.IFS(BT$182=\"18AWG\",IdnetAddr!$N$3,BT$182=\"16AWG\",IdnetAddr!$O$3,BT$182=\"14AWG\",IdnetAddr!$Q$3,BT$182=\"12AWG\",IdnetAddr!$P$3,BT$182=\"1.5mm2\",IdnetAddr!$Q$3,BT$182=\"2.5mm2\",IdnetAddr!$R$3)))","v":14.763779550000001},{"$f":"IF(BU183=\"50°C (122°F)\",(_xlfn.IFS(BU$182=\"18AWG\",IdnetAddr!$H$3,BU$182=\"16AWG\",IdnetAddr!$I$3,BU$182=\"14AWG\",IdnetAddr!BT$3,BU$182=\"12AWG\",IdnetAddr!$K$3,BU$182=\"1.5mm2\",IdnetAddr!$L$3,BU$182=\"2.5mm2\",IdnetAddr!$M$3)),(_xlfn.IFS(BU$182=\"18AWG\",IdnetAddr!$N$3,BU$182=\"16AWG\",IdnetAddr!$O$3,BU$182=\"14AWG\",IdnetAddr!$Q$3,BU$182=\"12AWG\",IdnetAddr!$P$3,BU$182=\"1.5mm2\",IdnetAddr!$Q$3,BU$182=\"2.5mm2\",IdnetAddr!$R$3)))","v":14.763779550000001},{"$f":"IF(BV183=\"50°C (122°F)\",(_xlfn.IFS(BV$182=\"18AWG\",IdnetAddr!$H$3,BV$182=\"16AWG\",IdnetAddr!$I$3,BV$182=\"14AWG\",IdnetAddr!BU$3,BV$182=\"12AWG\",IdnetAddr!$K$3,BV$182=\"1.5mm2\",IdnetAddr!$L$3,BV$182=\"2.5mm2\",IdnetAddr!$M$3)),(_xlfn.IFS(BV$182=\"18AWG\",IdnetAddr!$N$3,BV$182=\"16AWG\",IdnetAddr!$O$3,BV$182=\"14AWG\",IdnetAddr!$Q$3,BV$182=\"12AWG\",IdnetAddr!$P$3,BV$182=\"1.5mm2\",IdnetAddr!$Q$3,BV$182=\"2.5mm2\",IdnetAddr!$R$3)))","v":14.763779550000001},{"$f":"IF(BW183=\"50°C (122°F)\",(_xlfn.IFS(BW$182=\"18AWG\",IdnetAddr!$H$3,BW$182=\"16AWG\",IdnetAddr!$I$3,BW$182=\"14AWG\",IdnetAddr!BV$3,BW$182=\"12AWG\",IdnetAddr!$K$3,BW$182=\"1.5mm2\",IdnetAddr!$L$3,BW$182=\"2.5mm2\",IdnetAddr!$M$3)),(_xlfn.IFS(BW$182=\"18AWG\",IdnetAddr!$N$3,BW$182=\"16AWG\",IdnetAddr!$O$3,BW$182=\"14AWG\",IdnetAddr!$Q$3,BW$182=\"12AWG\",IdnetAddr!$P$3,BW$182=\"1.5mm2\",IdnetAddr!$Q$3,BW$182=\"2.5mm2\",IdnetAddr!$R$3)))","v":14.763779550000001},{"$f":"IF(BX183=\"50°C (122°F)\",(_xlfn.IFS(BX$182=\"18AWG\",IdnetAddr!$H$3,BX$182=\"16AWG\",IdnetAddr!$I$3,BX$182=\"14AWG\",IdnetAddr!BW$3,BX$182=\"12AWG\",IdnetAddr!$K$3,BX$182=\"1.5mm2\",IdnetAddr!$L$3,BX$182=\"2.5mm2\",IdnetAddr!$M$3)),(_xlfn.IFS(BX$182=\"18AWG\",IdnetAddr!$N$3,BX$182=\"16AWG\",IdnetAddr!$O$3,BX$182=\"14AWG\",IdnetAddr!$Q$3,BX$182=\"12AWG\",IdnetAddr!$P$3,BX$182=\"1.5mm2\",IdnetAddr!$Q$3,BX$182=\"2.5mm2\",IdnetAddr!$R$3)))","v":14.763779550000001},{"$f":"IF(BY183=\"50°C (122°F)\",(_xlfn.IFS(BY$182=\"18AWG\",IdnetAddr!$H$3,BY$182=\"16AWG\",IdnetAddr!$I$3,BY$182=\"14AWG\",IdnetAddr!BX$3,BY$182=\"12AWG\",IdnetAddr!$K$3,BY$182=\"1.5mm2\",IdnetAddr!$L$3,BY$182=\"2.5mm2\",IdnetAddr!$M$3)),(_xlfn.IFS(BY$182=\"18AWG\",IdnetAddr!$N$3,BY$182=\"16AWG\",IdnetAddr!$O$3,BY$182=\"14AWG\",IdnetAddr!$Q$3,BY$182=\"12AWG\",IdnetAddr!$P$3,BY$182=\"1.5mm2\",IdnetAddr!$Q$3,BY$182=\"2.5mm2\",IdnetAddr!$R$3)))","v":14.763779550000001},{"$f":"IF(BZ183=\"50°C (122°F)\",(_xlfn.IFS(BZ$182=\"18AWG\",IdnetAddr!$H$3,BZ$182=\"16AWG\",IdnetAddr!$I$3,BZ$182=\"14AWG\",IdnetAddr!BY$3,BZ$182=\"12AWG\",IdnetAddr!$K$3,BZ$182=\"1.5mm2\",IdnetAddr!$L$3,BZ$182=\"2.5mm2\",IdnetAddr!$M$3)),(_xlfn.IFS(BZ$182=\"18AWG\",IdnetAddr!$N$3,BZ$182=\"16AWG\",IdnetAddr!$O$3,BZ$182=\"14AWG\",IdnetAddr!$Q$3,BZ$182=\"12AWG\",IdnetAddr!$P$3,BZ$182=\"1.5mm2\",IdnetAddr!$Q$3,BZ$182=\"2.5mm2\",IdnetAddr!$R$3)))","v":14.763779550000001},{"$f":"IF(CA183=\"50°C (122°F)\",(_xlfn.IFS(CA$182=\"18AWG\",IdnetAddr!$H$3,CA$182=\"16AWG\",IdnetAddr!$I$3,CA$182=\"14AWG\",IdnetAddr!BZ$3,CA$182=\"12AWG\",IdnetAddr!$K$3,CA$182=\"1.5mm2\",IdnetAddr!$L$3,CA$182=\"2.5mm2\",IdnetAddr!$M$3)),(_xlfn.IFS(CA$182=\"18AWG\",IdnetAddr!$N$3,CA$182=\"16AWG\",IdnetAddr!$O$3,CA$182=\"14AWG\",IdnetAddr!$Q$3,CA$182=\"12AWG\",IdnetAddr!$P$3,CA$182=\"1.5mm2\",IdnetAddr!$Q$3,CA$182=\"2.5mm2\",IdnetAddr!$R$3)))","v":14.763779550000001},{"$f":"IF(CB183=\"50°C (122°F)\",(_xlfn.IFS(CB$182=\"18AWG\",IdnetAddr!$H$3,CB$182=\"16AWG\",IdnetAddr!$I$3,CB$182=\"14AWG\",IdnetAddr!CA$3,CB$182=\"12AWG\",IdnetAddr!$K$3,CB$182=\"1.5mm2\",IdnetAddr!$L$3,CB$182=\"2.5mm2\",IdnetAddr!$M$3)),(_xlfn.IFS(CB$182=\"18AWG\",IdnetAddr!$N$3,CB$182=\"16AWG\",IdnetAddr!$O$3,CB$182=\"14AWG\",IdnetAddr!$Q$3,CB$182=\"12AWG\",IdnetAddr!$P$3,CB$182=\"1.5mm2\",IdnetAddr!$Q$3,CB$182=\"2.5mm2\",IdnetAddr!$R$3)))","v":14.763779550000001},{"$f":"IF(CC183=\"50°C (122°F)\",(_xlfn.IFS(CC$182=\"18AWG\",IdnetAddr!$H$3,CC$182=\"16AWG\",IdnetAddr!$I$3,CC$182=\"14AWG\",IdnetAddr!CB$3,CC$182=\"12AWG\",IdnetAddr!$K$3,CC$182=\"1.5mm2\",IdnetAddr!$L$3,CC$182=\"2.5mm2\",IdnetAddr!$M$3)),(_xlfn.IFS(CC$182=\"18AWG\",IdnetAddr!$N$3,CC$182=\"16AWG\",IdnetAddr!$O$3,CC$182=\"14AWG\",IdnetAddr!$Q$3,CC$182=\"12AWG\",IdnetAddr!$P$3,CC$182=\"1.5mm2\",IdnetAddr!$Q$3,CC$182=\"2.5mm2\",IdnetAddr!$R$3)))","v":14.763779550000001},{"$f":"IF(CD183=\"50°C (122°F)\",(_xlfn.IFS(CD$182=\"18AWG\",IdnetAddr!$H$3,CD$182=\"16AWG\",IdnetAddr!$I$3,CD$182=\"14AWG\",IdnetAddr!CC$3,CD$182=\"12AWG\",IdnetAddr!$K$3,CD$182=\"1.5mm2\",IdnetAddr!$L$3,CD$182=\"2.5mm2\",IdnetAddr!$M$3)),(_xlfn.IFS(CD$182=\"18AWG\",IdnetAddr!$N$3,CD$182=\"16AWG\",IdnetAddr!$O$3,CD$182=\"14AWG\",IdnetAddr!$Q$3,CD$182=\"12AWG\",IdnetAddr!$P$3,CD$182=\"1.5mm2\",IdnetAddr!$Q$3,CD$182=\"2.5mm2\",IdnetAddr!$R$3)))","v":14.763779550000001},{"$f":"IF(CE183=\"50°C (122°F)\",(_xlfn.IFS(CE$182=\"18AWG\",IdnetAddr!$H$3,CE$182=\"16AWG\",IdnetAddr!$I$3,CE$182=\"14AWG\",IdnetAddr!CD$3,CE$182=\"12AWG\",IdnetAddr!$K$3,CE$182=\"1.5mm2\",IdnetAddr!$L$3,CE$182=\"2.5mm2\",IdnetAddr!$M$3)),(_xlfn.IFS(CE$182=\"18AWG\",IdnetAddr!$N$3,CE$182=\"16AWG\",IdnetAddr!$O$3,CE$182=\"14AWG\",IdnetAddr!$Q$3,CE$182=\"12AWG\",IdnetAddr!$P$3,CE$182=\"1.5mm2\",IdnetAddr!$Q$3,CE$182=\"2.5mm2\",IdnetAddr!$R$3)))","v":14.763779550000001},{"$f":"IF(CF183=\"50°C (122°F)\",(_xlfn.IFS(CF$182=\"18AWG\",IdnetAddr!$H$3,CF$182=\"16AWG\",IdnetAddr!$I$3,CF$182=\"14AWG\",IdnetAddr!CE$3,CF$182=\"12AWG\",IdnetAddr!$K$3,CF$182=\"1.5mm2\",IdnetAddr!$L$3,CF$182=\"2.5mm2\",IdnetAddr!$M$3)),(_xlfn.IFS(CF$182=\"18AWG\",IdnetAddr!$N$3,CF$182=\"16AWG\",IdnetAddr!$O$3,CF$182=\"14AWG\",IdnetAddr!$Q$3,CF$182=\"12AWG\",IdnetAddr!$P$3,CF$182=\"1.5mm2\",IdnetAddr!$Q$3,CF$182=\"2.5mm2\",IdnetAddr!$R$3)))","v":14.763779550000001},{"$f":"IF(CG183=\"50°C (122°F)\",(_xlfn.IFS(CG$182=\"18AWG\",IdnetAddr!$H$3,CG$182=\"16AWG\",IdnetAddr!$I$3,CG$182=\"14AWG\",IdnetAddr!CF$3,CG$182=\"12AWG\",IdnetAddr!$K$3,CG$182=\"1.5mm2\",IdnetAddr!$L$3,CG$182=\"2.5mm2\",IdnetAddr!$M$3)),(_xlfn.IFS(CG$182=\"18AWG\",IdnetAddr!$N$3,CG$182=\"16AWG\",IdnetAddr!$O$3,CG$182=\"14AWG\",IdnetAddr!$Q$3,CG$182=\"12AWG\",IdnetAddr!$P$3,CG$182=\"1.5mm2\",IdnetAddr!$Q$3,CG$182=\"2.5mm2\",IdnetAddr!$R$3)))","v":14.763779550000001}]
[" ",14,"Notification Distance calculation base on Ohms Law , V=IR",null,null,null,null,null,"NAC Distance Dependants",null,"VI Dependent",{"$f":"+K185","v":"VI Dependent"},{"$f":"+L185","v":"VI Dependent"},{"$f":"+M185","v":"VI Dependent"},{"$f":"+N185","v":"VI Dependent"},{"$f":"+O185","v":"VI Dependent"},{"$f":"+P185","v":"VI Dependent"},{"$f":"+Q185","v":"VI Dependent"},{"$f":"+R185","v":"VI Dependent"},{"$f":"+S185","v":"VI Dependent"},{"$f":"+T185","v":"VI Dependent"},{"$f":"+U185","v":"VI Dependent"},{"$f":"+V185","v":"VI Dependent"},{"$f":"+W185","v":"VI Dependent"},{"$f":"+X185","v":"VI Dependent"},{"$f":"+Y185","v":"VI Dependent"},{"$f":"+Z185","v":"VI Dependent"},{"$f":"+AA185","v":"VI Dependent"},{"$f":"+AB185","v":"VI Dependent"},{"$f":"+AC185","v":"VI Dependent"},null,null,null,null,null,null,null,null,null,null,null,null,null,null,null,null,null,null,null,null,null,null,null,null,null,null,null,null,null,null,null,null,null,null,null,"VI Dependent",{"$f":"+BN185","v":"VI Dependent"},{"$f":"+BO185","v":"VI Dependent"},"VI Dependent","VI Dependent","VI Dependent","VI Dependent","VI Dependent","VI Dependent","VI Dependent","VI Dependent","VI Dependent","VI Dependent","VI Dependent","VI Dependent","VI Dependent","VI Dependent","VI Dependent","VI Dependent","VI Dependent"]
[" ",null," "]
[" "," ","Step 7A: Auxillary Power Supply",null,null,null,null,null,{"$f":"IF(K186=\"Error\",\"**Exceeded Limit , Reduce Current Usage\",IF(L186=\"Error\",\"**Exceeded Limit , Reduce Current Usage\",\"\"))","v":""},null,"4007ES","NAC Repeat 1","NAC Repeat 2","NAC Repeat 3","NAC Repeat 4","NAC Repeat 5",null,"4007ES Addressable Panel Standard Batteries offering",null,null,"Total","4009 NAC Repeater Standard Batteries offering",null,null,"Total",null,null,null,null,null,null,null,null,null,null,null,null,null,null,null,null,null,null,null,null,null,null,null,null,null,null,null,null,null,null,null,null,null,null,null,null,null,null,null,null,"4007ES","NAC Repeat 1","NAC Repeat 2","NAC Repeat 3","NAC Repeat 4","NAC Repeat 5",null,"4007ES Addressable Panel Standard Batteries offering",null,null,"Total","4009 NAC Repeater Standard Batteries offering",null,null,"Total"]
[" ",1,{"$f":"+I188","v":"Auxillary PS - Standby Current"},null,null,null,"If NAC Aux PS Insufficient",null,"Auxillary PS - Standby Current",null,{"$f":"+'Aux & `Panel Current'!$C$38","v":0},{"$f":"+'Aux & `Panel Current'!$C$39","v":0},{"$f":"+'Aux & `Panel Current'!$C$40","v":0},{"$f":"+'Aux & `Panel Current'!$C$41","v":0},{"$f":"+'Aux & `Panel Current'!$C$42","v":0},{"$f":"+'Aux & `Panel Current'!$C$43","v":0},{"$f":"+K188/1000","v":0},"Built in Battery Charger",null,6.2,{"$f":"IF(K215=6.2,1,0)","v":0},"Built in Battery Charger",null,6.2,{"$f":"IF(L215=6.2,1,0)+IF(M215=6.2,1,0)+IF(N215=6.2,1,0)+IF(O215=6.2,1,0)+IF(P215=6.2,1,0)","v":0},null,null,null,null,null,null,null,null,null,null,null,null,null,null,null,null,null,null,null,null,null,null,null,null,null,null,null,null,null,null,null,null,null,null,null,null,null,null,null,null,{"$f":"+'Aux & `Panel Current'!$C$38","v":0},{"$f":"+'Aux & `Panel Current'!$C$39","v":0},{"$f":"+'Aux & `Panel Current'!$C$40","v":0},{"$f":"+'Aux & `Panel Current'!$C$41","v":0},{"$f":"+'Aux & `Panel Current'!$C$42","v":0},{"$f":"+'Aux & `Panel Current'!$C$43","v":0},{"$f":"+BN188/1000","v":0},"Built in Battery Charger",null,6.2,{"$f":"IF(BN215=6.2,1,0)","v":0},"Built in Battery Charger",null,6.2,{"$f":"IF(BO215=6.2,1,0)+IF(BP215=6.2,1,0)+IF(BQ215=6.2,1,0)+IF(BR215=6.2,1,0)+IF(BS215=6.2,1,0)","v":0}]
[" ",2,{"$f":"+I189","v":"Auxillary PS - Alarm Current"},null,null,null,null,null,"Auxillary PS - Alarm Current",null,{"$f":"+'Aux & `Panel Current'!$D$38","v":0},{"$f":"+'Aux & `Panel Current'!$D$39","v":0},{"$f":"+'Aux & `Panel Current'!$D$40","v":0},{"$f":"+'Aux & `Panel Current'!$D$41","v":0},{"$f":"+'Aux & `Panel Current'!$D$42","v":0},{"$f":"+'Aux & `Panel Current'!$D$43","v":0},{"$f":"+K189/1000","v":0},"Built in Battery Charger",null,10,{"$f":"IF(K215=10,1,0)","v":0},"Built in Battery Charger",null,10,{"$f":"IF(L216=10,1,0)+IF(M216=10,1,0)+IF(N216=10,1,0)+IF(O216=10,1,0)+IF(P216=10,1,0)","v":0},null,null,null,null,null,null,null,null,null,null,null,null,null,null,null,null,null,null,null,null,null,null,null,null,null,null,null,null,null,null,null,null,null,null,null,null,null,null,null,null,{"$f":"+'Aux & `Panel Current'!$D$38","v":0},{"$f":"+'Aux & `Panel Current'!$D$39","v":0},{"$f":"+'Aux & `Panel Current'!$D$40","v":0},{"$f":"+'Aux & `Panel Current'!$D$41","v":0},{"$f":"+'Aux & `Panel Current'!$D$42","v":0},{"$f":"+'Aux & `Panel Current'!$D$43","v":0},{"$f":"+BN189/1000","v":0},"Built in Battery Charger",null,10,{"$f":"IF(BN215=10,1,0)","v":0},"Built in Battery Charger",null,10,{"$f":"IF(BO216=10,1,0)+IF(BP216=10,1,0)+IF(BQ216=10,1,0)+IF(BR216=10,1,0)+IF(BS216=10,1,0)","v":0}]
[" ",3,{"$f":"+I190","v":"Total Auxillary PS"},null,null,null,null,null,"Total Auxillary PS",null,{"$f":"+K189+K188","v":0},{"$f":"+L189+L188","v":0},0,0,0,0,null,"Built in Battery Charger",null,12.7,{"$f":"IF(K215=12.7,1,0)","v":0},"Built in Battery Charger",null,12.7,{"$f":"IF(L217=12.7,1,0)+IF(M217=12.7,1,0)+IF(N217=12.7,1,0)+IF(O217=12.7,1,0)+IF(P217=12.7,1,0)","v":0},null,null,null,null,null,null,null,null,null,null,null,null,null,null,null,null,null,null,null,null,null,null,null,null,null,null,null,null,null,null,null,null,null,null,null,null,null,null,null,null,{"$f":"+BN189+BN188","v":0},{"$f":"+BO189+BO188","v":0},0,0,0,0,null,"Built in Battery Charger",null,12.7,{"$f":"IF(BN215=12.7,1,0)","v":0},"Built in Battery Charger",null,12.7,{"$f":"IF(BO217=12.7,1,0)+IF(BP217=12.7,1,0)+IF(BQ217=12.7,1,0)+IF(BR217=12.7,1,0)+IF(BS217=12.7,1,0)","v":0}]
[null,null,null,null,null,null,null,null,"Auxillary Supply Tap from 4007ES",null,{"$f":"SUM(L191:P191)","v":0.5},0.1,0.1,0.1,0.1,0.1,{"$f":"+K195/1000","v":0},"Built in Battery Charger",null,18,{"$f":"IF(K215=18,1,0)","v":0},"External Battery Box",null,18,{"$f":"IF(L218=18,1,0)+IF(M218=18,1,0)+IF(N218=18,1,0)+IF(O218=18,1,0)+IF(P218=18,1,0)","v":0},null,null,null,null,null,null,null,null,null,null,null,null,null,null,null,null,null,null,null,null,null,null,null,null,null,null,null,null,null,null,null,null,null,null,null,null,null,null,null,11,{"$f":"SUM(BO191:BS191)","v":0.5},0.1,0.1,0.1,0.1,0.1,{"$f":"+BN195/1000","v":0},"Built in Battery Charger",null,18,{"$f":"IF(BN215=18,1,0)","v":0},"External Battery Box",null,18,{"$f":"IF(BO218=18,1,0)+IF(BP218=18,1,0)+IF(BQ218=18,1,0)+IF(BR218=18,1,0)+IF(BS218=18,1,0)","v":0}]
[" ",4,{"$f":"+I192","v":"Panel Allocated Auxillary Power"},null,null,null,null,null,"Panel Allocated Auxillary Power",null,{"$f":"IF(K24>0,2000,0)","v":0},{"$f":"IF((L30+L31)>0,500,0)","v":0},{"$f":"IF((M30+M31)>0,500,0)","v":0},{"$f":"IF((N30+N31)>0,500,0)","v":0},{"$f":"IF((O30+O31)>0,500,0)","v":0},{"$f":"IF((P30+P31)>0,500,0)","v":0},{"$f":"+K196/1000","v":0},"External Battery Box",null,25,{"$f":"IF(K215=25,1,0)","v":0},"External Battery Box",null,25,{"$f":"IF(L219=25,1,0)+IF(M219=25,1,0)+IF(N219=25,1,0)+IF(O219=25,1,0)+IF(P219=25,1,0)","v":0},null,null,null,null,null,null,null,null,null,null,null,null,null,null,null,null,null,null,null,null,null,null,null,null,null,null,null,null,null,null,null,null,null,null,null,null,null,null,null,null,{"$f":"IF(BN24>0,2000,0)","v":0},{"$f":"IF((BO30+BO31)>0,500,0)","v":0},{"$f":"IF((BP30+BP31)>0,500,0)","v":0},{"$f":"IF((BQ30+BQ31)>0,500,0)","v":0},{"$f":"IF((BR30+BR31)>0,500,0)","v":0},{"$f":"IF((BS30+BS31)>0,500,0)","v":0},{"$f":"+BN196/1000","v":0},"External Battery Box",null,25,{"$f":"IF(BN215=25,1,0)","v":0},"External Battery Box",null,25,{"$f":"IF(BO219=25,1,0)+IF(BP219=25,1,0)+IF(BQ219=25,1,0)+IF(BR219=25,1,0)+IF(BS219=25,1,0)","v":0}]
[" ",5,{"$f":"+I193","v":"Remaining"},null,null,null,null,null,"Remaining",null,{"$f":"+(K192+K191)-K190","v":0.5},{"$f":"+L192-L190","v":0},0,0,0,0,null,"External Battery Box",null,33,{"$f":"IF(K215=33,1,0)","v":0},"External Battery Box",null,33,{"$f":"IF(L220=33,1,0)+IF(M220=33,1,0)+IF(N220=33,1,0)+IF(O220=33,1,0)+IF(P220=33,1,0)","v":0},null,null,null,null,null,null,null,null,null,null,null,null,null,null,null,null,null,null,null,null,null,null,null,null,null,null,null,null,null,null,null,null,null,null,null,null,null,null,null,null,{"$f":"+(BN192+BN191)-BN190","v":0.5},{"$f":"+BO192-BO190","v":0},0,0,0,0,null,"External Battery Box",null,33,{"$f":"IF(BN215=33,1,0)","v":0},"External Battery Box",null,33,{"$f":"IF(BO220=33,1,0)+IF(BP220=33,1,0)+IF(BQ220=33,1,0)+IF(BR220=33,1,0)+IF(BS220=33,1,0)","v":0}]
[" "," ","Step 7B: Panel Other Standby and Alarm  Power Supply",null,null,null,null,null,{"$f":"IF(J194=\"Error\", \"Reduce Auxillary usage\",\"\")","v":""},{"$f":"IF(K193<0,\"Error\",\"\")","v":""},"4007ES","NAC Repeat 1","NAC Repeat 2","NAC Repeat 3","NAC Repeat 4","NAC Repeat 5",null,"External Battery charger",null,50,{"$f":"IF(K215=50,1,0)","v":0},"External Battery charger",null,50,{"$f":"IF(L221=50,1,0)+IF(M221=50,1,0)+IF(N221=50,1,0)+IF(O221=50,1,0)+IF(P221=50,1,0)","v":0},null,null,null,null,null,null,null,null,null,null,null,null,null,null,null,null,null,null,null,null,null,null,null,null,null,null,null,null,null,null,null,null,null,null,null,null,null,null,null,null,"4007ES","NAC Repeat 1","NAC Repeat 2","NAC Repeat 3","NAC Repeat 4","NAC Repeat 5",null,"External Battery charger",null,50,{"$f":"IF(BN215=50,1,0)","v":0},"External Battery charger",null,50,{"$f":"IF(BO221=50,1,0)+IF(BP221=50,1,0)+IF(BQ221=50,1,0)+IF(BR221=50,1,0)+IF(BS221=50,1,0)","v":0}]
[" ",6,{"$f":"+I195","v":"Panel PS - Standby Current"},null,null,null,null,null,"Panel PS - Standby Current",null,{"$f":"+'Aux & `Panel Current'!I38-K188","v":0},{"$f":"+'Aux & `Panel Current'!I39-L188","v":0},{"$f":"+'Aux & `Panel Current'!I40-M188","v":0},{"$f":"+'Aux & `Panel Current'!I41-N188","v":0},{"$f":"+'Aux & `Panel Current'!I42-O188","v":0},{"$f":"+'Aux & `Panel Current'!I43-P188","v":0},null,"External Battery charger",null,110,{"$f":"IF(K215=110,1,0)","v":0},"External Battery charger",null,110,{"$f":"IF(L222=110,1,0)+IF(M222=110,1,0)+IF(N222=110,1,0)+IF(O222=110,1,0)+IF(P222=110,1,0)","v":0},null,null,null,null,null,null,null,null,null,null,null,null,null,null,null,null,null,null,null,null,null,null,null,null,null,null,null,null,null,null,null,null,null,null,null,null,null,null,null,null,{"$f":"+'Aux & `Panel Current'!BL38-BN188","v":0},{"$f":"+'Aux & `Panel Current'!BL39-BO188","v":0},{"$f":"+'Aux & `Panel Current'!BL40-BP188","v":0},{"$f":"+'Aux & `Panel Current'!BL41-BQ188","v":0},{"$f":"+'Aux & `Panel Current'!BL42-BR188","v":0},{"$f":"+'Aux & `Panel Current'!BL43-BS188","v":0},null,"External Battery charger",null,110,{"$f":"IF(BN215=110,1,0)","v":0},"External Battery charger",null,110,{"$f":"IF(BO222=110,1,0)+IF(BP222=110,1,0)+IF(BQ222=110,1,0)+IF(BR222=110,1,0)+IF(BS222=110,1,0)","v":0}]
[" ",7,{"$f":"+I196","v":"Panel PS - Alarm Current"},null,null,null,null,null,"Panel PS - Alarm Current",null,{"$f":"+'Aux & `Panel Current'!J38-K189","v":0},{"$f":"+'Aux & `Panel Current'!J39-L189","v":0},{"$f":"+'Aux & `Panel Current'!J40-M189","v":0},{"$f":"+'Aux & `Panel Current'!J41-N189","v":0},{"$f":"+'Aux & `Panel Current'!J42-O189","v":0},{"$f":"+'Aux & `Panel Current'!J43-P189","v":0},null,null,null,null,null,null,null,null,null,null,null,null,null,null,null,null,null,null,null,null,null,null,null,null,null,null,null,null,null,null,null,null,null,null,null,null,null,null,null,null,null,null,null,null,null,null,null,null,null,{"$f":"+'Aux & `Panel Current'!BM38-BN189","v":0},{"$f":"+'Aux & `Panel Current'!BM39-BO189","v":0},{"$f":"+'Aux & `Panel Current'!BM40-BP189","v":0},{"$f":"+'Aux & `Panel Current'!BM41-BQ189","v":0},{"$f":"+'Aux & `Panel Current'!BM42-BR189","v":0},{"$f":"+'Aux & `Panel Current'!BM43-BS189","v":0}]
[" ",null,"Step 7D: Panel Total Stby and Alarm",null,null,null,null,null," ",null,"4007ES","NAC Repeat 1","NAC Repeat 2","NAC Repeat 3","NAC Repeat 4","NAC Repeat 5",null," ",null," ",null," "," "," ",null,null,null,null,null,null,null,null,null,null,null,null,null,null,null,null,null,null,null,null,null,null,null,null,null,null,null,null,null,null,null,null,null,null,null,null,null,null,null,null,null,"4007ES","NAC Repeat 1","NAC Repeat 2","NAC Repeat 3","NAC Repeat 4","NAC Repeat 5",null," ",null," ",null," "," "," "]
[" ",8,{"$f":"+I198","v":"Grand Total Standby Current(Amp)"},null,null,null,null,null,"Grand Total Standby Current(Amp)",null,{"$f":"+(K195+K188)/1000","v":0},{"$f":"+(L195+L188)/1000","v":0},{"$f":"+(M195+M188)/1000","v":0},0,0,0,null,null,null,null,null,null,null,null,null,null,null,null,null,null,null,null,null,null,null,null,null,null,null,null,null,null,null,null,null,null,null,null,null,null,null,null,null,null,null,null,null,null,null,null,null,null,null,null,null,{"$f":"+(BN195+BN188)/1000","v":0},{"$f":"+(BO195+BO188)/1000","v":0},{"$f":"+(BP195+BP188)/1000","v":0},0,0,0]
[" ",9,{"$f":"+I199","v":"Grand Total Alarm Current(Amp)"},null,null,null,null,null,"Grand Total Alarm Current(Amp)",null,{"$f":"+(K196+K189)/1000","v":0},{"$f":"+(L196+L189)/1000","v":0},{"$f":"+(M196+M189)/1000","v":0},0,0,0,null,null,null,null,null,null,null,null,null,null,null,null,null,null,null,null,null,null,null,null,null,null,null,null,null,null,null,null,null,null,null,null,null,null,null,null,null,null,null,null,null,null,null,null,null,null,null,null,null,{"$f":"+(BN196+BN189)/1000","v":0},{"$f":"+(BO196+BO189)/1000","v":0},{"$f":"+(BP196+BP189)/1000","v":0},0,0,0]
[" ",10,{"$f":"+I200","v":"Grand Total Alarm Current(Amp)"},null,null,null,null,null,"Grand Total Alarm Current(Amp)",null,{"$f":"+K199+K198","v":0},{"$f":"+L199+L198","v":0},{"$f":"+M199+M198","v":0},0,0,0,null,null,null,null,null,null,null,null,null,null,null,null,null,null,null,null,null,null,null,null,null,null,null,null,null,null,null,null,null,null,null,null,null,null,null,null,null,null,null,null,null,null,null,null,null,null,null,null,null,{"$f":"+BN199+BN198","v":0},{"$f":"+BO199+BO198","v":0},{"$f":"+BP199+BP198","v":0},0,0,0]
[" ",11,{"$f":"+I201","v":"Maximum Panel Current Capacity"},null,null,null,null,null,"Maximum Panel Current Capacity",null,6,{"$f":"IF((L30+L31)>0,8,0)","v":0},{"$f":"IF((M30+M31)>0,8,0)","v":0},{"$f":"IF((N30+N31)>0,8,0)","v":0},{"$f":"IF((O30+O31)>0,8,0)","v":0},{"$f":"IF((P30+P31)>0,8,0)","v":0},null,null,null,null,null,null,null,null,null,null,null,null,null,null,null,null,null,null,null,null,null,null,null,null,null,null,null,null,null,null,null,null,null,null,null,null,null,null,null,null,null,null,null,null,null,null,null,null,null,6,{"$f":"IF((BO30+BO31)>0,8,0)","v":0},{"$f":"IF((BP30+BP31)>0,8,0)","v":0},{"$f":"IF((BQ30+BQ31)>0,8,0)","v":0},{"$f":"IF((BR30+BR31)>0,8,0)","v":0},{"$f":"IF((BS30+BS31)>0,8,0)","v":0}]
[" ",12,{"$f":"+I202","v":"Check if Exceed"},null,null,null,null,null,"Check if Exceed",null,{"$f":"IF((K201-K200)<0,\"Error\",\"OK\")","v":"OK"},{"$f":"IF((L30+L31)>0,(IF((L201-L200)<0,\"Error\",\"OK\")),0)","v":0},{"$f":"IF((M30+M31)>0,(IF((M201-M200)<0,\"Error\",\"OK\")),0)","v":0},{"$f":"IF((N30+N31)>0,(IF((N201-N200)<0,\"Error\",\"OK\")),0)","v":0},{"$f":"IF((O30+O31)>0,(IF((O201-O200)<0,\"Error\",\"OK\")),0)","v":0},{"$f":"IF((P30+P31)>0,(IF((P201-P200)<0,\"Error\",\"OK\")),0)","v":0},null,null,null,null,null,null,null,null,null,null,null,null,null,null,null,null,null,null,null,null,null,null,null,null,null,null,null,null,null,null,null,null,null,null,null,null,null,null,null,null,null,null,null,null,null,null,null,null,null,{"$f":"IF((BN201-BN200)<0,\"Error\",\"OK\")","v":"OK"},{"$f":"IF((BO30+BO31)>0,(IF((BO201-BO200)<0,\"Error\",\"OK\")),0)","v":0},{"$f":"IF((BP30+BP31)>0,(IF((BP201-BP200)<0,\"Error\",\"OK\")),0)","v":0},{"$f":"IF((BQ30+BQ31)>0,(IF((BQ201-BQ200)<0,\"Error\",\"OK\")),0)","v":0},{"$f":"IF((BR30+BR31)>0,(IF((BR201-BR200)<0,\"Error\",\"OK\")),0)","v":0},{"$f":"IF((BS30+BS31)>0,(IF((BS201-BS200)<0,\"Error\",\"OK\")),0)","v":0}]
[" ",null,"Step 8A: Battery Calculation",null,null,null,null,null,{"$f":"IF(K202=\"Error\",\"**Exceeded Limit , Reduce Current Usage\",IF(L202=\"Error\",\"**Exceeded Limit , Reduce Current Usage\",IF(M202=\"Error\",\"**Exceeded Limit , Reduce Current Usage\",IF(N202=\"Error\",\"**Exceeded Limit , Reduce Current Usage\",IF(O202=\"Error\",\"**Exceeded Limit , Reduce Current Usage\",IF(P202=\"Error\",\"**Exceeded Limit , Reduce Current Usage\",\"\"))))))","v":""},null,"4007ES","NAC Repeat 1","NAC Repeat 2","NAC Repeat 3","NAC Repeat 4","NAC Repeat 5",null,null,null,null,null,null,null,null,null,null,null,null,null,null,null,null,null,null,null,null,null,null,null,null,null,null,null,null,null,null,null,null,null,null,null,null,null,null,null,null,null,null,null,null,null,null,null,null,null,"4007ES","NAC Repeat 1","NAC Repeat 2","NAC Repeat 3","NAC Repeat 4","NAC Repeat 5"]
[null,null,"Types of Suppression, Preaction requires 90 hrs of Standby hrs by default",null,null,null,null,null,"Type of Suppressions Selected",null,{"$f":"AX48","v":"Gas"},{"$f":"+AX49","v":"Gas"},{"$f":"AX50","v":"Gas"},{"$f":"+AX51","v":"Gas"},{"$f":"+AX52","v":"Gas"},{"$f":"+AX53","v":"Gas"},null,null,null,null,null,null,null,null,null,null,null,null,null,null,null,null,null,null,null,null,null,null,null,null,null,null,null,null,null,null,null,null,null,null,null,null,null,null,null,null,null,null,null,null,null,null,null,null,null,{"$f":"DA48","v":0},{"$f":"+DA49","v":0},{"$f":"DA50","v":0},{"$f":"+DA51","v":0},{"$f":"+DA52","v":0},{"$f":"+DA53","v":0}]
[null,null,null,null,null,null,null,null,{"$f":"IF(SUM(K205:P205)>89,\"**Note: 90hrs Stby Activated\",\"Use your Selected Stby hours\")","v":"Use your Selected Stby hours"},null,{"$f":"IF(K204=\"Preaction\",90,0)","v":0},{"$f":"IF(L204=\"Preaction\",90,0)","v":0},0,0,0,0,null,null,null,null,null,null,null,null,null,null,null,null,null,null,null,null,null,null,null,null,null,null,null,null,null,null,null,null,null,null,null,null,null,null,null,null,null,null,null,null,null,null,null,null,null,null,null,null,null,{"$f":"IF(BN204=\"Preaction\",90,0)","v":0},{"$f":"IF(BO204=\"Preaction\",90,0)","v":0},0,0,0,0]
[" ",13,{"$f":"+I206","v":"Standby Hours Requirements"},null,null,null,null,null,"Standby Hours Requirements",null,24,24,24,24,24,24,null,null,null,null,null,null,null,null,null,null,null,null,null,null,null,null,null,null,null,null,null,null,null,null,null,null,null,null,null,null,null,null,null,null,null,null,null,null,null,null,null,null,null,null,null,null,null,null,12,24,24,24,24,24,24]
[null,14,{"$f":"+I207","v":"Alarm Minutes Requirements"},null,null,null,null,null,"Alarm Minutes Requirements"," ",5,5,5,5,5,5,null,null,null,null,null,null,null,null,null,null,null,null,null,null,null,null,null,null,null,null,null,null,null,null,null,null,null,null,null,null,null,null,null,null,null,null,null,null,null,null,null,null,null,null,null,null,null,null,null,5,5,5,5,5,5]
[null,15,{"$f":"+I208","v":"Factoring % Requriements"},null,null,null,null,null,"Factoring % Requriements",null,0.25,0.25,0.25,0.25,0.25,0.25,null,null,null,null,null,null,null,null,null,null,null,null,null,null,null,null,null,null,null,null,null,null,null,null,null,null,null,null,null,null,null,null,null,null,null,null,null,null,null,null,null,null,null,null,null,null,null,null,null,0.2,0.2,0.2,0.2,0.2,0.2]
[null,null,"Step 8B: Total  Calculated Battery Ah",null,null,null,null,null,null,null,"4007ES","NAC Repeat 1","NAC Repeat 2","NAC Repeat 3","NAC Repeat 4","NAC Repeat 5",null,null,null,null,null,null,null,null,null,null,null,null,null,null,null,null,null,null,null,null,null,null,null,null,null,null,null,null,null,null,null,null,null,null,null,null,null,null,null,null,null,null,null,null,null,null,null,null,null,"4007ES","NAC Repeat 1","NAC Repeat 2","NAC Repeat 3","NAC Repeat 4","NAC Repeat 5"]
[null,16,{"$f":"+I210","v":"Total Standby Battery Ah Capacity"},null,null,null,null,null,"Total Standby Battery Ah Capacity",null,{"$f":"+K198*K206","v":0},{"$f":"+L198*L206","v":0},0,0,0,0,null,null,null,null,null,null,null,null,null,null,null,null,null,null,null,null,null,null,null,null,null,null,null,null,null,null,null,null,null,null,null,null,null,null,null,null,null,null,null,null,null,null,null,null,null,null,null,null,null,{"$f":"+BN198*BN206","v":0},{"$f":"+BO198*BO206","v":0},0,0,0,0]
[null,17,{"$f":"+I211","v":"Total Alarm Battery Ah Capacity"},null,null,null,null,null,"Total Alarm Battery Ah Capacity",null,{"$f":"+K199*(K207/60)","v":0},{"$f":"+L199*(L207/60)","v":0},0,0,0,0,null,null,null,null,null,null,null,null,null,null,null,null,null,null,null,null,null,null,null,null,null,null,null,null,null,null,null,null,null,null,null,null,null,null,null,null,null,null,null,null,null,null,null,null,null,null,null,null,null,{"$f":"+BN199*(BN207/60)","v":0},{"$f":"+BO199*(BO207/60)","v":0},0,0,0,0]
[null,null,"Step 8C: Final Battery AH Capacity"]
[null,18,{"$f":"+I213","v":"Total Battery Capacity"},null,null,null,null,null,"Total Battery Capacity",null,{"$f":"+K211+K210","v":0},0,0,0,0,0,null,null,null,null,null,null,null,null,null,null,null,null,null,null,null,null,null,null,null,null,null,null,null,null,null,null,null,null,null,null,null,null,null,null,null,null,null,null,null,null,null,null,null,null,null,null,null,null,null,{"$f":"+BN211+BN210","v":0},0,0,0,0,0]
[null,19,{"$f":"+I214","v":"Include Battery Factor as per NFPA"},null,null,null,null,null,"Include Battery Factor as per NFPA",null,{"$f":"+K213*(1+K208)","v":0},0,0,0,0,0,null,null,null,null,null,null,null,null,null,null,null,null,null,null,null,null,null,null,null,null,null,null,null,null,null,null,null,null,null,null,null,null,null,null,null,null,null,null,null,null,null,null,null,null,null,null,null,null,null,{"$f":"+BN213*(1+BN208)","v":0},0,0,0,0,0]
[null,20,"Minimum Calculated Battery Size Required ",null,null,null,null,null,"Round to Nearest Battery AH",null,{"$f":"IF(K$214=0,0,IF(K$214<$T$188,$T$188,IF(K$214<$T$189,$T$189,(IF(K$214<$T$189,$T$189,IF(K$214<$T$190,$T$190,IF(K$214<$T$191,$T$191,IF(K$214<$T$192,$T$192,IF(K$214<$T$193,$T$193,IF(K$214<$T$194,$T$194,IF(K$214<$T$195,$T$195,0)))))))))))","v":0},{"$f":"IF(L$214=0,0,IF(L$214<$X$188,$X$188,IF(L$214<$X$189,$X$189,(IF(L$214<$X$189,$X$189,IF(L$214<$X$190,$X$190,IF(L$214<$X$191,$X$191,IF(L$214<$X$192,$X$192,IF(L$214<$X$193,$X$193,IF(L$214<$X$194,$X$194,IF(L$214<$X$195,$X$195,0)))))))))))","v":0},{"$f":"IF(M$214=0,0,IF(M$214<$X$188,$X$188,IF(M$214<$X$189,$X$189,(IF(M$214<$X$189,$X$189,IF(M$214<$X$190,$X$190,IF(M$214<$X$191,$X$191,IF(M$214<$X$192,$X$192,IF(M$214<$X$193,$X$193,IF(M$214<$X$194,$X$194,IF(M$214<$X$195,$X$195,0)))))))))))","v":0},0,0,0,null,null,null,null,null,null,null,null,null,null,null,null,null,null,null,null,null,null,null,null,null,null,null,null,null,null,null,null,null,null,null,null,null,null,null,null,null,null,null,null,null,null,null,null,null,null,null,null,null,{"$f":"IF(BN$214=0,0,IF(BN$214<$T$188,$T$188,IF(BN$214<$T$189,$T$189,(IF(BN$214<$T$189,$T$189,IF(BN$214<$T$190,$T$190,IF(BN$214<$T$191,$T$191,IF(BN$214<$T$192,$T$192,IF(BN$214<$T$193,$T$193,IF(BN$214<$T$194,$T$194,IF(BN$214<$T$195,$T$195,0)))))))))))","v":0},{"$f":"IF(BO$214=0,0,IF(BO$214<$X$188,$X$188,IF(BO$214<$X$189,$X$189,(IF(BO$214<$X$189,$X$189,IF(BO$214<$X$190,$X$190,IF(BO$214<$X$191,$X$191,IF(BO$214<$X$192,$X$192,IF(BO$214<$X$193,$X$193,IF(BO$214<$X$194,$X$194,IF(BO$214<$X$195,$X$195,0)))))))))))","v":0},{"$f":"IF(BP$214=0,0,IF(BP$214<$X$188,$X$188,IF(BP$214<$X$189,$X$189,(IF(BP$214<$X$189,$X$189,IF(BP$214<$X$190,$X$190,IF(BP$214<$X$191,$X$191,IF(BP$214<$X$192,$X$192,IF(BP$214<$X$193,$X$193,IF(BP$214<$X$194,$X$194,IF(BP$214<$X$195,$X$195,0)))))))))))","v":0},0,0,0]
[null,21,"Battery Location and Selected Size",null,null,null,null,null,"Internal or External Charger",null,{"$f":"IF((K215>6.1),IF((K215>18.1),IF((K215>33.1),\"External Battery Charger\",\"External Battery Box\"),\"Built in Battery Charger\"),0)","v":0},{"$f":"IF((L215>6.1),IF((L215>12.7),IF((L215>33.1),\"External Battery Charger\",\"External Battery Box\"),\"Built in Battery Charger\"),0)","v":0},{"$f":"IF((M215>6.1),IF((M215>12.7),IF((M215>33.1),\"External Battery Charger\",\"External Battery Box\"),\"Built in Battery Charger\"),0)","v":0},0,0,0,null,null,null,null,null,null,null,null,null,null,null,null,null,null,null,null,null,null,null,null,null,null,null,null,null,null,null,null,null,null,null,null,null,null,null,null,null,null,null,null,null,null,null,null,null,null,null,null,null,{"$f":"IF((BN215>6.1),IF((BN215>18.1),IF((BN215>33.1),\"External Battery Charger\",\"External Battery Box\"),\"Built in Battery Charger\"),0)","v":0},{"$f":"IF((BO215>6.1),IF((BO215>12.7),IF((BO215>33.1),\"External Battery Charger\",\"External Battery Box\"),\"Built in Battery Charger\"),0)","v":0},{"$f":"IF((BP215>6.1),IF((BP215>12.7),IF((BP215>33.1),\"External Battery Charger\",\"External Battery Box\"),\"Built in Battery Charger\"),0)","v":0},0,0,0]

{"sheet":"Actuator Cable Distance","index":13,"n_rows":95,"n_cols":18,"rows_kept":95,"cut":false,"hidden":true,"merged":[[0,0,0,12],[12,0,12,12],[1,2,1,11],[13,2,13,11],[24,0,25,0],[24,1,25,1],[24,12,25,12],[23,0,23,12],[24,2,24,11],[13,0,14,0],[13,1,14,1],[13,12,14,12],[1,1,2,1],[1,0,2,0],[1,12,2,12],[58,11,59,12],[58,0,58,10],[59,0,60,0],[59,1,60,1],[59,2,59,9],[59,10,60,10]]}
["Maximum  Suppression Release Peripherals(SRM) to Solenoid (0.5 A to 1.75 A drop is base on a total drop of 3.4V: 2 A drop is base upon a total drop of 1.2V)"]
["S/No","RAC Output Current(Refer to Solenoid Rating)","Distance",null,null,null,null,null,null,null,null,null,"Total Line Resistance"]
[null,null,"18Awg",0.80300000000000005,"16Awg",1.3087,"14Awg",2.0809000000000002,"12Awg",3.3079999999999998,1.25,2.5]
[1,500,74,23,118,36,188,57,300,91,{"$f":"+((D4+F4)/2)*1.185","v":34.957500000000003},{"$f":"+((H4+J4)/2)*1.185","v":87.69},1.06]
[{"$f":"+A4+1","v":2},750,50,15,79,24,126,38,200,61,{"$f":"+((D5+F5)/2)*1.185","v":23.107500000000002},{"$f":"+((H5+J5)/2)*1.185","v":58.657500000000006},0.71]
[3,1000,37,11,59,18,94,29,150,46,17.182500000000001,44.4375,0.53]
[4,1250,30,9,47,14,75,23,120,36.6,13.627500000000001,35.313000000000002,1.06]
[5,1500,25,7.6,39,12,63,19,100,30.5,11.613000000000001,29.328750000000003,0.71]
[6,1750,21,6.4,34,10,54,16,85,26,9.7169999999999987,24.885000000000002,0.53]
[7,2000,19,5.8,30,9,47,14,75,23,8.7690000000000001,21.922499999999999,0.53]
[null,null,null,null," "]
[]
["Maximum Notification Appliance Circuits(NAC) Wiring Distance  to a Suppression Release Peripherals(SRM) (0.5 A to 1.75 A drop is base on a total drop of 3.4V: 2 A drop is base upon a total drop of 1.2V)"]
["S/No","RAC Output Current(Refer to Solenoid Rating)","Distance",null,null,null,null,null,null,null,null,null,"Total Line Resistance"]
[null,null,"18Awg",0.80300000000000005,"16Awg",1.3087,"14Awg",2.0809000000000002,"12Awg",3.3079999999999998,1.25,2.5]
[1,500,250,76,399,122,635,194,1010,308,{"$f":"+((D16+F16)/2)*1.185","v":117.31500000000001},{"$f":"+((H16+J16)/2)*1.185","v":297.435},3.58]
[{"$f":"+A16+1","v":2},750,167,51,266,81,423,129,673,205,{"$f":"+((D17+F17)/2)*1.185","v":78.210000000000008},{"$f":"+((H17+J17)/2)*1.185","v":197.89500000000001},2.39]
[3,1000,125,38,199,61,317,97,505,154,58.657500000000006,148.7175,1.79]
[4,1250,100,30,159,48,254,77,404,123,46.215000000000003,118.5,1.43]
[5,1500,84,26,133,41,212,65,337,103,39.697500000000005,99.54,1.19]
[6,1750,72,22,114,35,181,55,289,88,33.772500000000001,84.727500000000006,1.02]
[7,2000,25,7.6,39,12,63,19,100,30,11.613000000000001,29.032500000000002,0.36]
[]
["4007ES Maximum Notification Appliance Circuits(NAC) Wiring Distance from NAC-SRM-SRP(RAC)"]
["S/No","RAC Output Current(Refer to Solenoid Rating)","Distance",null,null,null,null,null,null,null,null,null," "]
[null,null,"18Awg",0.80300000000000005,"16Awg",1.3087,"14Awg",2.0809000000000002,"12Awg",3.3079999999999998,1.25,2.5,null,null,null,1.25,2.5]
[1,500,{"$f":"+C16+C4","v":324},99,517,158,823,251,1310,399,{"$f":"+((D27+F27)/2)*1.185","v":152.27250000000001},{"$f":"+((H27+J27)/2)*1.185","v":385.125}," ",null,null,{"$f":"+((D27+F27)/2)*1.185","v":152.27250000000001},{"$f":"+((H27+J27)/2)*1.185","v":385.125},{"$f":"+D27-D62","v":-33.283199999999994}]
[{"$f":"+A27+1","v":2},750,217,66,345,105,549,167,873,266,{"$f":"+((D28+F28)/2)*1.185","v":101.31750000000001},{"$f":"+((H28+J28)/2)*1.185","v":256.55250000000001}," ",null,null,101.31750000000001,256.55250000000001,{"$f":"+R27/D62","v":-0.25160564606843494}]
[3,1000,162,49,258,79,411,126,655,200,75.84,193.155," ",null,null,75.84,193.155]
[4,1250,130,39,206,62,329,100,524,159.6,59.842500000000001,153.81300000000002," ",null,null,59.842500000000001,153.81300000000002]
[5,1500,109,33.6,172,53,275,84,437,133.5,51.310499999999998,128.86875000000001," ",null,null,51.310499999999998,128.86875000000001]
[6,1750,93,28.4,148,45,235,71,374,114,43.489500000000007,109.61250000000001," ",null,null,43.489500000000007,109.61250000000001]
[7,2000,44,13.399999999999999,69,21,110,33,175,53,20.382000000000001,50.955000000000005," ",null,null,20.382000000000001,50.955000000000005]
["Cross Tab for 4007ES NAC to Addressable SRP",null,null,null,null,null,null,null,null,"Cross Tab for 4007ES NAC to Addressable SRP"]
["Circuit","Solenoid Rating","18Awg","16Awg","14Awg","12Awg",1.25,2.5,null,"Circuit","Solenoid Rating","18Awg","16Awg","14Awg","12Awg",1.25,2.5]
["RAC1",{"$f":"+'4007ES(Addr)'!$K$39","v":0},{"$f":"IF($B$36<(A_5+1),$D$16,(IF($B$36<(A_10),$D$17,(IF($B$36<(A_12),$D$18,(IF($B$36<(A_15),$D$19,(IF($B$36<(A_17),$D$20,(IF($B$36<(A_20),$D$21,(IF($B$36>(A_20),$D$22,$D$22)))))))))))))","v":76},{"$f":"IF($B$36<(A_5+1),$F$16,(IF($B$36<(A_10),$F$17,(IF($B$36<(A_12),$F$18,(IF($B$36<(A_15),$F$19,(IF($B$36<(A_17),$F$20,(IF($B$36<(A_20),$F$21,(IF($B$36>(A_20),$F$22,$F$22)))))))))))))","v":122},{"$f":"IF($B$36<(A_5+1),$H$16,(IF($B$36<(A_10),$H$17,(IF($B$36<(A_12),$H$18,(IF($B$36<(A_15),$H$19,(IF($B$36<(A_17),$H$20,(IF($B$36<(A_20),$H$21,(IF($B$36>(A_20),$H$22,$H$22)))))))))))))","v":194},{"$f":"IF($B$36<(A_5+1),$J$16,(IF($B$39<(A_10),$J$17,(IF($B$39<(A_12),$J$18,(IF($B$39<(A_15),$J$19,(IF($B$39<(A_17),$J$20,(IF($B$39<(A_20),$J$21,(IF($B$39>(A_20),$J$22,$J$22)))))))))))))","v":308},{"$f":"IF($B$36<(A_5+1),$K$16,(IF($B$39<(A_10),$K$17,(IF($B$39<(A_12),$K$18,(IF($B$39<(A_15),$K$19,(IF($B$39<(A_17),$K$20,(IF($B$39<(A_20),$K$21,(IF($B$39>(A_20),$K$22,$K$22)))))))))))))","v":117.31500000000001},{"$f":"IF($B$36<(A_5+1),$L$16,(IF($B$39<(A_10),$L$17,(IF($B$39<(A_12),$L$18,(IF($B$39<(A_15),$L$19,(IF($B$39<(A_17),$L$20,(IF($B$39<(A_20),$L$21,(IF($B$39>(A_20),$L$22,$L$22)))))))))))))","v":297.435},null,"RAC1",{"$f":"+'4007ES(Addr)'!$K$39","v":0},{"$f":"IF($B$36<(A_5+1),$D$4,(IF($B$36<(A_10),$D$5,(IF($B$36<(A_12),$D$6,(IF($B$36<(A_15),$D$7,(IF($B$36<(A_17),$D$8,(IF($B$36<(A_20),$D$9,(IF($B$36>(A_20),$D$10,$D$10)))))))))))))","v":23},{"$f":"IF($B$36<(A_5+1),$F$4,(IF($B$36<(A_10),$F$5,(IF($B$36<(A_12),$F$6,(IF($B$36<(A_15),$F$7,(IF($B$36<(A_17),$F$8,(IF($B$36<(A_20),$F$9,(IF($B$36>(A_20),$F$10,$F$10)))))))))))))","v":36},{"$f":"IF($B$36<(A_5+1),$H$4,(IF($B$36<(A_10),$H$5,(IF($B$36<(A_12),$H$6,(IF($B$36<(A_15),$H$7,(IF($B$36<(A_17),$H$8,(IF($B$36<(A_20),$H$9,(IF($B$36>(A_20),$H$10,$H$10)))))))))))))","v":57},{"$f":"IF($B$36<(A_5+1),$J$4,(IF($B$39<(A_10),$J$5,(IF($B$39<(A_12),$J$6,(IF($B$39<(A_15),$J$7,(IF($B$39<(A_17),$J$8,(IF($B$39<(A_20),$J$9,(IF($B$39>(A_20),$J$10,$J$10)))))))))))))","v":91},{"$f":"IF($B$36<(A_5+1),$K$4,(IF($B$39<(A_10),$K$5,(IF($B$39<(A_12),$K$6,(IF($B$39<(A_15),$K$7,(IF($B$39<(A_17),$K$8,(IF($B$39<(A_20),$K$9,(IF($B$39>(A_20),$K$10,$K$10)))))))))))))","v":34.957500000000003},{"$f":"IF($B$36<(A_5+1),$L$4,(IF($B$39<(A_10),$L$5,(IF($B$39<(A_12),$L$6,(IF($B$39<(A_15),$L$7,(IF($B$39<(A_17),$L$8,(IF($B$39<(A_20),$L$9,(IF($B$39>(A_20),$L$10,$L$10)))))))))))))","v":87.69}]
["RAC2",{"$f":"+'4007ES(Addr)'!$L$39","v":0},{"$f":"IF($B$37<(A_5+1),$D$16,(IF($B$37<(A_10),$D$17,(IF($B$37<(A_12),$D$18,(IF($B$37<(A_15),$D$19,(IF($B$37<(A_17),$D$20,(IF($B$37<(A_20),$D$21,(IF($B$37>(A_20),$D$22,$D$22)))))))))))))","v":76},{"$f":"IF($B$37<(A_5+1),$F$16,(IF($B$37<(A_10),$F$17,(IF($B$37<(A_12),$F$18,(IF($B$37<(A_15),$F$19,(IF($B$37<(A_17),$F$20,(IF($B$37<(A_20),$F$21,(IF($B$37>(A_20),$F$22,$F$22)))))))))))))","v":122},{"$f":"IF($B$37<(A_5+1),$H$16,(IF($B$37<(A_10),$H$17,(IF($B$37<(A_12),$H$18,(IF($B$37<(A_15),$H$19,(IF($B$37<(A_17),$H$20,(IF($B$37<(A_20),$H$21,(IF($B$37>(A_20),$H$22,$H$22)))))))))))))","v":194},{"$f":"IF($B$37<(A_5+1),$J$16,(IF($B$39<(A_10),$J$17,(IF($B$39<(A_12),$J$18,(IF($B$39<(A_15),$J$19,(IF($B$39<(A_17),$J$20,(IF($B$39<(A_20),$J$21,(IF($B$39>(A_20),$J$22,$J$22)))))))))))))","v":308},{"$f":"IF($B$37<(A_5+1),$K$16,(IF($B$39<(A_10),$K$17,(IF($B$39<(A_12),$K$18,(IF($B$39<(A_15),$K$19,(IF($B$39<(A_17),$K$20,(IF($B$39<(A_20),$K$21,(IF($B$39>(A_20),$K$22,$K$22)))))))))))))","v":117.31500000000001},{"$f":"IF($B$37<(A_5+1),$L$16,(IF($B$39<(A_10),$L$17,(IF($B$39<(A_12),$L$18,(IF($B$39<(A_15),$L$19,(IF($B$39<(A_17),$L$20,(IF($B$39<(A_20),$L$21,(IF($B$39>(A_20),$L$22,$L$22)))))))))))))","v":297.435},null,"RAC2",{"$f":"+'4007ES(Addr)'!$L$39","v":0},{"$f":"IF($B$37<(A_5+1),$D$4,(IF($B$37<(A_10),$D$5,(IF($B$37<(A_12),$D$6,(IF($B$37<(A_15),$D$7,(IF($B$37<(A_17),$D$8,(IF($B$37<(A_20),$D$9,(IF($B$37>(A_20),$D$10,$D$10)))))))))))))","v":23},{"$f":"IF($B$37<(A_5+1),$F$4,(IF($B$37<(A_10),$F$5,(IF($B$37<(A_12),$F$6,(IF($B$37<(A_15),$F$7,(IF($B$37<(A_17),$F$8,(IF($B$37<(A_20),$F$9,(IF($B$37>(A_20),$F$10,$F$10)))))))))))))","v":36},{"$f":"IF($B$37<(A_5+1),$H$4,(IF($B$37<(A_10),$H$5,(IF($B$37<(A_12),$H$6,(IF($B$37<(A_15),$H$7,(IF($B$37<(A_17),$H$8,(IF($B$37<(A_20),$H$9,(IF($B$37>(A_20),$H$10,$H$10)))))))))))))","v":57},{"$f":"IF($B$37<(A_5+1),$J$4,(IF($B$39<(A_10),$J$5,(IF($B$39<(A_12),$J$6,(IF($B$39<(A_15),$J$7,(IF($B$39<(A_17),$J$8,(IF($B$39<(A_20),$J$9,(IF($B$39>(A_20),$J$10,$J$10)))))))))))))","v":91},{"$f":"IF($B$37<(A_5+1),$K$4,(IF($B$39<(A_10),$K$5,(IF($B$39<(A_12),$K$6,(IF($B$39<(A_15),$K$7,(IF($B$39<(A_17),$K$8,(IF($B$39<(A_20),$K$9,(IF($B$39>(A_20),$K$10,$K$10)))))))))))))","v":34.957500000000003},{"$f":"IF($B$37<(A_5+1),$L$4,(IF($B$39<(A_10),$L$5,(IF($B$39<(A_12),$L$6,(IF($B$39<(A_15),$L$7,(IF($B$39<(A_17),$L$8,(IF($B$39<(A_20),$L$9,(IF($B$39>(A_20),$L$10,$L$10)))))))))))))","v":87.69}]
["RAC3",{"$f":"+'4007ES(Addr)'!$M$39","v":0},{"$f":"IF($B$38<(A_5+1),$D$16,(IF($B$38<(A_10),$D$17,(IF($B$38<(A_12),$D$18,(IF($B$38<(A_15),$D$19,(IF($B$38<(A_17),$D$20,(IF($B$38<(A_20),$D$21,(IF($B$38>(A_20),$D$22,$D$22)))))))))))))","v":76},{"$f":"IF($B$38<(A_5+1),$F$16,(IF($B$38<(A_10),$F$17,(IF($B$38<(A_12),$F$18,(IF($B$38<(A_15),$F$19,(IF($B$38<(A_17),$F$20,(IF($B$38<(A_20),$F$21,(IF($B$38>(A_20),$F$22,$F$22)))))))))))))","v":122},{"$f":"IF($B$38<(A_5+1),$H$16,(IF($B$38<(A_10),$H$17,(IF($B$38<(A_12),$H$18,(IF($B$38<(A_15),$H$19,(IF($B$38<(A_17),$H$20,(IF($B$38<(A_20),$H$21,(IF($B$38>(A_20),$H$22,$H$22)))))))))))))","v":194},{"$f":"IF($B$38<(A_5+1),$J$16,(IF($B$39<(A_10),$J$17,(IF($B$39<(A_12),$J$18,(IF($B$39<(A_15),$J$19,(IF($B$39<(A_17),$J$20,(IF($B$39<(A_20),$J$21,(IF($B$39>(A_20),$J$22,$J$22)))))))))))))","v":308},{"$f":"IF($B$38<(A_5+1),$K$16,(IF($B$39<(A_10),$K$17,(IF($B$39<(A_12),$K$18,(IF($B$39<(A_15),$K$19,(IF($B$39<(A_17),$K$20,(IF($B$39<(A_20),$K$21,(IF($B$39>(A_20),$K$22,$K$22)))))))))))))","v":117.31500000000001},{"$f":"IF($B$38<(A_5+1),$L$16,(IF($B$39<(A_10),$L$17,(IF($B$39<(A_12),$L$18,(IF($B$39<(A_15),$L$19,(IF($B$39<(A_17),$L$20,(IF($B$39<(A_20),$L$21,(IF($B$39>(A_20),$L$22,$L$22)))))))))))))","v":297.435},null,"RAC3",{"$f":"+'4007ES(Addr)'!$M$39","v":0},{"$f":"IF($B$38<(A_5+1),$D$4,(IF($B$38<(A_10),$D$5,(IF($B$38<(A_12),$D$6,(IF($B$38<(A_15),$D$7,(IF($B$38<(A_17),$D$8,(IF($B$38<(A_20),$D$9,(IF($B$38>(A_20),$D$10,$D$10)))))))))))))","v":23},{"$f":"IF($B$38<(A_5+1),$F$4,(IF($B$38<(A_10),$F$5,(IF($B$38<(A_12),$F$6,(IF($B$38<(A_15),$F$7,(IF($B$38<(A_17),$F$8,(IF($B$38<(A_20),$F$9,(IF($B$38>(A_20),$F$10,$F$10)))))))))))))","v":36},{"$f":"IF($B$38<(A_5+1),$H$4,(IF($B$38<(A_10),$H$5,(IF($B$38<(A_12),$H$6,(IF($B$38<(A_15),$H$7,(IF($B$38<(A_17),$H$8,(IF($B$38<(A_20),$H$9,(IF($B$38>(A_20),$H$10,$H$10)))))))))))))","v":57},{"$f":"IF($B$38<(A_5+1),$J$4,(IF($B$39<(A_10),$J$5,(IF($B$39<(A_12),$J$6,(IF($B$39<(A_15),$J$7,(IF($B$39<(A_17),$J$8,(IF($B$39<(A_20),$J$9,(IF($B$39>(A_20),$J$10,$J$10)))))))))))))","v":91},{"$f":"IF($B$38<(A_5+1),$K$4,(IF($B$39<(A_10),$K$5,(IF($B$39<(A_12),$K$6,(IF($B$39<(A_15),$K$7,(IF($B$39<(A_17),$K$8,(IF($B$39<(A_20),$K$9,(IF($B$39>(A_20),$K$10,$K$10)))))))))))))","v":34.957500000000003},{"$f":"IF($B$38<(A_5+1),$L$4,(IF($B$39<(A_10),$L$5,(IF($B$39<(A_12),$L$6,(IF($B$39<(A_15),$L$7,(IF($B$39<(A_17),$L$8,(IF($B$39<(A_20),$L$9,(IF($B$39>(A_20),$L$10,$L$10)))))))))))))","v":87.69}]
["RAC4",{"$f":"+'4007ES(Addr)'!$N$39","v":0},{"$f":"IF($B$39<(A_5+1),$D$16,(IF($B$39<(A_10),$D$17,(IF($B$39<(A_12),$D$18,(IF($B$39<(A_15),$D$19,(IF($B$39<(A_17),$D$20,(IF($B$39<(A_20),$D$21,(IF($B$39>(A_20),$D$22,$D$22)))))))))))))","v":76},{"$f":"IF($B$39<(A_5+1),$F$16,(IF($B$39<(A_10),$F$17,(IF($B$39<(A_12),$F$18,(IF($B$39<(A_15),$F$19,(IF($B$39<(A_17),$F$20,(IF($B$39<(A_20),$F$21,(IF($B$39>(A_20),$F$22,$F$22)))))))))))))","v":122},{"$f":"IF($B$39<(A_5+1),$H$16,(IF($B$39<(A_10),$H$17,(IF($B$39<(A_12),$H$18,(IF($B$39<(A_15),$H$19,(IF($B$39<(A_17),$H$20,(IF($B$39<(A_20),$H$21,(IF($B$39>(A_20),$H$22,$H$22)))))))))))))","v":194},{"$f":"IF($B$39<(A_5+1),$J$16,(IF($B$39<(A_10),$J$17,(IF($B$39<(A_12),$J$18,(IF($B$39<(A_15),$J$19,(IF($B$39<(A_17),$J$20,(IF($B$39<(A_20),$J$21,(IF($B$39>(A_20),$J$22,$J$22)))))))))))))","v":308},{"$f":"IF($B$39<(A_5+1),$K$16,(IF($B$39<(A_10),$K$17,(IF($B$39<(A_12),$K$18,(IF($B$39<(A_15),$K$19,(IF($B$39<(A_17),$K$20,(IF($B$39<(A_20),$K$21,(IF($B$39>(A_20),$K$22,$K$22)))))))))))))","v":117.31500000000001},{"$f":"IF($B$39<(A_5+1),$L$16,(IF($B$39<(A_10),$L$17,(IF($B$39<(A_12),$L$18,(IF($B$39<(A_15),$L$19,(IF($B$39<(A_17),$L$20,(IF($B$39<(A_20),$L$21,(IF($B$39>(A_20),$L$22,$L$22)))))))))))))","v":297.435},null,"RAC4",{"$f":"+'4007ES(Addr)'!$N$39","v":0},{"$f":"IF($B$39<(A_5+1),$D$4,(IF($B$39<(A_10),$D$5,(IF($B$39<(A_12),$D$6,(IF($B$39<(A_15),$D$7,(IF($B$39<(A_17),$D$8,(IF($B$39<(A_20),$D$9,(IF($B$39>(A_20),$D$10,$D$10)))))))))))))","v":23},{"$f":"IF($B$39<(A_5+1),$F$4,(IF($B$39<(A_10),$F$5,(IF($B$39<(A_12),$F$6,(IF($B$39<(A_15),$F$7,(IF($B$39<(A_17),$F$8,(IF($B$39<(A_20),$F$9,(IF($B$39>(A_20),$F$10,$F$10)))))))))))))","v":36},{"$f":"IF($B$39<(A_5+1),$H$4,(IF($B$39<(A_10),$H$5,(IF($B$39<(A_12),$H$6,(IF($B$39<(A_15),$H$7,(IF($B$39<(A_17),$H$8,(IF($B$39<(A_20),$H$9,(IF($B$39>(A_20),$H$10,$H$10)))))))))))))","v":57},{"$f":"IF($B$39<(A_5+1),$J$4,(IF($B$39<(A_10),$J$5,(IF($B$39<(A_12),$J$6,(IF($B$39<(A_15),$J$7,(IF($B$39<(A_17),$J$8,(IF($B$39<(A_20),$J$9,(IF($B$39>(A_20),$J$10,$J$10)))))))))))))","v":91},{"$f":"IF($B$39<(A_5+1),$K$4,(IF($B$39<(A_10),$K$5,(IF($B$39<(A_12),$K$6,(IF($B$39<(A_15),$K$7,(IF($B$39<(A_17),$K$8,(IF($B$39<(A_20),$K$9,(IF($B$39>(A_20),$K$10,$K$10)))))))))))))","v":34.957500000000003},{"$f":"IF($B$39<(A_5+1),$L$4,(IF($B$39<(A_10),$L$5,(IF($B$39<(A_12),$L$6,(IF($B$39<(A_15),$L$7,(IF($B$39<(A_17),$L$8,(IF($B$39<(A_20),$L$9,(IF($B$39>(A_20),$L$10,$L$10)))))))))))))","v":87.69}]
["RAC5",{"$f":"+'4007ES(Addr)'!$O$39","v":0},{"$f":"IF($B$40<(A_5+1),$D$16,(IF($B$40<(A_10),$D$17,(IF($B$40<(A_12),$D$18,(IF($B$40<(A_15),$D$19,(IF($B$40<(A_17),$D$20,(IF($B$40<(A_20),$D$21,(IF($B$40>(A_20),$D$22,$D$22)))))))))))))","v":76},{"$f":"IF($B$40<(A_5+1),$F$16,(IF($B$40<(A_10),$F$17,(IF($B$40<(A_12),$F$18,(IF($B$40<(A_15),$F$19,(IF($B$40<(A_17),$F$20,(IF($B$40<(A_20),$F$21,(IF($B$40>(A_20),$F$22,$F$22)))))))))))))","v":122},{"$f":"IF($B$40<(A_5+1),$H$16,(IF($B$40<(A_10),$H$17,(IF($B$40<(A_12),$H$18,(IF($B$40<(A_15),$H$19,(IF($B$40<(A_17),$H$20,(IF($B$40<(A_20),$H$21,(IF($B$40>(A_20),$H$22,$H$22)))))))))))))","v":194},{"$f":"IF($B$40<(A_5+1),$J$16,(IF($B$39<(A_10),$J$17,(IF($B$39<(A_12),$J$18,(IF($B$39<(A_15),$J$19,(IF($B$39<(A_17),$J$20,(IF($B$39<(A_20),$J$21,(IF($B$39>(A_20),$J$22,$J$22)))))))))))))","v":308},{"$f":"IF($B$40<(A_5+1),$K$16,(IF($B$39<(A_10),$K$17,(IF($B$39<(A_12),$K$18,(IF($B$39<(A_15),$K$19,(IF($B$39<(A_17),$K$20,(IF($B$39<(A_20),$K$21,(IF($B$39>(A_20),$K$22,$K$22)))))))))))))","v":117.31500000000001},{"$f":"IF($B$40<(A_5+1),$L$16,(IF($B$39<(A_10),$L$17,(IF($B$39<(A_12),$L$18,(IF($B$39<(A_15),$L$19,(IF($B$39<(A_17),$L$20,(IF($B$39<(A_20),$L$21,(IF($B$39>(A_20),$L$22,$L$22)))))))))))))","v":297.435},null,"RAC5",{"$f":"+'4007ES(Addr)'!$O$39","v":0},{"$f":"IF($B$40<(A_5+1),$D$4,(IF($B$40<(A_10),$D$5,(IF($B$40<(A_12),$D$6,(IF($B$40<(A_15),$D$7,(IF($B$40<(A_17),$D$8,(IF($B$40<(A_20),$D$9,(IF($B$40>(A_20),$D$10,$D$10)))))))))))))","v":23},{"$f":"IF($B$40<(A_5+1),$F$4,(IF($B$40<(A_10),$F$5,(IF($B$40<(A_12),$F$6,(IF($B$40<(A_15),$F$7,(IF($B$40<(A_17),$F$8,(IF($B$40<(A_20),$F$9,(IF($B$40>(A_20),$F$10,$F$10)))))))))))))","v":36},{"$f":"IF($B$40<(A_5+1),$H$4,(IF($B$40<(A_10),$H$5,(IF($B$40<(A_12),$H$6,(IF($B$40<(A_15),$H$7,(IF($B$40<(A_17),$H$8,(IF($B$40<(A_20),$H$9,(IF($B$40>(A_20),$H$10,$H$10)))))))))))))","v":57},{"$f":"IF($B$40<(A_5+1),$J$4,(IF($B$39<(A_10),$J$5,(IF($B$39<(A_12),$J$6,(IF($B$39<(A_15),$J$7,(IF($B$39<(A_17),$J$8,(IF($B$39<(A_20),$J$9,(IF($B$39>(A_20),$J$10,$J$10)))))))))))))","v":91},{"$f":"IF($B$40<(A_5+1),$K$4,(IF($B$39<(A_10),$K$5,(IF($B$39<(A_12),$K$6,(IF($B$39<(A_15),$K$7,(IF($B$39<(A_17),$K$8,(IF($B$39<(A_20),$K$9,(IF($B$39>(A_20),$K$10,$K$10)))))))))))))","v":34.957500000000003},{"$f":"IF($B$40<(A_5+1),$L$4,(IF($B$39<(A_10),$L$5,(IF($B$39<(A_12),$L$6,(IF($B$39<(A_15),$L$7,(IF($B$39<(A_17),$L$8,(IF($B$39<(A_20),$L$9,(IF($B$39>(A_20),$L$10,$L$10)))))))))))))","v":87.69}]
["RAC6",{"$f":"+'4007ES(Addr)'!$P$39","v":0},{"$f":"IF($B$41<(A_5+1),$D$16,(IF($B$41<(A_10),$D$17,(IF($B$41<(A_12),$D$18,(IF($B$41<(A_15),$D$19,(IF($B$41<(A_17),$D$20,(IF($B$41<(A_20),$D$21,(IF($B$41>(A_20),$D$22,$D$22)))))))))))))","v":76},{"$f":"IF($B$41<(A_5+1),$F$16,(IF($B$41<(A_10),$F$17,(IF($B$41<(A_12),$F$18,(IF($B$41<(A_15),$F$19,(IF($B$41<(A_17),$F$20,(IF($B$41<(A_20),$F$21,(IF($B$41>(A_20),$F$22,$F$22)))))))))))))","v":122},{"$f":"IF($B$41<(A_5+1),$H$16,(IF($B$41<(A_10),$H$17,(IF($B$41<(A_12),$H$18,(IF($B$41<(A_15),$H$19,(IF($B$41<(A_17),$H$20,(IF($B$41<(A_20),$H$21,(IF($B$41>(A_20),$H$22,$H$22)))))))))))))","v":194},{"$f":"IF($B$41<(A_5+1),$J$16,(IF($B$39<(A_10),$J$17,(IF($B$39<(A_12),$J$18,(IF($B$39<(A_15),$J$19,(IF($B$39<(A_17),$J$20,(IF($B$39<(A_20),$J$21,(IF($B$39>(A_20),$J$22,$J$22)))))))))))))","v":308},{"$f":"IF($B$41<(A_5+1),$K$16,(IF($B$39<(A_10),$K$17,(IF($B$39<(A_12),$K$18,(IF($B$39<(A_15),$K$19,(IF($B$39<(A_17),$K$20,(IF($B$39<(A_20),$K$21,(IF($B$39>(A_20),$K$22,$K$22)))))))))))))","v":117.31500000000001},{"$f":"IF($B$41<(A_5+1),$L$16,(IF($B$39<(A_10),$L$17,(IF($B$39<(A_12),$L$18,(IF($B$39<(A_15),$L$19,(IF($B$39<(A_17),$L$20,(IF($B$39<(A_20),$L$21,(IF($B$39>(A_20),$L$22,$L$22)))))))))))))","v":297.435},null,"RAC6",{"$f":"+'4007ES(Addr)'!$P$39","v":0},{"$f":"IF($B$41<(A_5+1),$D$4,(IF($B$41<(A_10),$D$5,(IF($B$41<(A_12),$D$6,(IF($B$41<(A_15),$D$7,(IF($B$41<(A_17),$D$8,(IF($B$41<(A_20),$D$9,(IF($B$41>(A_20),$D$10,$D$10)))))))))))))","v":23},{"$f":"IF($B$41<(A_5+1),$F$4,(IF($B$41<(A_10),$F$5,(IF($B$41<(A_12),$F$6,(IF($B$41<(A_15),$F$7,(IF($B$41<(A_17),$F$8,(IF($B$41<(A_20),$F$9,(IF($B$41>(A_20),$F$10,$F$10)))))))))))))","v":36},{"$f":"IF($B$41<(A_5+1),$H$4,(IF($B$41<(A_10),$H$5,(IF($B$41<(A_12),$H$6,(IF($B$41<(A_15),$H$7,(IF($B$41<(A_17),$H$8,(IF($B$41<(A_20),$H$9,(IF($B$41>(A_20),$H$10,$H$10)))))))))))))","v":57},{"$f":"IF($B$41<(A_5+1),$J$4,(IF($B$39<(A_10),$J$5,(IF($B$39<(A_12),$J$6,(IF($B$39<(A_15),$J$7,(IF($B$39<(A_17),$J$8,(IF($B$39<(A_20),$J$9,(IF($B$39>(A_20),$J$10,$J$10)))))))))))))","v":91},{"$f":"IF($B$41<(A_5+1),$K$4,(IF($B$39<(A_10),$K$5,(IF($B$39<(A_12),$K$6,(IF($B$39<(A_15),$K$7,(IF($B$39<(A_17),$K$8,(IF($B$39<(A_20),$K$9,(IF($B$39>(A_20),$K$10,$K$10)))))))))))))","v":34.957500000000003},{"$f":"IF($B$41<(A_5+1),$L$4,(IF($B$39<(A_10),$L$5,(IF($B$39<(A_12),$L$6,(IF($B$39<(A_15),$L$7,(IF($B$39<(A_17),$L$8,(IF($B$39<(A_20),$L$9,(IF($B$39>(A_20),$L$10,$L$10)))))))))))))","v":87.69}]
["RAC7",{"$f":"+'4007ES(Addr)'!$Q$39","v":0},{"$f":"IF($B$42<(A_5+1),$D$16,(IF($B$42<(A_10),$D$17,(IF($B$42<(A_12),$D$18,(IF($B$42<(A_15),$D$19,(IF($B$42<(A_17),$D$20,(IF($B$42<(A_20),$D$21,(IF($B$42>(A_20),$D$22,$D$22)))))))))))))","v":76},{"$f":"IF($B$42<(A_5+1),$F$16,(IF($B$42<(A_10),$F$17,(IF($B$42<(A_12),$F$18,(IF($B$42<(A_15),$F$19,(IF($B$42<(A_17),$F$20,(IF($B$42<(A_20),$F$21,(IF($B$42>(A_20),$F$22,$F$22)))))))))))))","v":122},{"$f":"IF($B$42<(A_5+1),$H$16,(IF($B$42<(A_10),$H$17,(IF($B$42<(A_12),$H$18,(IF($B$42<(A_15),$H$19,(IF($B$42<(A_17),$H$20,(IF($B$42<(A_20),$H$21,(IF($B$42>(A_20),$H$22,$H$22)))))))))))))","v":194},{"$f":"IF($B$42<(A_5+1),$J$16,(IF($B$39<(A_10),$J$17,(IF($B$39<(A_12),$J$18,(IF($B$39<(A_15),$J$19,(IF($B$39<(A_17),$J$20,(IF($B$39<(A_20),$J$21,(IF($B$39>(A_20),$J$22,$J$22)))))))))))))","v":308},{"$f":"IF($B$42<(A_5+1),$K$16,(IF($B$39<(A_10),$K$17,(IF($B$39<(A_12),$K$18,(IF($B$39<(A_15),$K$19,(IF($B$39<(A_17),$K$20,(IF($B$39<(A_20),$K$21,(IF($B$39>(A_20),$K$22,$K$22)))))))))))))","v":117.31500000000001},{"$f":"IF($B$42<(A_5+1),$L$16,(IF($B$39<(A_10),$L$17,(IF($B$39<(A_12),$L$18,(IF($B$39<(A_15),$L$19,(IF($B$39<(A_17),$L$20,(IF($B$39<(A_20),$L$21,(IF($B$39>(A_20),$L$22,$L$22)))))))))))))","v":297.435},null,"RAC7",{"$f":"+'4007ES(Addr)'!$Q$39","v":0},{"$f":"IF($B$42<(A_5+1),$D$4,(IF($B$42<(A_10),$D$5,(IF($B$42<(A_12),$D$6,(IF($B$42<(A_15),$D$7,(IF($B$42<(A_17),$D$8,(IF($B$42<(A_20),$D$9,(IF($B$42>(A_20),$D$10,$D$10)))))))))))))","v":23},{"$f":"IF($B$42<(A_5+1),$F$4,(IF($B$42<(A_10),$F$5,(IF($B$42<(A_12),$F$6,(IF($B$42<(A_15),$F$7,(IF($B$42<(A_17),$F$8,(IF($B$42<(A_20),$F$9,(IF($B$42>(A_20),$F$10,$F$10)))))))))))))","v":36},{"$f":"IF($B$42<(A_5+1),$H$4,(IF($B$42<(A_10),$H$5,(IF($B$42<(A_12),$H$6,(IF($B$42<(A_15),$H$7,(IF($B$42<(A_17),$H$8,(IF($B$42<(A_20),$H$9,(IF($B$42>(A_20),$H$10,$H$10)))))))))))))","v":57},{"$f":"IF($B$42<(A_5+1),$J$4,(IF($B$39<(A_10),$J$5,(IF($B$39<(A_12),$J$6,(IF($B$39<(A_15),$J$7,(IF($B$39<(A_17),$J$8,(IF($B$39<(A_20),$J$9,(IF($B$39>(A_20),$J$10,$J$10)))))))))))))","v":91},{"$f":"IF($B$42<(A_5+1),$K$4,(IF($B$39<(A_10),$K$5,(IF($B$39<(A_12),$K$6,(IF($B$39<(A_15),$K$7,(IF($B$39<(A_17),$K$8,(IF($B$39<(A_20),$K$9,(IF($B$39>(A_20),$K$10,$K$10)))))))))))))","v":34.957500000000003},{"$f":"IF($B$42<(A_5+1),$L$4,(IF($B$39<(A_10),$L$5,(IF($B$39<(A_12),$L$6,(IF($B$39<(A_15),$L$7,(IF($B$39<(A_17),$L$8,(IF($B$39<(A_20),$L$9,(IF($B$39>(A_20),$L$10,$L$10)))))))))))))","v":87.69}]
["RAC8",{"$f":"+'4007ES(Addr)'!$R$39","v":0},{"$f":"IF($B$43<(A_5+1),$D$16,(IF($B$43<(A_10),$D$17,(IF($B$43<(A_12),$D$18,(IF($B$43<(A_15),$D$19,(IF($B$43<(A_17),$D$20,(IF($B$43<(A_20),$D$21,(IF($B$43>(A_20),$D$22,$D$22)))))))))))))","v":76},{"$f":"IF($B$43<(A_5+1),$F$16,(IF($B$43<(A_10),$F$17,(IF($B$43<(A_12),$F$18,(IF($B$43<(A_15),$F$19,(IF($B$43<(A_17),$F$20,(IF($B$43<(A_20),$F$21,(IF($B$43>(A_20),$F$22,$F$22)))))))))))))","v":122},{"$f":"IF($B$43<(A_5+1),$H$16,(IF($B$43<(A_10),$H$17,(IF($B$43<(A_12),$H$18,(IF($B$43<(A_15),$H$19,(IF($B$43<(A_17),$H$20,(IF($B$43<(A_20),$H$21,(IF($B$43>(A_20),$H$22,$H$22)))))))))))))","v":194},{"$f":"IF($B$43<(A_5+1),$J$16,(IF($B$39<(A_10),$J$17,(IF($B$39<(A_12),$J$18,(IF($B$39<(A_15),$J$19,(IF($B$39<(A_17),$J$20,(IF($B$39<(A_20),$J$21,(IF($B$39>(A_20),$J$22,$J$22)))))))))))))","v":308},{"$f":"IF($B43<(A_5+1),$K$16,(IF($B$39<(A_10),$K$17,(IF($B$39<(A_12),$K$18,(IF($B$39<(A_15),$K$19,(IF($B$39<(A_17),$K$20,(IF($B$39<(A_20),$K$21,(IF($B$39>(A_20),$K$22,$K$22)))))))))))))","v":117.31500000000001},{"$f":"IF($B43<(A_5+1),$L$16,(IF($B$39<(A_10),$L$17,(IF($B$39<(A_12),$L$18,(IF($B$39<(A_15),$L$19,(IF($B$39<(A_17),$L$20,(IF($B$39<(A_20),$L$21,(IF($B$39>(A_20),$L$22,$L$22)))))))))))))","v":297.435},null,"RAC8",{"$f":"+'4007ES(Addr)'!$R$39","v":0},{"$f":"IF($B$43<(A_5+1),$D$4,(IF($B$43<(A_10),$D$5,(IF($B$43<(A_12),$D$6,(IF($B$43<(A_15),$D$7,(IF($B$43<(A_17),$D$8,(IF($B$43<(A_20),$D$9,(IF($B$43>(A_20),$D$10,$D$10)))))))))))))","v":23},{"$f":"IF($B$43<(A_5+1),$F$4,(IF($B$43<(A_10),$F$5,(IF($B$43<(A_12),$F$6,(IF($B$43<(A_15),$F$7,(IF($B$43<(A_17),$F$8,(IF($B$43<(A_20),$F$9,(IF($B$43>(A_20),$F$10,$F$10)))))))))))))","v":36},{"$f":"IF($B$43<(A_5+1),$H$4,(IF($B$43<(A_10),$H$5,(IF($B$43<(A_12),$H$6,(IF($B$43<(A_15),$H$7,(IF($B$43<(A_17),$H$8,(IF($B$43<(A_20),$H$9,(IF($B$43>(A_20),$H$10,$H$10)))))))))))))","v":57},{"$f":"IF($B$43<(A_5+1),$J$4,(IF($B$39<(A_10),$J$5,(IF($B$39<(A_12),$J$6,(IF($B$39<(A_15),$J$7,(IF($B$39<(A_17),$J$8,(IF($B$39<(A_20),$J$9,(IF($B$39>(A_20),$J$10,$J$10)))))))))))))","v":91},{"$f":"IF($B43<(A_5+1),$K$4,(IF($B$39<(A_10),$K$5,(IF($B$39<(A_12),$K$6,(IF($B$39<(A_15),$K$7,(IF($B$39<(A_17),$K$8,(IF($B$39<(A_20),$K$9,(IF($B$39>(A_20),$K$10,$K$10)))))))))))))","v":34.957500000000003},{"$f":"IF($B43<(A_5+1),$L$4,(IF($B$39<(A_10),$L$5,(IF($B$39<(A_12),$L$6,(IF($B$39<(A_15),$L$7,(IF($B$39<(A_17),$L$8,(IF($B$39<(A_20),$L$9,(IF($B$39>(A_20),$L$10,$L$10)))))))))))))","v":87.69}]
["RAC9",{"$f":"+'4007ES(Addr)'!$S$39","v":0},{"$f":"IF($B$44<(A_5+1),$D$16,(IF($B$44<(A_10),$D$17,(IF($B$44<(A_12),$D$18,(IF($B$44<(A_15),$D$19,(IF($B$44<(A_17),$D$20,(IF($B$44<(A_20),$D$21,(IF($B$44>(A_20),$D$22,$D$22)))))))))))))","v":76},{"$f":"IF($B$44<(A_5+1),$F$16,(IF($B$44<(A_10),$F$17,(IF($B$44<(A_12),$F$18,(IF($B$44<(A_15),$F$19,(IF($B$44<(A_17),$F$20,(IF($B$44<(A_20),$F$21,(IF($B$44>(A_20),$F$22,$F$22)))))))))))))","v":122},{"$f":"IF($B$44<(A_5+1),$H$16,(IF($B$44<(A_10),$H$17,(IF($B$44<(A_12),$H$18,(IF($B$44<(A_15),$H$19,(IF($B$44<(A_17),$H$20,(IF($B$44<(A_20),$H$21,(IF($B$44>(A_20),$H$22,$H$22)))))))))))))","v":194},{"$f":"IF($B$44<(A_5+1),$J$16,(IF($B$39<(A_10),$J$17,(IF($B$39<(A_12),$J$18,(IF($B$39<(A_15),$J$19,(IF($B$39<(A_17),$J$20,(IF($B$39<(A_20),$J$21,(IF($B$39>(A_20),$J$22,$J$22)))))))))))))","v":308},{"$f":"IF($B$44<(A_5+1),$K$16,(IF($B$39<(A_10),$K$17,(IF($B$39<(A_12),$K$18,(IF($B$39<(A_15),$K$19,(IF($B$39<(A_17),$K$20,(IF($B$39<(A_20),$K$21,(IF($B$39>(A_20),$K$22,$K$22)))))))))))))","v":117.31500000000001},{"$f":"IF($B$44<(A_5+1),$L$16,(IF($B$39<(A_10),$L$17,(IF($B$39<(A_12),$L$18,(IF($B$39<(A_15),$L$19,(IF($B$39<(A_17),$L$20,(IF($B$39<(A_20),$L$21,(IF($B$39>(A_20),$L$22,$L$22)))))))))))))","v":297.435},null,"RAC9",{"$f":"+'4007ES(Addr)'!$S$39","v":0},{"$f":"IF($B$44<(A_5+1),$D$4,(IF($B$44<(A_10),$D$5,(IF($B$44<(A_12),$D$6,(IF($B$44<(A_15),$D$7,(IF($B$44<(A_17),$D$8,(IF($B$44<(A_20),$D$9,(IF($B$44>(A_20),$D$10,$D$10)))))))))))))","v":23},{"$f":"IF($B$44<(A_5+1),$F$4,(IF($B$44<(A_10),$F$5,(IF($B$44<(A_12),$F$6,(IF($B$44<(A_15),$F$7,(IF($B$44<(A_17),$F$8,(IF($B$44<(A_20),$F$9,(IF($B$44>(A_20),$F$10,$F$10)))))))))))))","v":36},{"$f":"IF($B$44<(A_5+1),$H$4,(IF($B$44<(A_10),$H$5,(IF($B$44<(A_12),$H$6,(IF($B$44<(A_15),$H$7,(IF($B$44<(A_17),$H$8,(IF($B$44<(A_20),$H$9,(IF($B$44>(A_20),$H$10,$H$10)))))))))))))","v":57},{"$f":"IF($B$44<(A_5+1),$J$4,(IF($B$39<(A_10),$J$5,(IF($B$39<(A_12),$J$6,(IF($B$39<(A_15),$J$7,(IF($B$39<(A_17),$J$8,(IF($B$39<(A_20),$J$9,(IF($B$39>(A_20),$J$10,$J$10)))))))))))))","v":91},{"$f":"IF($B$44<(A_5+1),$K$4,(IF($B$39<(A_10),$K$5,(IF($B$39<(A_12),$K$6,(IF($B$39<(A_15),$K$7,(IF($B$39<(A_17),$K$8,(IF($B$39<(A_20),$K$9,(IF($B$39>(A_20),$K$10,$K$10)))))))))))))","v":34.957500000000003},{"$f":"IF($B$44<(A_5+1),$L$4,(IF($B$39<(A_10),$L$5,(IF($B$39<(A_12),$L$6,(IF($B$39<(A_15),$L$7,(IF($B$39<(A_17),$L$8,(IF($B$39<(A_20),$L$9,(IF($B$39>(A_20),$L$10,$L$10)))))))))))))","v":87.69}]
["RAC10",{"$f":"+'4007ES(Addr)'!$T$39","v":0},{"$f":"IF($B$45<(A_5+1),$D$16,(IF($B$45<(A_10),$D$17,(IF($B$45<(A_12),$D$18,(IF($B$45<(A_15),$D$19,(IF($B$45<(A_17),$D$20,(IF($B$45<(A_20),$D$21,(IF($B$45>(A_20),$D$22,$D$22)))))))))))))","v":76},{"$f":"IF($B$45<(A_5+1),$F$16,(IF($B$45<(A_10),$F$17,(IF($B$45<(A_12),$F$18,(IF($B$45<(A_15),$F$19,(IF($B$45<(A_17),$F$20,(IF($B$45<(A_20),$F$21,(IF($B$45>(A_20),$F$22,$F$22)))))))))))))","v":122},{"$f":"IF($B$45<(A_5+1),$H$16,(IF($B$45<(A_10),$H$17,(IF($B$45<(A_12),$H$18,(IF($B$45<(A_15),$H$19,(IF($B$45<(A_17),$H$20,(IF($B$45<(A_20),$H$21,(IF($B$45>(A_20),$H$22,$H$22)))))))))))))","v":194},{"$f":"IF($B$45<(A_5+1),$J$16,(IF($B$39<(A_10),$J$17,(IF($B$39<(A_12),$J$18,(IF($B$39<(A_15),$J$19,(IF($B$39<(A_17),$J$20,(IF($B$39<(A_20),$J$21,(IF($B$39>(A_20),$J$22,$J$22)))))))))))))","v":308},{"$f":"IF($B$45<(A_5+1),$K$16,(IF($B$39<(A_10),$K$17,(IF($B$39<(A_12),$K$18,(IF($B$39<(A_15),$K$19,(IF($B$39<(A_17),$K$20,(IF($B$39<(A_20),$K$21,(IF($B$39>(A_20),$K$22,$K$22)))))))))))))","v":117.31500000000001},{"$f":"IF($B$45<(A_5+1),$L$16,(IF($B$39<(A_10),$L$17,(IF($B$39<(A_12),$L$18,(IF($B$39<(A_15),$L$19,(IF($B$39<(A_17),$L$20,(IF($B$39<(A_20),$L$21,(IF($B$39>(A_20),$L$22,$L$22)))))))))))))","v":297.435},null,"RAC10",{"$f":"+'4007ES(Addr)'!$T$39","v":0},{"$f":"IF($B$45<(A_5+1),$D$4,(IF($B$45<(A_10),$D$5,(IF($B$45<(A_12),$D$6,(IF($B$45<(A_15),$D$7,(IF($B$45<(A_17),$D$8,(IF($B$45<(A_20),$D$9,(IF($B$45>(A_20),$D$10,$D$10)))))))))))))","v":23},{"$f":"IF($B$45<(A_5+1),$F$4,(IF($B$45<(A_10),$F$5,(IF($B$45<(A_12),$F$6,(IF($B$45<(A_15),$F$7,(IF($B$45<(A_17),$F$8,(IF($B$45<(A_20),$F$9,(IF($B$45>(A_20),$F$10,$F$10)))))))))))))","v":36},{"$f":"IF($B$45<(A_5+1),$H$4,(IF($B$45<(A_10),$H$5,(IF($B$45<(A_12),$H$6,(IF($B$45<(A_15),$H$7,(IF($B$45<(A_17),$H$8,(IF($B$45<(A_20),$H$9,(IF($B$45>(A_20),$H$10,$H$10)))))))))))))","v":57},{"$f":"IF($B$45<(A_5+1),$J$4,(IF($B$39<(A_10),$J$5,(IF($B$39<(A_12),$J$6,(IF($B$39<(A_15),$J$7,(IF($B$39<(A_17),$J$8,(IF($B$39<(A_20),$J$9,(IF($B$39>(A_20),$J$10,$J$10)))))))))))))","v":91},{"$f":"IF($B$45<(A_5+1),$K$4,(IF($B$39<(A_10),$K$5,(IF($B$39<(A_12),$K$6,(IF($B$39<(A_15),$K$7,(IF($B$39<(A_17),$K$8,(IF($B$39<(A_20),$K$9,(IF($B$39>(A_20),$K$10,$K$10)))))))))))))","v":34.957500000000003},{"$f":"IF($B$45<(A_5+1),$L$4,(IF($B$39<(A_10),$L$5,(IF($B$39<(A_12),$L$6,(IF($B$39<(A_15),$L$7,(IF($B$39<(A_17),$L$8,(IF($B$39<(A_20),$L$9,(IF($B$39>(A_20),$L$10,$L$10)))))))))))))","v":87.69}]
["RAC11",{"$f":"+'4007ES(Addr)'!$U$39","v":0},{"$f":"IF($B$46<(A_5+1),$D$16,(IF($B$46<(A_10),$D$17,(IF($B$46<(A_12),$D$18,(IF($B$46<(A_15),$D$19,(IF($B$46<(A_17),$D$20,(IF($B$46<(A_20),$D$21,(IF($B$46>(A_20),$D$22,$D$22)))))))))))))","v":76},{"$f":"IF($B$46<(A_5+1),$F$16,(IF($B$46<(A_10),$F$17,(IF($B$46<(A_12),$F$18,(IF($B$46<(A_15),$F$19,(IF($B$46<(A_17),$F$20,(IF($B$46<(A_20),$F$21,(IF($B$46>(A_20),$F$22,$F$22)))))))))))))","v":122},{"$f":"IF($B$46<(A_5+1),$H$16,(IF($B$46<(A_10),$H$17,(IF($B$46<(A_12),$H$18,(IF($B$46<(A_15),$H$19,(IF($B$46<(A_17),$H$20,(IF($B$46<(A_20),$H$21,(IF($B$46>(A_20),$H$22,$H$22)))))))))))))","v":194},{"$f":"IF($B$46<(A_5+1),$J$16,(IF($B$39<(A_10),$J$17,(IF($B$39<(A_12),$J$18,(IF($B$39<(A_15),$J$19,(IF($B$39<(A_17),$J$20,(IF($B$39<(A_20),$J$21,(IF($B$39>(A_20),$J$22,$J$22)))))))))))))","v":308},{"$f":"IF($B$46<(A_5+1),$K$16,(IF($B$39<(A_10),$K$17,(IF($B$39<(A_12),$K$18,(IF($B$39<(A_15),$K$19,(IF($B$39<(A_17),$K$20,(IF($B$39<(A_20),$K$21,(IF($B$39>(A_20),$K$22,$K$22)))))))))))))","v":117.31500000000001},{"$f":"IF($B$46<(A_5+1),$L$16,(IF($B$39<(A_10),$L$17,(IF($B$39<(A_12),$L$18,(IF($B$39<(A_15),$L$19,(IF($B$39<(A_17),$L$20,(IF($B$39<(A_20),$L$21,(IF($B$39>(A_20),$L$22,$L$22)))))))))))))","v":297.435},null,"RAC11",{"$f":"+'4007ES(Addr)'!$U$39","v":0},{"$f":"IF($B$46<(A_5+1),$D$4,(IF($B$46<(A_10),$D$5,(IF($B$46<(A_12),$D$6,(IF($B$46<(A_15),$D$7,(IF($B$46<(A_17),$D$8,(IF($B$46<(A_20),$D$9,(IF($B$46>(A_20),$D$10,$D$10)))))))))))))","v":23},{"$f":"IF($B$46<(A_5+1),$F$4,(IF($B$46<(A_10),$F$5,(IF($B$46<(A_12),$F$6,(IF($B$46<(A_15),$F$7,(IF($B$46<(A_17),$F$8,(IF($B$46<(A_20),$F$9,(IF($B$46>(A_20),$F$10,$F$10)))))))))))))","v":36},{"$f":"IF($B$46<(A_5+1),$H$4,(IF($B$46<(A_10),$H$5,(IF($B$46<(A_12),$H$6,(IF($B$46<(A_15),$H$7,(IF($B$46<(A_17),$H$8,(IF($B$46<(A_20),$H$9,(IF($B$46>(A_20),$H$10,$H$10)))))))))))))","v":57},{"$f":"IF($B$46<(A_5+1),$J$4,(IF($B$39<(A_10),$J$5,(IF($B$39<(A_12),$J$6,(IF($B$39<(A_15),$J$7,(IF($B$39<(A_17),$J$8,(IF($B$39<(A_20),$J$9,(IF($B$39>(A_20),$J$10,$J$10)))))))))))))","v":91},{"$f":"IF($B$46<(A_5+1),$K$4,(IF($B$39<(A_10),$K$5,(IF($B$39<(A_12),$K$6,(IF($B$39<(A_15),$K$7,(IF($B$39<(A_17),$K$8,(IF($B$39<(A_20),$K$9,(IF($B$39>(A_20),$K$10,$K$10)))))))))))))","v":34.957500000000003},{"$f":"IF($B$46<(A_5+1),$L$4,(IF($B$39<(A_10),$L$5,(IF($B$39<(A_12),$L$6,(IF($B$39<(A_15),$L$7,(IF($B$39<(A_17),$L$8,(IF($B$39<(A_20),$L$9,(IF($B$39>(A_20),$L$10,$L$10)))))))))))))","v":87.69}]
["RAC12",{"$f":"+'4007ES(Addr)'!$V$39","v":0},{"$f":"IF($B$47<(A_5+1),$D$16,(IF($B$47<(A_10),$D$17,(IF($B$47<(A_12),$D$18,(IF($B$47<(A_15),$D$19,(IF($B$47<(A_17),$D$20,(IF($B$47<(A_20),$D$21,(IF($B$47>(A_20),$D$22,$D$22)))))))))))))","v":76},{"$f":"IF($B$47<(A_5+1),$F$16,(IF($B$47<(A_10),$F$17,(IF($B$47<(A_12),$F$18,(IF($B$47<(A_15),$F$19,(IF($B$47<(A_17),$F$20,(IF($B$47<(A_20),$F$21,(IF($B$47>(A_20),$F$22,$F$22)))))))))))))","v":122},{"$f":"IF($B$47<(A_5+1),$H$16,(IF($B$47<(A_10),$H$17,(IF($B$47<(A_12),$H$18,(IF($B$47<(A_15),$H$19,(IF($B$47<(A_17),$H$20,(IF($B$47<(A_20),$H$21,(IF($B$47>(A_20),$H$22,$H$22)))))))))))))","v":194},{"$f":"IF($B$47<(A_5+1),$J$16,(IF($B$39<(A_10),$J$17,(IF($B$39<(A_12),$J$18,(IF($B$39<(A_15),$J$19,(IF($B$39<(A_17),$J$20,(IF($B$39<(A_20),$J$21,(IF($B$39>(A_20),$J$22,$J$22)))))))))))))","v":308},{"$f":"IF($B$47<(A_5+1),$K$16,(IF($B$39<(A_10),$K$17,(IF($B$39<(A_12),$K$18,(IF($B$39<(A_15),$K$19,(IF($B$39<(A_17),$K$20,(IF($B$39<(A_20),$K$21,(IF($B$39>(A_20),$K$22,$K$22)))))))))))))","v":117.31500000000001},{"$f":"IF($B$47<(A_5+1),$L$16,(IF($B$39<(A_10),$L$17,(IF($B$39<(A_12),$L$18,(IF($B$39<(A_15),$L$19,(IF($B$39<(A_17),$L$20,(IF($B$39<(A_20),$L$21,(IF($B$39>(A_20),$L$22,$L$22)))))))))))))","v":297.435},null,"RAC12",{"$f":"+'4007ES(Addr)'!$V$39","v":0},{"$f":"IF($B$47<(A_5+1),$D$4,(IF($B$47<(A_10),$D$5,(IF($B$47<(A_12),$D$6,(IF($B$47<(A_15),$D$7,(IF($B$47<(A_17),$D$8,(IF($B$47<(A_20),$D$9,(IF($B$47>(A_20),$D$10,$D$10)))))))))))))","v":23},{"$f":"IF($B$47<(A_5+1),$F$4,(IF($B$47<(A_10),$F$5,(IF($B$47<(A_12),$F$6,(IF($B$47<(A_15),$F$7,(IF($B$47<(A_17),$F$8,(IF($B$47<(A_20),$F$9,(IF($B$47>(A_20),$F$10,$F$10)))))))))))))","v":36},{"$f":"IF($B$47<(A_5+1),$H$4,(IF($B$47<(A_10),$H$5,(IF($B$47<(A_12),$H$6,(IF($B$47<(A_15),$H$7,(IF($B$47<(A_17),$H$8,(IF($B$47<(A_20),$H$9,(IF($B$47>(A_20),$H$10,$H$10)))))))))))))","v":57},{"$f":"IF($B$47<(A_5+1),$J$4,(IF($B$39<(A_10),$J$5,(IF($B$39<(A_12),$J$6,(IF($B$39<(A_15),$J$7,(IF($B$39<(A_17),$J$8,(IF($B$39<(A_20),$J$9,(IF($B$39>(A_20),$J$10,$J$10)))))))))))))","v":91},{"$f":"IF($B$47<(A_5+1),$K$4,(IF($B$39<(A_10),$K$5,(IF($B$39<(A_12),$K$6,(IF($B$39<(A_15),$K$7,(IF($B$39<(A_17),$K$8,(IF($B$39<(A_20),$K$9,(IF($B$39>(A_20),$K$10,$K$10)))))))))))))","v":34.957500000000003},{"$f":"IF($B$47<(A_5+1),$L$4,(IF($B$39<(A_10),$L$5,(IF($B$39<(A_12),$L$6,(IF($B$39<(A_15),$L$7,(IF($B$39<(A_17),$L$8,(IF($B$39<(A_20),$L$9,(IF($B$39>(A_20),$L$10,$L$10)))))))))))))","v":87.69}]
["RAC13",{"$f":"+'4007ES(Addr)'!$W$39","v":0},{"$f":"IF($B$48<(A_5+1),$D$16,(IF($B$48<(A_10),$D$17,(IF($B$48<(A_12),$D$18,(IF($B$48<(A_15),$D$19,(IF($B$48<(A_17),$D$20,(IF($B$48<(A_20),$D$21,(IF($B$48>(A_20),$D$22,$D$22)))))))))))))","v":76},{"$f":"IF($B$48<(A_5+1),$F$16,(IF($B$48<(A_10),$F$17,(IF($B$48<(A_12),$F$18,(IF($B$48<(A_15),$F$19,(IF($B$48<(A_17),$F$20,(IF($B$48<(A_20),$F$21,(IF($B$48>(A_20),$F$22,$F$22)))))))))))))","v":122},{"$f":"IF($B$48<(A_5+1),$H$16,(IF($B$48<(A_10),$H$17,(IF($B$48<(A_12),$H$18,(IF($B$48<(A_15),$H$19,(IF($B$48<(A_17),$H$20,(IF($B$48<(A_20),$H$21,(IF($B$48>(A_20),$H$22,$H$22)))))))))))))","v":194},{"$f":"IF($B$48<(A_5+1),$J$16,(IF($B$39<(A_10),$J$17,(IF($B$39<(A_12),$J$18,(IF($B$39<(A_15),$J$19,(IF($B$39<(A_17),$J$20,(IF($B$39<(A_20),$J$21,(IF($B$39>(A_20),$J$22,$J$22)))))))))))))","v":308},{"$f":"IF($B$48<(A_5+1),$K$16,(IF($B$39<(A_10),$K$17,(IF($B$39<(A_12),$K$18,(IF($B$39<(A_15),$K$19,(IF($B$39<(A_17),$K$20,(IF($B$39<(A_20),$K$21,(IF($B$39>(A_20),$K$22,$K$22)))))))))))))","v":117.31500000000001},{"$f":"IF($B$48<(A_5+1),$L$16,(IF($B$39<(A_10),$L$17,(IF($B$39<(A_12),$L$18,(IF($B$39<(A_15),$L$19,(IF($B$39<(A_17),$L$20,(IF($B$39<(A_20),$L$21,(IF($B$39>(A_20),$L$22,$L$22)))))))))))))","v":297.435},null,"RAC13",{"$f":"+'4007ES(Addr)'!$W$39","v":0},{"$f":"IF($B$48<(A_5+1),$D$4,(IF($B$48<(A_10),$D$5,(IF($B$48<(A_12),$D$6,(IF($B$48<(A_15),$D$7,(IF($B$48<(A_17),$D$8,(IF($B$48<(A_20),$D$9,(IF($B$48>(A_20),$D$10,$D$10)))))))))))))","v":23},{"$f":"IF($B$48<(A_5+1),$F$4,(IF($B$48<(A_10),$F$5,(IF($B$48<(A_12),$F$6,(IF($B$48<(A_15),$F$7,(IF($B$48<(A_17),$F$8,(IF($B$48<(A_20),$F$9,(IF($B$48>(A_20),$F$10,$F$10)))))))))))))","v":36},{"$f":"IF($B$48<(A_5+1),$H$4,(IF($B$48<(A_10),$H$5,(IF($B$48<(A_12),$H$6,(IF($B$48<(A_15),$H$7,(IF($B$48<(A_17),$H$8,(IF($B$48<(A_20),$H$9,(IF($B$48>(A_20),$H$10,$H$10)))))))))))))","v":57},{"$f":"IF($B$48<(A_5+1),$J$4,(IF($B$39<(A_10),$J$5,(IF($B$39<(A_12),$J$6,(IF($B$39<(A_15),$J$7,(IF($B$39<(A_17),$J$8,(IF($B$39<(A_20),$J$9,(IF($B$39>(A_20),$J$10,$J$10)))))))))))))","v":91},{"$f":"IF($B$48<(A_5+1),$K$4,(IF($B$39<(A_10),$K$5,(IF($B$39<(A_12),$K$6,(IF($B$39<(A_15),$K$7,(IF($B$39<(A_17),$K$8,(IF($B$39<(A_20),$K$9,(IF($B$39>(A_20),$K$10,$K$10)))))))))))))","v":34.957500000000003},{"$f":"IF($B$48<(A_5+1),$L$4,(IF($B$39<(A_10),$L$5,(IF($B$39<(A_12),$L$6,(IF($B$39<(A_15),$L$7,(IF($B$39<(A_17),$L$8,(IF($B$39<(A_20),$L$9,(IF($B$39>(A_20),$L$10,$L$10)))))))))))))","v":87.69}]
["RAC14",{"$f":"+'4007ES(Addr)'!$X$39","v":0},{"$f":"IF($B$49<(A_5+1),$D$16,(IF($B$49<(A_10),$D$17,(IF($B$49<(A_12),$D$18,(IF($B$49<(A_15),$D$19,(IF($B$49<(A_17),$D$20,(IF($B$49<(A_20),$D$21,(IF($B$49>(A_20),$D$22,$D$22)))))))))))))","v":76},{"$f":"IF($B$49<(A_5+1),$F$16,(IF($B$49<(A_10),$F$17,(IF($B$49<(A_12),$F$18,(IF($B$49<(A_15),$F$19,(IF($B$49<(A_17),$F$20,(IF($B$49<(A_20),$F$21,(IF($B$49>(A_20),$F$22,$F$22)))))))))))))","v":122},{"$f":"IF($B$49<(A_5+1),$H$16,(IF($B$49<(A_10),$H$17,(IF($B$49<(A_12),$H$18,(IF($B$49<(A_15),$H$19,(IF($B$49<(A_17),$H$20,(IF($B$49<(A_20),$H$21,(IF($B$49>(A_20),$H$22,$H$22)))))))))))))","v":194},{"$f":"IF($B$49<(A_5+1),$J$16,(IF($B$39<(A_10),$J$17,(IF($B$39<(A_12),$J$18,(IF($B$39<(A_15),$J$19,(IF($B$39<(A_17),$J$20,(IF($B$39<(A_20),$J$21,(IF($B$39>(A_20),$J$22,$J$22)))))))))))))","v":308},{"$f":"IF($B$49<(A_5+1),$K$16,(IF($B$39<(A_10),$K$17,(IF($B$39<(A_12),$K$18,(IF($B$39<(A_15),$K$19,(IF($B$39<(A_17),$K$20,(IF($B$39<(A_20),$K$21,(IF($B$39>(A_20),$K$22,$K$22)))))))))))))","v":117.31500000000001},{"$f":"IF($B$49<(A_5+1),$L$16,(IF($B$39<(A_10),$L$17,(IF($B$39<(A_12),$L$18,(IF($B$39<(A_15),$L$19,(IF($B$39<(A_17),$L$20,(IF($B$39<(A_20),$L$21,(IF($B$39>(A_20),$L$22,$L$22)))))))))))))","v":297.435},null,"RAC14",{"$f":"+'4007ES(Addr)'!$X$39","v":0},{"$f":"IF($B$49<(A_5+1),$D$4,(IF($B$49<(A_10),$D$5,(IF($B$49<(A_12),$D$6,(IF($B$49<(A_15),$D$7,(IF($B$49<(A_17),$D$8,(IF($B$49<(A_20),$D$9,(IF($B$49>(A_20),$D$10,$D$10)))))))))))))","v":23},{"$f":"IF($B$49<(A_5+1),$F$4,(IF($B$49<(A_10),$F$5,(IF($B$49<(A_12),$F$6,(IF($B$49<(A_15),$F$7,(IF($B$49<(A_17),$F$8,(IF($B$49<(A_20),$F$9,(IF($B$49>(A_20),$F$10,$F$10)))))))))))))","v":36},{"$f":"IF($B$49<(A_5+1),$H$4,(IF($B$49<(A_10),$H$5,(IF($B$49<(A_12),$H$6,(IF($B$49<(A_15),$H$7,(IF($B$49<(A_17),$H$8,(IF($B$49<(A_20),$H$9,(IF($B$49>(A_20),$H$10,$H$10)))))))))))))","v":57},{"$f":"IF($B$49<(A_5+1),$J$4,(IF($B$39<(A_10),$J$5,(IF($B$39<(A_12),$J$6,(IF($B$39<(A_15),$J$7,(IF($B$39<(A_17),$J$8,(IF($B$39<(A_20),$J$9,(IF($B$39>(A_20),$J$10,$J$10)))))))))))))","v":91},{"$f":"IF($B$49<(A_5+1),$K$4,(IF($B$39<(A_10),$K$5,(IF($B$39<(A_12),$K$6,(IF($B$39<(A_15),$K$7,(IF($B$39<(A_17),$K$8,(IF($B$39<(A_20),$K$9,(IF($B$39>(A_20),$K$10,$K$10)))))))))))))","v":34.957500000000003},{"$f":"IF($B$49<(A_5+1),$L$4,(IF($B$39<(A_10),$L$5,(IF($B$39<(A_12),$L$6,(IF($B$39<(A_15),$L$7,(IF($B$39<(A_17),$L$8,(IF($B$39<(A_20),$L$9,(IF($B$39>(A_20),$L$10,$L$10)))))))))))))","v":87.69}]
["RAC15",{"$f":"+'4007ES(Addr)'!$Y$39","v":0},{"$f":"IF($B$50<(A_5+1),$D$16,(IF($B$50<(A_10),$D$17,(IF($B$50<(A_12),$D$18,(IF($B$50<(A_15),$D$19,(IF($B$50<(A_17),$D$20,(IF($B$50<(A_20),$D$21,(IF($B$50>(A_20),$D$22,$D$22)))))))))))))","v":76},{"$f":"IF($B$50<(A_5+1),$F$16,(IF($B$50<(A_10),$F$17,(IF($B$50<(A_12),$F$18,(IF($B$50<(A_15),$F$19,(IF($B$50<(A_17),$F$20,(IF($B$50<(A_20),$F$21,(IF($B$50>(A_20),$F$22,$F$22)))))))))))))","v":122},{"$f":"IF($B$50<(A_5+1),$H$16,(IF($B$50<(A_10),$H$17,(IF($B$50<(A_12),$H$18,(IF($B$50<(A_15),$H$19,(IF($B$50<(A_17),$H$20,(IF($B$50<(A_20),$H$21,(IF($B$50>(A_20),$H$22,$H$22)))))))))))))","v":194},{"$f":"IF($B$50<(A_5+1),$J$16,(IF($B$39<(A_10),$J$17,(IF($B$39<(A_12),$J$18,(IF($B$39<(A_15),$J$19,(IF($B$39<(A_17),$J$20,(IF($B$39<(A_20),$J$21,(IF($B$39>(A_20),$J$22,$J$22)))))))))))))","v":308},{"$f":"IF($B$50<(A_5+1),$K$16,(IF($B$39<(A_10),$K$17,(IF($B$39<(A_12),$K$18,(IF($B$39<(A_15),$K$19,(IF($B$39<(A_17),$K$20,(IF($B$39<(A_20),$K$21,(IF($B$39>(A_20),$K$22,$K$22)))))))))))))","v":117.31500000000001},{"$f":"IF($B$50<(A_5+1),$L$16,(IF($B$39<(A_10),$L$17,(IF($B$39<(A_12),$L$18,(IF($B$39<(A_15),$L$19,(IF($B$39<(A_17),$L$20,(IF($B$39<(A_20),$L$21,(IF($B$39>(A_20),$L$22,$L$22)))))))))))))","v":297.435},null,"RAC15",{"$f":"+'4007ES(Addr)'!$Y$39","v":0},{"$f":"IF($B$50<(A_5+1),$D$4,(IF($B$50<(A_10),$D$5,(IF($B$50<(A_12),$D$6,(IF($B$50<(A_15),$D$7,(IF($B$50<(A_17),$D$8,(IF($B$50<(A_20),$D$9,(IF($B$50>(A_20),$D$10,$D$10)))))))))))))","v":23},{"$f":"IF($B$50<(A_5+1),$F$4,(IF($B$50<(A_10),$F$5,(IF($B$50<(A_12),$F$6,(IF($B$50<(A_15),$F$7,(IF($B$50<(A_17),$F$8,(IF($B$50<(A_20),$F$9,(IF($B$50>(A_20),$F$10,$F$10)))))))))))))","v":36},{"$f":"IF($B$50<(A_5+1),$H$4,(IF($B$50<(A_10),$H$5,(IF($B$50<(A_12),$H$6,(IF($B$50<(A_15),$H$7,(IF($B$50<(A_17),$H$8,(IF($B$50<(A_20),$H$9,(IF($B$50>(A_20),$H$10,$H$10)))))))))))))","v":57},{"$f":"IF($B$50<(A_5+1),$J$4,(IF($B$39<(A_10),$J$5,(IF($B$39<(A_12),$J$6,(IF($B$39<(A_15),$J$7,(IF($B$39<(A_17),$J$8,(IF($B$39<(A_20),$J$9,(IF($B$39>(A_20),$J$10,$J$10)))))))))))))","v":91},{"$f":"IF($B$50<(A_5+1),$K$4,(IF($B$39<(A_10),$K$5,(IF($B$39<(A_12),$K$6,(IF($B$39<(A_15),$K$7,(IF($B$39<(A_17),$K$8,(IF($B$39<(A_20),$K$9,(IF($B$39>(A_20),$K$10,$K$10)))))))))))))","v":34.957500000000003},{"$f":"IF($B$50<(A_5+1),$L$4,(IF($B$39<(A_10),$L$5,(IF($B$39<(A_12),$L$6,(IF($B$39<(A_15),$L$7,(IF($B$39<(A_17),$L$8,(IF($B$39<(A_20),$L$9,(IF($B$39>(A_20),$L$10,$L$10)))))))))))))","v":87.69}]
["RAC16",{"$f":"+'4007ES(Addr)'!$Z$39","v":0},{"$f":"IF($B$51<(A_5+1),$D$16,(IF($B$51<(A_10),$D$17,(IF($B$51<(A_12),$D$18,(IF($B$51<(A_15),$D$19,(IF($B$51<(A_17),$D$20,(IF($B$51<(A_20),$D$21,(IF($B$51>(A_20),$D$22,$D$22)))))))))))))","v":76},{"$f":"IF($B$51<(A_5+1),$F$16,(IF($B$51<(A_10),$F$17,(IF($B$51<(A_12),$F$18,(IF($B$51<(A_15),$F$19,(IF($B$51<(A_17),$F$20,(IF($B$51<(A_20),$F$21,(IF($B$51>(A_20),$F$22,$F$22)))))))))))))","v":122},{"$f":"IF($B$51<(A_5+1),$H$16,(IF($B$51<(A_10),$H$17,(IF($B$51<(A_12),$H$18,(IF($B$51<(A_15),$H$19,(IF($B$51<(A_17),$H$20,(IF($B$51<(A_20),$H$21,(IF($B$51>(A_20),$H$22,$H$22)))))))))))))","v":194},{"$f":"IF($B$51<(A_5+1),$J$16,(IF($B$39<(A_10),$J$17,(IF($B$39<(A_12),$J$18,(IF($B$39<(A_15),$J$19,(IF($B$39<(A_17),$J$20,(IF($B$39<(A_20),$J$21,(IF($B$39>(A_20),$J$22,$J$22)))))))))))))","v":308},{"$f":"IF($B$51<(A_5+1),$K$16,(IF($B$39<(A_10),$K$17,(IF($B$39<(A_12),$K$18,(IF($B$39<(A_15),$K$19,(IF($B$39<(A_17),$K$20,(IF($B$39<(A_20),$K$21,(IF($B$39>(A_20),$K$22,$K$22)))))))))))))","v":117.31500000000001},{"$f":"IF($B$51<(A_5+1),$L$16,(IF($B$39<(A_10),$L$17,(IF($B$39<(A_12),$L$18,(IF($B$39<(A_15),$L$19,(IF($B$39<(A_17),$L$20,(IF($B$39<(A_20),$L$21,(IF($B$39>(A_20),$L$22,$L$22)))))))))))))","v":297.435},null,"RAC16",{"$f":"+'4007ES(Addr)'!$Z$39","v":0},{"$f":"IF($B$51<(A_5+1),$D$4,(IF($B$51<(A_10),$D$5,(IF($B$51<(A_12),$D$6,(IF($B$51<(A_15),$D$7,(IF($B$51<(A_17),$D$8,(IF($B$51<(A_20),$D$9,(IF($B$51>(A_20),$D$10,$D$10)))))))))))))","v":23},{"$f":"IF($B$51<(A_5+1),$F$4,(IF($B$51<(A_10),$F$5,(IF($B$51<(A_12),$F$6,(IF($B$51<(A_15),$F$7,(IF($B$51<(A_17),$F$8,(IF($B$51<(A_20),$F$9,(IF($B$51>(A_20),$F$10,$F$10)))))))))))))","v":36},{"$f":"IF($B$51<(A_5+1),$H$4,(IF($B$51<(A_10),$H$5,(IF($B$51<(A_12),$H$6,(IF($B$51<(A_15),$H$7,(IF($B$51<(A_17),$H$8,(IF($B$51<(A_20),$H$9,(IF($B$51>(A_20),$H$10,$H$10)))))))))))))","v":57},{"$f":"IF($B$51<(A_5+1),$J$4,(IF($B$39<(A_10),$J$5,(IF($B$39<(A_12),$J$6,(IF($B$39<(A_15),$J$7,(IF($B$39<(A_17),$J$8,(IF($B$39<(A_20),$J$9,(IF($B$39>(A_20),$J$10,$J$10)))))))))))))","v":91},{"$f":"IF($B$51<(A_5+1),$K$4,(IF($B$39<(A_10),$K$5,(IF($B$39<(A_12),$K$6,(IF($B$39<(A_15),$K$7,(IF($B$39<(A_17),$K$8,(IF($B$39<(A_20),$K$9,(IF($B$39>(A_20),$K$10,$K$10)))))))))))))","v":34.957500000000003},{"$f":"IF($B$51<(A_5+1),$L$4,(IF($B$39<(A_10),$L$5,(IF($B$39<(A_12),$L$6,(IF($B$39<(A_15),$L$7,(IF($B$39<(A_17),$L$8,(IF($B$39<(A_20),$L$9,(IF($B$39>(A_20),$L$10,$L$10)))))))))))))","v":87.69}]
["RAC17",{"$f":"+'4007ES(Addr)'!$AA$39","v":0},{"$f":"IF($B$52<(A_5+1),$D$16,(IF($B$52<(A_10),$D$17,(IF($B$52<(A_12),$D$18,(IF($B$52<(A_15),$D$19,(IF($B$52<(A_17),$D$20,(IF($B$52<(A_20),$D$21,(IF($B$52>(A_20),$D$22,$D$22)))))))))))))","v":76},{"$f":"IF($B$52<(A_5+1),$F$16,(IF($B$52<(A_10),$F$17,(IF($B$52<(A_12),$F$18,(IF($B$52<(A_15),$F$19,(IF($B$52<(A_17),$F$20,(IF($B$52<(A_20),$F$21,(IF($B$52>(A_20),$F$22,$F$22)))))))))))))","v":122},{"$f":"IF($B$52<(A_5+1),$H$16,(IF($B$52<(A_10),$H$17,(IF($B$52<(A_12),$H$18,(IF($B$52<(A_15),$H$19,(IF($B$52<(A_17),$H$20,(IF($B$52<(A_20),$H$21,(IF($B$52>(A_20),$H$22,$H$22)))))))))))))","v":194},{"$f":"IF($B$52<(A_5+1),$J$16,(IF($B$39<(A_10),$J$17,(IF($B$39<(A_12),$J$18,(IF($B$39<(A_15),$J$19,(IF($B$39<(A_17),$J$20,(IF($B$39<(A_20),$J$21,(IF($B$39>(A_20),$J$22,$J$22)))))))))))))","v":308},{"$f":"IF($B$52<(A_5+1),$K$16,(IF($B$39<(A_10),$K$17,(IF($B$39<(A_12),$K$18,(IF($B$39<(A_15),$K$19,(IF($B$39<(A_17),$K$20,(IF($B$39<(A_20),$K$21,(IF($B$39>(A_20),$K$22,$K$22)))))))))))))","v":117.31500000000001},{"$f":"IF($B$52<(A_5+1),$L$16,(IF($B$39<(A_10),$L$17,(IF($B$39<(A_12),$L$18,(IF($B$39<(A_15),$L$19,(IF($B$39<(A_17),$L$20,(IF($B$39<(A_20),$L$21,(IF($B$39>(A_20),$L$22,$L$22)))))))))))))","v":297.435},null,"RAC17",{"$f":"+'4007ES(Addr)'!$AA$39","v":0},{"$f":"IF($B$52<(A_5+1),$D$4,(IF($B$52<(A_10),$D$5,(IF($B$52<(A_12),$D$6,(IF($B$52<(A_15),$D$7,(IF($B$52<(A_17),$D$8,(IF($B$52<(A_20),$D$9,(IF($B$52>(A_20),$D$10,$D$10)))))))))))))","v":23},{"$f":"IF($B$52<(A_5+1),$F$4,(IF($B$52<(A_10),$F$5,(IF($B$52<(A_12),$F$6,(IF($B$52<(A_15),$F$7,(IF($B$52<(A_17),$F$8,(IF($B$52<(A_20),$F$9,(IF($B$52>(A_20),$F$10,$F$10)))))))))))))","v":36},{"$f":"IF($B$52<(A_5+1),$H$4,(IF($B$52<(A_10),$H$5,(IF($B$52<(A_12),$H$6,(IF($B$52<(A_15),$H$7,(IF($B$52<(A_17),$H$8,(IF($B$52<(A_20),$H$9,(IF($B$52>(A_20),$H$10,$H$10)))))))))))))","v":57},{"$f":"IF($B$52<(A_5+1),$J$4,(IF($B$39<(A_10),$J$5,(IF($B$39<(A_12),$J$6,(IF($B$39<(A_15),$J$7,(IF($B$39<(A_17),$J$8,(IF($B$39<(A_20),$J$9,(IF($B$39>(A_20),$J$10,$J$10)))))))))))))","v":91},{"$f":"IF($B$52<(A_5+1),$K$4,(IF($B$39<(A_10),$K$5,(IF($B$39<(A_12),$K$6,(IF($B$39<(A_15),$K$7,(IF($B$39<(A_17),$K$8,(IF($B$39<(A_20),$K$9,(IF($B$39>(A_20),$K$10,$K$10)))))))))))))","v":34.957500000000003},{"$f":"IF($B$52<(A_5+1),$L$4,(IF($B$39<(A_10),$L$5,(IF($B$39<(A_12),$L$6,(IF($B$39<(A_15),$L$7,(IF($B$39<(A_17),$L$8,(IF($B$39<(A_20),$L$9,(IF($B$39>(A_20),$L$10,$L$10)))))))))))))","v":87.69}]
["RAC18",{"$f":"+'4007ES(Addr)'!$AB$39","v":0},{"$f":"IF($B$53<(A_5+1),$D$16,(IF($B$53<(A_10),$D$17,(IF($B$53<(A_12),$D$18,(IF($B$53<(A_15),$D$19,(IF($B$53<(A_17),$D$20,(IF($B$53<(A_20),$D$21,(IF($B$53>(A_20),$D$22,$D$22)))))))))))))","v":76},{"$f":"IF($B$53<(A_5+1),$F$16,(IF($B$53<(A_10),$F$17,(IF($B$53<(A_12),$F$18,(IF($B$53<(A_15),$F$19,(IF($B$53<(A_17),$F$20,(IF($B$53<(A_20),$F$21,(IF($B$53>(A_20),$F$22,$F$22)))))))))))))","v":122},{"$f":"IF($B$53<(A_5+1),$H$16,(IF($B$53<(A_10),$H$17,(IF($B$53<(A_12),$H$18,(IF($B$53<(A_15),$H$19,(IF($B$53<(A_17),$H$20,(IF($B$53<(A_20),$H$21,(IF($B$53>(A_20),$H$22,$H$22)))))))))))))","v":194},{"$f":"IF($B$53<(A_5+1),$J$16,(IF($B$39<(A_10),$J$17,(IF($B$39<(A_12),$J$18,(IF($B$39<(A_15),$J$19,(IF($B$39<(A_17),$J$20,(IF($B$39<(A_20),$J$21,(IF($B$39>(A_20),$J$22,$J$22)))))))))))))","v":308},{"$f":"IF($B$53<(A_5+1),$K$16,(IF($B$39<(A_10),$K$17,(IF($B$39<(A_12),$K$18,(IF($B$39<(A_15),$K$19,(IF($B$39<(A_17),$K$20,(IF($B$39<(A_20),$K$21,(IF($B$39>(A_20),$K$22,$K$22)))))))))))))","v":117.31500000000001},{"$f":"IF($B$53<(A_5+1),$L$16,(IF($B$39<(A_10),$L$17,(IF($B$39<(A_12),$L$18,(IF($B$39<(A_15),$L$19,(IF($B$39<(A_17),$L$20,(IF($B$39<(A_20),$L$21,(IF($B$39>(A_20),$L$22,$L$22)))))))))))))","v":297.435},null,"RAC18",{"$f":"+'4007ES(Addr)'!$AB$39","v":0},{"$f":"IF($B$53<(A_5+1),$D$4,(IF($B$53<(A_10),$D$5,(IF($B$53<(A_12),$D$6,(IF($B$53<(A_15),$D$7,(IF($B$53<(A_17),$D$8,(IF($B$53<(A_20),$D$9,(IF($B$53>(A_20),$D$10,$D$10)))))))))))))","v":23},{"$f":"IF($B$53<(A_5+1),$F$4,(IF($B$53<(A_10),$F$5,(IF($B$53<(A_12),$F$6,(IF($B$53<(A_15),$F$7,(IF($B$53<(A_17),$F$8,(IF($B$53<(A_20),$F$9,(IF($B$53>(A_20),$F$10,$F$10)))))))))))))","v":36},{"$f":"IF($B$53<(A_5+1),$H$4,(IF($B$53<(A_10),$H$5,(IF($B$53<(A_12),$H$6,(IF($B$53<(A_15),$H$7,(IF($B$53<(A_17),$H$8,(IF($B$53<(A_20),$H$9,(IF($B$53>(A_20),$H$10,$H$10)))))))))))))","v":57},{"$f":"IF($B$53<(A_5+1),$J$4,(IF($B$39<(A_10),$J$5,(IF($B$39<(A_12),$J$6,(IF($B$39<(A_15),$J$7,(IF($B$39<(A_17),$J$8,(IF($B$39<(A_20),$J$9,(IF($B$39>(A_20),$J$10,$J$10)))))))))))))","v":91},{"$f":"IF($B$53<(A_5+1),$K$4,(IF($B$39<(A_10),$K$5,(IF($B$39<(A_12),$K$6,(IF($B$39<(A_15),$K$7,(IF($B$39<(A_17),$K$8,(IF($B$39<(A_20),$K$9,(IF($B$39>(A_20),$K$10,$K$10)))))))))))))","v":34.957500000000003},{"$f":"IF($B$53<(A_5+1),$L$4,(IF($B$39<(A_10),$L$5,(IF($B$39<(A_12),$L$6,(IF($B$39<(A_15),$L$7,(IF($B$39<(A_17),$L$8,(IF($B$39<(A_20),$L$9,(IF($B$39>(A_20),$L$10,$L$10)))))))))))))","v":87.69}]
["RAC19",{"$f":"+'4007ES(Addr)'!$AC39","v":0},{"$f":"IF($B$54<(A_5+1),$D$16,(IF($B$54<(A_10),$D$17,(IF($B$54<(A_12),$D$18,(IF($B$54<(A_15),$D$19,(IF($B$54<(A_17),$D$20,(IF($B$54<(A_20),$D$21,(IF($B$54>(A_20),$D$22,$D$22)))))))))))))","v":76},{"$f":"IF($B$54<(A_5+1),$F$16,(IF($B$54<(A_10),$F$17,(IF($B$54<(A_12),$F$18,(IF($B$54<(A_15),$F$19,(IF($B$54<(A_17),$F$20,(IF($B$54<(A_20),$F$21,(IF($B$54>(A_20),$F$22,$F$22)))))))))))))","v":122},{"$f":"IF($B$54<(A_5+1),$H$16,(IF($B$54<(A_10),$H$17,(IF($B$54<(A_12),$H$18,(IF($B$54<(A_15),$H$19,(IF($B$54<(A_17),$H$20,(IF($B$54<(A_20),$H$21,(IF($B$54>(A_20),$H$22,$H$22)))))))))))))","v":194},{"$f":"IF($B$54<(A_5+1),$J$16,(IF($B$39<(A_10),$J$17,(IF($B$39<(A_12),$J$18,(IF($B$39<(A_15),$J$19,(IF($B$39<(A_17),$J$20,(IF($B$39<(A_20),$J$21,(IF($B$39>(A_20),$J$22,$J$22)))))))))))))","v":308},{"$f":"IF($B$54<(A_5+1),$K$16,(IF($B$39<(A_10),$K$17,(IF($B$39<(A_12),$K$18,(IF($B$39<(A_15),$K$19,(IF($B$39<(A_17),$K$20,(IF($B$39<(A_20),$K$21,(IF($B$39>(A_20),$K$22,$K$22)))))))))))))","v":117.31500000000001},{"$f":"IF($B$54<(A_5+1),$L$16,(IF($B$39<(A_10),$L$17,(IF($B$39<(A_12),$L$18,(IF($B$39<(A_15),$L$19,(IF($B$39<(A_17),$L$20,(IF($B$39<(A_20),$L$21,(IF($B$39>(A_20),$L$22,$L$22)))))))))))))","v":297.435},null,"RAC19",{"$f":"+'4007ES(Addr)'!$AC39","v":0},{"$f":"IF($B$54<(A_5+1),$D$4,(IF($B$54<(A_10),$D$5,(IF($B$54<(A_12),$D$6,(IF($B$54<(A_15),$D$7,(IF($B$54<(A_17),$D$8,(IF($B$54<(A_20),$D$9,(IF($B$54>(A_20),$D$10,$D$10)))))))))))))","v":23},{"$f":"IF($B$54<(A_5+1),$F$4,(IF($B$54<(A_10),$F$5,(IF($B$54<(A_12),$F$6,(IF($B$54<(A_15),$F$7,(IF($B$54<(A_17),$F$8,(IF($B$54<(A_20),$F$9,(IF($B$54>(A_20),$F$10,$F$10)))))))))))))","v":36},{"$f":"IF($B$54<(A_5+1),$H$4,(IF($B$54<(A_10),$H$5,(IF($B$54<(A_12),$H$6,(IF($B$54<(A_15),$H$7,(IF($B$54<(A_17),$H$8,(IF($B$54<(A_20),$H$9,(IF($B$54>(A_20),$H$10,$H$10)))))))))))))","v":57},{"$f":"IF($B$54<(A_5+1),$J$4,(IF($B$39<(A_10),$J$5,(IF($B$39<(A_12),$J$6,(IF($B$39<(A_15),$J$7,(IF($B$39<(A_17),$J$8,(IF($B$39<(A_20),$J$9,(IF($B$39>(A_20),$J$10,$J$10)))))))))))))","v":91},{"$f":"IF($B$54<(A_5+1),$K$4,(IF($B$39<(A_10),$K$5,(IF($B$39<(A_12),$K$6,(IF($B$39<(A_15),$K$7,(IF($B$39<(A_17),$K$8,(IF($B$39<(A_20),$K$9,(IF($B$39>(A_20),$K$10,$K$10)))))))))))))","v":34.957500000000003},{"$f":"IF($B$54<(A_5+1),$L$4,(IF($B$39<(A_10),$L$5,(IF($B$39<(A_12),$L$6,(IF($B$39<(A_15),$L$7,(IF($B$39<(A_17),$L$8,(IF($B$39<(A_20),$L$9,(IF($B$39>(A_20),$L$10,$L$10)))))))))))))","v":87.69}]
["RAC20",{"$f":"+'4007ES(Addr)'!$AD39","v":0},{"$f":"IF($B$55<(A_5+1),$D$16,(IF($B$55<(A_10),$D$17,(IF($B$55<(A_12),$D$18,(IF($B$55<(A_15),$D$19,(IF($B$55<(A_17),$D$20,(IF($B$55<(A_20),$D$21,(IF($B$55>(A_20),$D$22,$D$22)))))))))))))","v":76},{"$f":"IF($B$55<(A_5+1),$F$16,(IF($B$55<(A_10),$F$17,(IF($B$55<(A_12),$F$18,(IF($B$55<(A_15),$F$19,(IF($B$55<(A_17),$F$20,(IF($B$55<(A_20),$F$21,(IF($B$55>(A_20),$F$22,$F$22)))))))))))))","v":122},{"$f":"IF($B$55<(A_5+1),$H$16,(IF($B$55<(A_10),$H$17,(IF($B$55<(A_12),$H$18,(IF($B$55<(A_15),$H$19,(IF($B$55<(A_17),$H$20,(IF($B$55<(A_20),$H$21,(IF($B$55>(A_20),$H$22,$H$22)))))))))))))","v":194},{"$f":"IF($B$55<(A_5+1),$J$16,(IF($B$39<(A_10),$J$17,(IF($B$39<(A_12),$J$18,(IF($B$39<(A_15),$J$19,(IF($B$39<(A_17),$J$20,(IF($B$39<(A_20),$J$21,(IF($B$39>(A_20),$J$22,$J$22)))))))))))))","v":308},{"$f":"IF($B$55<(A_5+1),$K$16,(IF($B$39<(A_10),$K$17,(IF($B$39<(A_12),$K$18,(IF($B$39<(A_15),$K$19,(IF($B$39<(A_17),$K$20,(IF($B$39<(A_20),$K$21,(IF($B$39>(A_20),$K$22,$K$22)))))))))))))","v":117.31500000000001},{"$f":"IF($B$55<(A_5+1),$L$16,(IF($B$39<(A_10),$L$17,(IF($B$39<(A_12),$L$18,(IF($B$39<(A_15),$L$19,(IF($B$39<(A_17),$L$20,(IF($B$39<(A_20),$L$21,(IF($B$39>(A_20),$L$22,$L$22)))))))))))))","v":297.435},null,"RAC20",{"$f":"+'4007ES(Addr)'!$AD39","v":0},{"$f":"IF($B$55<(A_5+1),$D$4,(IF($B$55<(A_10),$D$5,(IF($B$55<(A_12),$D$6,(IF($B$55<(A_15),$D$7,(IF($B$55<(A_17),$D$8,(IF($B$55<(A_20),$D$9,(IF($B$55>(A_20),$D$10,$D$10)))))))))))))","v":23},{"$f":"IF($B$55<(A_5+1),$F$4,(IF($B$55<(A_10),$F$5,(IF($B$55<(A_12),$F$6,(IF($B$55<(A_15),$F$7,(IF($B$55<(A_17),$F$8,(IF($B$55<(A_20),$F$9,(IF($B$55>(A_20),$F$10,$F$10)))))))))))))","v":36},{"$f":"IF($B$55<(A_5+1),$H$4,(IF($B$55<(A_10),$H$5,(IF($B$55<(A_12),$H$6,(IF($B$55<(A_15),$H$7,(IF($B$55<(A_17),$H$8,(IF($B$55<(A_20),$H$9,(IF($B$55>(A_20),$H$10,$H$10)))))))))))))","v":57},{"$f":"IF($B$55<(A_5+1),$J$4,(IF($B$39<(A_10),$J$5,(IF($B$39<(A_12),$J$6,(IF($B$39<(A_15),$J$7,(IF($B$39<(A_17),$J$8,(IF($B$39<(A_20),$J$9,(IF($B$39>(A_20),$J$10,$J$10)))))))))))))","v":91},{"$f":"IF($B$55<(A_5+1),$K$4,(IF($B$39<(A_10),$K$5,(IF($B$39<(A_12),$K$6,(IF($B$39<(A_15),$K$7,(IF($B$39<(A_17),$K$8,(IF($B$39<(A_20),$K$9,(IF($B$39>(A_20),$K$10,$K$10)))))))))))))","v":34.957500000000003},{"$f":"IF($B$55<(A_5+1),$L$4,(IF($B$39<(A_10),$L$5,(IF($B$39<(A_12),$L$6,(IF($B$39<(A_15),$L$7,(IF($B$39<(A_17),$L$8,(IF($B$39<(A_20),$L$9,(IF($B$39>(A_20),$L$10,$L$10)))))))))))))","v":87.69}]
[]
[]
[]
["4004R Maximum RAC Distance run  from panel to devices",null,null,null,null,null,null,null,null,null,null,"Metric"]
["S/No","RAC Output Current(Refer to Solenoid Rating)","Distance",null,null,null,null,null,null,null,"Line Resistance(Ohms)"]
[null,null,"18Awg",0.80300000000000005,"16Awg",1.3087,"14Awg",2.0809000000000002,"12Awg",3.3079999999999998,null,1.25,2.5]
[1,250,434,{"$f":"+C62*0.3048","v":132.28319999999999},690,{"$f":"+E62*0.3048","v":210.31200000000001},1098,{"$f":"+G62*0.3048","v":334.67040000000003},1747,{"$f":"+I62*0.3048","v":532.48559999999998},6.2,{"$f":"+((D62+F62)/2)*1.185","v":202.98765599999999},{"$f":"+((H62+J62)/2)*1.185","v":513.78993000000003}]
[{"$f":"+A62+1","v":2},500,217,{"$f":"+C63*0.3048","v":66.141599999999997},345,{"$f":"+E63*0.3048","v":105.15600000000001},549,{"$f":"+G63*0.3048","v":167.33520000000001},874,266.39519999999999,3.1,{"$f":"+((D63+F63)/2)*1.185","v":101.49382799999999},{"$f":"+((H63+J63)/2)*1.185","v":256.98526200000003}]
[{"$f":"+A63+1","v":3},750,145,44.196000000000005,230,70.103999999999999,366,111.55680000000001,582,177.39360000000002,2.0699999999999998,67.722750000000005,171.20311200000003]
[4,1000,109,33.223199999999999,172,52.425600000000003,275,83.820000000000007,437,133.19759999999999,1.55,50.746913999999997,128.58292800000001]
[5,1250,87,26.517600000000002,138,42.062400000000004,220,67.055999999999997,349,106.37520000000001,1.24,40.63365000000001,102.757986]
[6,1500,72,21.945600000000002,115,35.052,183,55.778400000000005,291,88.69680000000001,1.03,33.771078000000003,85.601556000000016]
[7,1750,62,18.897600000000001,99,30.1752,157,47.8536,250,76.2,0.89,29.075634000000001,73.501758000000009]
[8,2000,54,16.459199999999999,86,26.212800000000001,137,41.757600000000004,218,66.446399999999997,0.77,{"$f":"+((D69+F69)/2)*1.185","v":25.283159999999999},{"$f":"+((H69+J69)/2)*1.185","v":64.110870000000006}]
[]
["Circuit","Solenoid Rating","18Awg","16Awg","14Awg","12Awg",1.25,2.5]
["RAC1",{"$f":"+'4004R(Conventional)'!I81","v":438},{"$f":"IF(R_1<(A_2a+1),D$62,(IF((R_1-1)<(A_5a),D$63,(IF((R_1-1)<(A_7a),D$64,(IF((R_1-1)<(A_10a),D$65,(IF((R_1-1)<(A_12a),D$66,(IF((R_1-1)<(A_15a),D$67,(IF((R_1-1)>(A_17a),D$69,D$68)))))))))))))","v":66.141599999999997},{"$f":"IF(R_1<(A_2a+1),F$62,(IF((R_1-1)<(A_5a),F$63,(IF((R_1-1)<(A_7a),F$64,(IF((R_1-1)<(A_10a),F$65,(IF((R_1-1)<(A_12a),F$66,(IF((R_1-1)<(A_15a),F$67,(IF((R_1-1)>(A_17a),F$69,F$68)))))))))))))","v":105.15600000000001},{"$f":"IF(R_1<(A_2a+1),H$62,(IF((R_1-1)<(A_5a),H$63,(IF((R_1-1)<(A_7a),H$64,(IF((R_1-1)<(A_10a),H$65,(IF((R_1-1)<(A_12a),H$66,(IF((R_1-1)<(A_15a),H$67,(IF((R_1-1)>(A_17a),H$69,H$68)))))))))))))","v":167.33520000000001},{"$f":"IF(R_1<(A_2a+1),J$62,(IF((R_1-1)<(A_5a),J$63,(IF((R_1-1)<(A_7a),J$64,(IF((R_1-1)<(A_10a),J$65,(IF((R_1-1)<(A_12a),J$66,(IF((R_1-1)<(A_15a),J$67,(IF((R_1-1)>(A_17a),J$69,J$68)))))))))))))","v":266.39519999999999},{"$f":"IF(R_1<(A_2a+1),L$62,(IF((R_1-1)<(A_5a),L$63,(IF((R_1-1)<(A_7a),L$64,(IF((R_1-1)<(A_10a),L$65,(IF((R_1-1)<(A_12a),L$66,(IF((R_1-1)<(A_15a),L$67,(IF((R_1-1)>(A_17a),L$69,L$68)))))))))))))","v":101.49382799999999},{"$f":"IF(R_1<(A_2a+1),M$62,(IF((R_1-1)<(A_5a),M$63,(IF((R_1-1)<(A_7a),M$64,(IF((R_1-1)<(A_10a),M$65,(IF((R_1-1)<(A_12a),M$66,(IF((R_1-1)<(A_15a),M$67,(IF((R_1-1)>(A_17a),M$69,M$68)))))))))))))","v":256.98526200000003}]
["RAC2",{"$f":"+'4004R(Conventional)'!J81","v":0},{"$f":"IF(R_2<(A_2a+1),D$62,(IF((R_2-1)<(A_5a),D$63,(IF((R_2-1)<(A_7a),D$64,(IF((R_2-1)<(A_10a),D$65,(IF((R_2-1)<(A_12a),D$66,(IF((R_2-1)<(A_15a),D$67,(IF((R_2-1)>(A_17a),D$69,D$68)))))))))))))","v":132.28319999999999},{"$f":"IF(R_2<(A_2a+1),F$62,(IF((R_2-1)<(A_5a),F$63,(IF((R_2-1)<(A_7a),F$64,(IF((R_2-1)<(A_10a),F$65,(IF((R_2-1)<(A_12a),F$66,(IF((R_2-1)<(A_15a),F$67,(IF((R_2-1)>(A_17a),F$69,F$68)))))))))))))","v":210.31200000000001},{"$f":"IF(R_2<(A_2a+1),H$62,(IF((R_2-1)<(A_5a),H$63,(IF((R_2-1)<(A_7a),H$64,(IF((R_2-1)<(A_10a),H$65,(IF((R_2-1)<(A_12a),H$66,(IF((R_2-1)<(A_15a),H$67,(IF((R_2-1)>(A_17a),H$69,H$68)))))))))))))","v":334.67040000000003},{"$f":"IF(R_2<(A_2a+1),J$62,(IF((R_2-1)<(A_5a),J$63,(IF((R_2-1)<(A_7a),J$64,(IF((R_2-1)<(A_10a),J$65,(IF((R_2-1)<(A_12a),J$66,(IF((R_2-1)<(A_15a),J$67,(IF((R_2-1)>(A_17a),J$69,J$68)))))))))))))","v":532.48559999999998},{"$f":"IF(R_2<(A_2a+1),L$62,(IF((R_2-1)<(A_5a),L$63,(IF((R_2-1)<(A_7a),L$64,(IF((R_2-1)<(A_10a),L$65,(IF((R_2-1)<(A_12a),L$66,(IF((R_2-1)<(A_15a),L$67,(IF((R_2-1)>(A_17a),L$69,L$68)))))))))))))","v":202.98765599999999},{"$f":"IF(R_2<(A_2a+1),M$62,(IF((R_2-1)<(A_5a),M$63,(IF((R_2-1)<(A_7a),M$64,(IF((R_2-1)<(A_10a),M$65,(IF((R_2-1)<(A_12a),M$66,(IF((R_2-1)<(A_15a),M$67,(IF((R_2-1)>(A_17a),M$69,M$68)))))))))))))","v":513.78993000000003}]
[]
[]
["Circuit","Solenoid Rating","18Awg","16Awg","14Awg","12Awg",1.25,2.5]
["RAC",250,{"$f":"IF($B$77<(A_2a+1),D$62,(IF(($B$77-1)<(A_5a),D$63,(IF(($B$77-1)<(A_7a),D$64,(IF(($B$77-1)<(A_10a),D$65,(IF(($B$77-1)<(A_12a),D$66,(IF(($B$77-1)<(A_15a),D$67,(IF(($B$77-1)>(A_17a),D$69,D$68)))))))))))))","v":132.28319999999999},{"$f":"IF($B$77<(A_2a+1),F$62,(IF(($B$77-1)<(A_5a),F$63,(IF(($B$77-1)<(A_7a),F$64,(IF(($B$77-1)<(A_10a),F$65,(IF(($B$77-1)<(A_12a),F$66,(IF(($B$77-1)<(A_15a),F$67,(IF(($B$77-1)>(A_17a),F$69,F$68)))))))))))))","v":210.31200000000001},{"$f":"IF($B$77<(A_2a+1),H$62,(IF(($B$77-1)<(A_5a),H$63,(IF(($B$77-1)<(A_7a),H$64,(IF(($B$77-1)<(A_10a),H$65,(IF(($B$77-1)<(A_12a),H$66,(IF(($B$77-1)<(A_15a),H$67,(IF(($B$77-1)>(A_17a),H$69,H$68)))))))))))))","v":334.67040000000003},{"$f":"IF($B$77<(A_2a+1),J$62,(IF(($B$77-1)<(A_5a),J$63,(IF(($B$77-1)<(A_7a),J$64,(IF(($B$77-1)<(A_10a),J$65,(IF(($B$77-1)<(A_12a),J$66,(IF(($B$77-1)<(A_15a),J$67,(IF(($B$77-1)>(A_17a),J$69,J$68)))))))))))))","v":532.48559999999998},{"$f":"IF($B$77<(A_2a+1),L$62,(IF(($B$77-1)<(A_5a),L$63,(IF(($B$77-1)<(A_7a),L$64,(IF(($B$77-1)<(A_10a),L$65,(IF(($B$77-1)<(A_12a),L$66,(IF(($B$77-1)<(A_15a),L$67,(IF(($B$77-1)>(A_17a),L$69,L$68)))))))))))))","v":202.98765599999999},{"$f":"IF($B$77<(A_2a+1),M$62,(IF(($B$77-1)<(A_5a),M$63,(IF(($B$77-1)<(A_7a),M$64,(IF(($B$77-1)<(A_10a),M$65,(IF(($B$77-1)<(A_12a),M$66,(IF(($B$77-1)<(A_15a),M$67,(IF(($B$77-1)>(A_17a),M$69,M$68)))))))))))))","v":513.78993000000003}]
["RAC",500,{"$f":"IF($B$78<(A_2a+1),D$62,(IF(($B$78-1)<(A_5a),D$63,(IF(($B$78-1)<(A_7a),D$64,(IF(($B$78-1)<(A_10a),D$65,(IF(($B$78-1)<(A_12a),D$66,(IF(($B$78-1)<(A_15a),D$67,(IF(($B$78-1)>(A_17a),D$69,D$68)))))))))))))","v":66.141599999999997},{"$f":"IF($B$78<(A_2a+1),F$62,(IF(($B$78-1)<(A_5a),F$63,(IF(($B$78-1)<(A_7a),F$64,(IF(($B$78-1)<(A_10a),F$65,(IF(($B$78-1)<(A_12a),F$66,(IF(($B$78-1)<(A_15a),F$67,(IF(($B$78-1)>(A_17a),F$69,F$68)))))))))))))","v":105.15600000000001},{"$f":"IF($B$78<(A_2a+1),H$62,(IF(($B$78-1)<(A_5a),H$63,(IF(($B$78-1)<(A_7a),H$64,(IF(($B$78-1)<(A_10a),H$65,(IF(($B$78-1)<(A_12a),H$66,(IF(($B$78-1)<(A_15a),H$67,(IF(($B$78-1)>(A_17a),H$69,H$68)))))))))))))","v":167.33520000000001},{"$f":"IF($B$78<(A_2a+1),J$62,(IF(($B$78-1)<(A_5a),J$63,(IF(($B$78-1)<(A_7a),J$64,(IF(($B$78-1)<(A_10a),J$65,(IF(($B$78-1)<(A_12a),J$66,(IF(($B$78-1)<(A_15a),J$67,(IF(($B$78-1)>(A_17a),J$69,J$68)))))))))))))","v":266.39519999999999},{"$f":"IF($B$78<(A_2a+1),L$62,(IF(($B$78-1)<(A_5a),L$63,(IF(($B$78-1)<(A_7a),L$64,(IF(($B$78-1)<(A_10a),L$65,(IF(($B$78-1)<(A_12a),L$66,(IF(($B$78-1)<(A_15a),L$67,(IF(($B$78-1)>(A_17a),L$69,L$68)))))))))))))","v":101.49382799999999},{"$f":"IF($B$78<(A_2a+1),M$62,(IF(($B$78-1)<(A_5a),M$63,(IF(($B$78-1)<(A_7a),M$64,(IF(($B$78-1)<(A_10a),M$65,(IF(($B$78-1)<(A_12a),M$66,(IF(($B$78-1)<(A_15a),M$67,(IF(($B$78-1)>(A_17a),M$69,M$68)))))))))))))","v":256.98526200000003}]
["RAC",750,{"$f":"IF($B$79<(A_2a+1),D$62,(IF(($B$79-1)<(A_5a),D$63,(IF(($B$79-1)<(A_7a),D$64,(IF(($B$79-1)<(A_10a),D$65,(IF(($B$79-1)<(A_12a),D$66,(IF(($B$79-1)<(A_15a),D$67,(IF(($B$79-1)>(A_17a),D$69,D$68)))))))))))))","v":44.196000000000005},{"$f":"IF($B$79<(A_2a+1),F$62,(IF(($B$79-1)<(A_5a),F$63,(IF(($B$79-1)<(A_7a),F$64,(IF(($B$79-1)<(A_10a),F$65,(IF(($B$79-1)<(A_12a),F$66,(IF(($B$79-1)<(A_15a),F$67,(IF(($B$79-1)>(A_17a),F$69,F$68)))))))))))))","v":70.103999999999999},{"$f":"IF($B$79<(A_2a+1),H$62,(IF(($B$79-1)<(A_5a),H$63,(IF(($B$79-1)<(A_7a),H$64,(IF(($B$79-1)<(A_10a),H$65,(IF(($B$79-1)<(A_12a),H$66,(IF(($B$79-1)<(A_15a),H$67,(IF(($B$79-1)>(A_17a),H$69,H$68)))))))))))))","v":111.55680000000001},{"$f":"IF($B$79<(A_2a+1),J$62,(IF(($B$79-1)<(A_5a),J$63,(IF(($B$79-1)<(A_7a),J$64,(IF(($B$79-1)<(A_10a),J$65,(IF(($B$79-1)<(A_12a),J$66,(IF(($B$79-1)<(A_15a),J$67,(IF(($B$79-1)>(A_17a),J$69,J$68)))))))))))))","v":177.39360000000002},{"$f":"IF($B$79<(A_2a+1),L$62,(IF(($B$79-1)<(A_5a),L$63,(IF(($B$79-1)<(A_7a),L$64,(IF(($B$79-1)<(A_10a),L$65,(IF(($B$79-1)<(A_12a),L$66,(IF(($B$79-1)<(A_15a),L$67,(IF(($B$79-1)>(A_17a),L$69,L$68)))))))))))))","v":67.722750000000005},{"$f":"IF($B$79<(A_2a+1),M$62,(IF(($B$79-1)<(A_5a),M$63,(IF(($B$79-1)<(A_7a),M$64,(IF(($B$79-1)<(A_10a),M$65,(IF(($B$79-1)<(A_12a),M$66,(IF(($B$79-1)<(A_15a),M$67,(IF(($B$79-1)>(A_17a),M$69,M$68)))))))))))))","v":171.20311200000003}]
["RAC",1000,{"$f":"IF($B$80<(A_2a+1),D$62,(IF(($B$80-1)<(A_5a),D$63,(IF(($B$80-1)<(A_7a),D$64,(IF(($B$80-1)<(A_10a),D$65,(IF(($B$80-1)<(A_12a),D$66,(IF(($B$80-1)<(A_15a),D$67,(IF(($B$80-1)>(A_17a),D$69,D$68)))))))))))))","v":33.223199999999999},{"$f":"IF($B$80<(A_2a+1),F$62,(IF(($B$80-1)<(A_5a),F$63,(IF(($B$80-1)<(A_7a),F$64,(IF(($B$80-1)<(A_10a),F$65,(IF(($B$80-1)<(A_12a),F$66,(IF(($B$80-1)<(A_15a),F$67,(IF(($B$80-1)>(A_17a),F$69,F$68)))))))))))))","v":52.425600000000003},{"$f":"IF($B$80<(A_2a+1),H$62,(IF(($B$80-1)<(A_5a),H$63,(IF(($B$80-1)<(A_7a),H$64,(IF(($B$80-1)<(A_10a),H$65,(IF(($B$80-1)<(A_12a),H$66,(IF(($B$80-1)<(A_15a),H$67,(IF(($B$80-1)>(A_17a),H$69,H$68)))))))))))))","v":83.820000000000007},{"$f":"IF($B$80<(A_2a+1),J$62,(IF(($B$80-1)<(A_5a),J$63,(IF(($B$80-1)<(A_7a),J$64,(IF(($B$80-1)<(A_10a),J$65,(IF(($B$80-1)<(A_12a),J$66,(IF(($B$80-1)<(A_15a),J$67,(IF(($B$80-1)>(A_17a),J$69,J$68)))))))))))))","v":133.19759999999999},{"$f":"IF($B$80<(A_2a+1),L$62,(IF(($B$80-1)<(A_5a),L$63,(IF(($B$80-1)<(A_7a),L$64,(IF(($B$80-1)<(A_10a),L$65,(IF(($B$80-1)<(A_12a),L$66,(IF(($B$80-1)<(A_15a),L$67,(IF(($B$80-1)>(A_17a),L$69,L$68)))))))))))))","v":50.746913999999997},{"$f":"IF($B$80<(A_2a+1),M$62,(IF(($B$80-1)<(A_5a),M$63,(IF(($B$80-1)<(A_7a),M$64,(IF(($B$80-1)<(A_10a),M$65,(IF(($B$80-1)<(A_12a),M$66,(IF(($B$80-1)<(A_15a),M$67,(IF(($B$80-1)>(A_17a),M$69,M$68)))))))))))))","v":128.58292800000001}]
["RAC",1250,{"$f":"IF($B$81<(A_2a+1),D$62,(IF(($B$81-1)<(A_5a),D$63,(IF(($B$81-1)<(A_7a),D$64,(IF(($B$81-1)<(A_10a),D$65,(IF(($B$81-1)<(A_12a),D$66,(IF(($B$81-1)<(A_15a),D$67,(IF(($B$81-1)>(A_17a),D$69,D$68)))))))))))))","v":26.517600000000002},{"$f":"IF($B$81<(A_2a+1),F$62,(IF(($B$81-1)<(A_5a),F$63,(IF(($B$81-1)<(A_7a),F$64,(IF(($B$81-1)<(A_10a),F$65,(IF(($B$81-1)<(A_12a),F$66,(IF(($B$81-1)<(A_15a),F$67,(IF(($B$81-1)>(A_17a),F$69,F$68)))))))))))))","v":42.062400000000004},{"$f":"IF($B$81<(A_2a+1),H$62,(IF(($B$81-1)<(A_5a),H$63,(IF(($B$81-1)<(A_7a),H$64,(IF(($B$81-1)<(A_10a),H$65,(IF(($B$81-1)<(A_12a),H$66,(IF(($B$81-1)<(A_15a),H$67,(IF(($B$81-1)>(A_17a),H$69,H$68)))))))))))))","v":67.055999999999997},{"$f":"IF($B$81<(A_2a+1),J$62,(IF(($B$81-1)<(A_5a),J$63,(IF(($B$81-1)<(A_7a),J$64,(IF(($B$81-1)<(A_10a),J$65,(IF(($B$81-1)<(A_12a),J$66,(IF(($B$81-1)<(A_15a),J$67,(IF(($B$81-1)>(A_17a),J$69,J$68)))))))))))))","v":106.37520000000001},{"$f":"IF($B$81<(A_2a+1),L$62,(IF(($B$81-1)<(A_5a),L$63,(IF(($B$81-1)<(A_7a),L$64,(IF(($B$81-1)<(A_10a),L$65,(IF(($B$81-1)<(A_12a),L$66,(IF(($B$81-1)<(A_15a),L$67,(IF(($B$81-1)>(A_17a),L$69,L$68)))))))))))))","v":40.63365000000001},{"$f":"IF($B$81<(A_2a+1),M$62,(IF(($B$81-1)<(A_5a),M$63,(IF(($B$81-1)<(A_7a),M$64,(IF(($B$81-1)<(A_10a),M$65,(IF(($B$81-1)<(A_12a),M$66,(IF(($B$81-1)<(A_15a),M$67,(IF(($B$81-1)>(A_17a),M$69,M$68)))))))))))))","v":102.757986}]
["RAC",1500,{"$f":"IF($B$82<(A_2a+1),D$62,(IF(($B$82-1)<(A_5a),D$63,(IF(($B$82-1)<(A_7a),D$64,(IF(($B$82-1)<(A_10a),D$65,(IF(($B$82-1)<(A_12a),D$66,(IF(($B$82-1)<(A_15a),D$67,(IF(($B$82-1)>(A_17a),D$69,D$68)))))))))))))","v":21.945600000000002},{"$f":"IF($B$82<(A_2a+1),F$62,(IF(($B$82-1)<(A_5a),F$63,(IF(($B$82-1)<(A_7a),F$64,(IF(($B$82-1)<(A_10a),F$65,(IF(($B$82-1)<(A_12a),F$66,(IF(($B$82-1)<(A_15a),F$67,(IF(($B$82-1)>(A_17a),F$69,F$68)))))))))))))","v":35.052},{"$f":"IF($B$82<(A_2a+1),H$62,(IF(($B$82-1)<(A_5a),H$63,(IF(($B$82-1)<(A_7a),H$64,(IF(($B$82-1)<(A_10a),H$65,(IF(($B$82-1)<(A_12a),H$66,(IF(($B$82-1)<(A_15a),H$67,(IF(($B$82-1)>(A_17a),H$69,H$68)))))))))))))","v":55.778400000000005},{"$f":"IF($B$82<(A_2a+1),J$62,(IF(($B$82-1)<(A_5a),J$63,(IF(($B$82-1)<(A_7a),J$64,(IF(($B$82-1)<(A_10a),J$65,(IF(($B$82-1)<(A_12a),J$66,(IF(($B$82-1)<(A_15a),J$67,(IF(($B$82-1)>(A_17a),J$69,J$68)))))))))))))","v":88.69680000000001},{"$f":"IF($B$82<(A_2a+1),L$62,(IF(($B$82-1)<(A_5a),L$63,(IF(($B$82-1)<(A_7a),L$64,(IF(($B$82-1)<(A_10a),L$65,(IF(($B$82-1)<(A_12a),L$66,(IF(($B$82-1)<(A_15a),L$67,(IF(($B$82-1)>(A_17a),L$69,L$68)))))))))))))","v":33.771078000000003},{"$f":"IF($B$82<(A_2a+1),M$62,(IF(($B$82-1)<(A_5a),M$63,(IF(($B$82-1)<(A_7a),M$64,(IF(($B$82-1)<(A_10a),M$65,(IF(($B$82-1)<(A_12a),M$66,(IF(($B$82-1)<(A_15a),M$67,(IF(($B$82-1)>(A_17a),M$69,M$68)))))))))))))","v":85.601556000000016}]
["RAC",1750,{"$f":"IF($B$83<(A_2a+1),D$62,(IF(($B$83-1)<(A_5a),D$63,(IF(($B$83-1)<(A_7a),D$64,(IF(($B$83-1)<(A_10a),D$65,(IF(($B$83-1)<(A_12a),D$66,(IF(($B$83-1)<(A_15a),D$67,(IF(($B$83-1)>(A_17a),D$69,D$68)))))))))))))","v":18.897600000000001},{"$f":"IF($B$83<(A_2a+1),F$62,(IF(($B$83-1)<(A_5a),F$63,(IF(($B$83-1)<(A_7a),F$64,(IF(($B$83-1)<(A_10a),F$65,(IF(($B$83-1)<(A_12a),F$66,(IF(($B$83-1)<(A_15a),F$67,(IF(($B$83-1)>(A_17a),F$69,F$68)))))))))))))","v":30.1752},{"$f":"IF($B$83<(A_2a+1),H$62,(IF(($B$83-1)<(A_5a),H$63,(IF(($B$83-1)<(A_7a),H$64,(IF(($B$83-1)<(A_10a),H$65,(IF(($B$83-1)<(A_12a),H$66,(IF(($B$83-1)<(A_15a),H$67,(IF(($B$83-1)>(A_17a),H$69,H$68)))))))))))))","v":47.8536},{"$f":"IF($B$83<(A_2a+1),J$62,(IF(($B$83-1)<(A_5a),J$63,(IF(($B$83-1)<(A_7a),J$64,(IF(($B$83-1)<(A_10a),J$65,(IF(($B$83-1)<(A_12a),J$66,(IF(($B$83-1)<(A_15a),J$67,(IF(($B$83-1)>(A_17a),J$69,J$68)))))))))))))","v":76.2},{"$f":"IF($B$83<(A_2a+1),L$62,(IF(($B$83-1)<(A_5a),L$63,(IF(($B$83-1)<(A_7a),L$64,(IF(($B$83-1)<(A_10a),L$65,(IF(($B$83-1)<(A_12a),L$66,(IF(($B$83-1)<(A_15a),L$67,(IF(($B$83-1)>(A_17a),L$69,L$68)))))))))))))","v":29.075634000000001},{"$f":"IF($B$83<(A_2a+1),M$62,(IF(($B$83-1)<(A_5a),M$63,(IF(($B$83-1)<(A_7a),M$64,(IF(($B$83-1)<(A_10a),M$65,(IF(($B$83-1)<(A_12a),M$66,(IF(($B$83-1)<(A_15a),M$67,(IF(($B$83-1)>(A_17a),M$69,M$68)))))))))))))","v":73.501758000000009}]
["RAC",2000,{"$f":"IF($B$84<(A_2a+1),D$62,(IF(($B$84-1)<(A_5a),D$63,(IF(($B$84-1)<(A_7a),D$64,(IF(($B$84-1)<(A_10a),D$65,(IF(($B$84-1)<(A_12a),D$66,(IF(($B$84-1)<(A_15a),D$67,(IF(($B$84-1)>(A_17a),D$69,D$68)))))))))))))","v":16.459199999999999},{"$f":"IF($B$84<(A_2a+1),F$62,(IF(($B$84-1)<(A_5a),F$63,(IF(($B$84-1)<(A_7a),F$64,(IF(($B$84-1)<(A_10a),F$65,(IF(($B$84-1)<(A_12a),F$66,(IF(($B$84-1)<(A_15a),F$67,(IF(($B$84-1)>(A_17a),F$69,F$68)))))))))))))","v":26.212800000000001},{"$f":"IF($B$84<(A_2a+1),H$62,(IF(($B$84-1)<(A_5a),H$63,(IF(($B$84-1)<(A_7a),H$64,(IF(($B$84-1)<(A_10a),H$65,(IF(($B$84-1)<(A_12a),H$66,(IF(($B$84-1)<(A_15a),H$67,(IF(($B$84-1)>(A_17a),H$69,H$68)))))))))))))","v":41.757600000000004},{"$f":"IF($B$84<(A_2a+1),J$62,(IF(($B$84-1)<(A_5a),J$63,(IF(($B$84-1)<(A_7a),J$64,(IF(($B$84-1)<(A_10a),J$65,(IF(($B$84-1)<(A_12a),J$66,(IF(($B$84-1)<(A_15a),J$67,(IF(($B$84-1)>(A_17a),J$69,J$68)))))))))))))","v":66.446399999999997},{"$f":"IF($B$84<(A_2a+1),L$62,(IF(($B$84-1)<(A_5a),L$63,(IF(($B$84-1)<(A_7a),L$64,(IF(($B$84-1)<(A_10a),L$65,(IF(($B$84-1)<(A_12a),L$66,(IF(($B$84-1)<(A_15a),L$67,(IF(($B$84-1)>(A_17a),L$69,L$68)))))))))))))","v":25.283159999999999},{"$f":"IF($B$84<(A_2a+1),M$62,(IF(($B$84-1)<(A_5a),M$63,(IF(($B$84-1)<(A_7a),M$64,(IF(($B$84-1)<(A_10a),M$65,(IF(($B$84-1)<(A_12a),M$66,(IF(($B$84-1)<(A_15a),M$67,(IF(($B$84-1)>(A_17a),M$69,M$68)))))))))))))","v":64.110870000000006}]
[]
["Circuit","Notification Device Current","18Awg","16Awg","14Awg","12Awg",1.25,2.5]
[null,"Ohms per Km",{"$f":"+IdnetAddr!H3","v":23.425196885999998},{"$f":"+IdnetAddr!I3","v":14.763779550000001},{"$f":"+IdnetAddr!J4","v":9.251968518},{"$f":"+IdnetAddr!K4","v":5.807086623},{"$f":"+IdnetAddr!L3","v":12.500000019000002},{"$f":"+IdnetAddr!M3","v":7.5131233710000007}]
["NAC",250,{"$f":"((((MeanV/($B$88/C_Amp))/$C$87)*C_Res)/Core_2)","v":569.47226804196521},{"$f":"((((MeanV/($B$88/C_Amp))/$D$87)*C_Res)/Core_2)","v":903.56266529325137},{"$f":"((((MeanV/($B$88/C_Amp))/$E$87)*C_Res)/Core_2)","v":1441.8553169573161},{"$f":"((((MeanV/($B$88/C_Amp))/$F$87)*C_Res)/Core_2)","v":2297.1932168472495},{"$f":"((((MeanV/($B$88/C_Amp))/$G$87)*C_Res)/Core_2)","v":1067.199998377856},{"$f":"((((MeanV/($B$88/C_Amp))/$H$87)*C_Res)/Core_2)","v":1775.5598226286597},null," "]
["NAC",500,{"$f":"((((MeanV/($B$89/C_Amp))/$C$87)*C_Res)/Core_2)","v":284.7361340209826},{"$f":"((((MeanV/($B$89/C_Amp))/$D$87)*C_Res)/Core_2)","v":451.78133264662569},{"$f":"((((MeanV/($B$89/C_Amp))/$E$87)*C_Res)/Core_2)","v":720.92765847865803},{"$f":"((((MeanV/($B$89/C_Amp))/$F$87)*C_Res)/Core_2)","v":1148.5966084236247},{"$f":"((((MeanV/($B$89/C_Amp))/$G$87)*C_Res)/Core_2)","v":533.599999188928},{"$f":"((((MeanV/($B$89/C_Amp))/$H$87)*C_Res)/Core_2)","v":887.77991131432987}]
["NAC",750,{"$f":"((((MeanV/($B$90/C_Amp))/$C$87)*C_Res)/Core_2)","v":189.82408934732172},{"$f":"((((MeanV/($B$90/C_Amp))/$D$87)*C_Res)/Core_2)","v":301.18755509775042},{"$f":"((((MeanV/($B$90/C_Amp))/$E$87)*C_Res)/Core_2)","v":480.618438985772},{"$f":"((((MeanV/($B$90/C_Amp))/$F$87)*C_Res)/Core_2)","v":765.73107228241645},{"$f":"((((MeanV/($B$90/C_Amp))/$G$87)*C_Res)/Core_2)","v":355.73333279261857},{"$f":"((((MeanV/($B$90/C_Amp))/$H$87)*C_Res)/Core_2)","v":591.85327420955321}]
["NAC",1000,{"$f":"((((MeanV/($B$91/C_Amp))/$C$87)*C_Res)/Core_2)","v":142.3680670104913},{"$f":"((((MeanV/($B$91/C_Amp))/$D$87)*C_Res)/Core_2)","v":225.89066632331284},{"$f":"((((MeanV/($B$91/C_Amp))/$E$87)*C_Res)/Core_2)","v":360.46382923932902},{"$f":"((((MeanV/($B$91/C_Amp))/$F$87)*C_Res)/Core_2)","v":574.29830421181236},{"$f":"((((MeanV/($B$91/C_Amp))/$G$87)*C_Res)/Core_2)","v":266.799999594464},{"$f":"((((MeanV/($B$91/C_Amp))/$H$87)*C_Res)/Core_2)","v":443.88995565716493}]
["NAC",1250,{"$f":"((((MeanV/($B$92/C_Amp))/$C$87)*C_Res)/Core_2)","v":113.89445360839305},{"$f":"((((MeanV/($B$92/C_Amp))/$D$87)*C_Res)/Core_2)","v":180.71253305865028},{"$f":"((((MeanV/($B$92/C_Amp))/$E$87)*C_Res)/Core_2)","v":288.37106339146322},{"$f":"((((MeanV/($B$92/C_Amp))/$F$87)*C_Res)/Core_2)","v":459.43864336944989},{"$f":"((((MeanV/($B$92/C_Amp))/$G$87)*C_Res)/Core_2)","v":213.43999967557119},{"$f":"((((MeanV/($B$92/C_Amp))/$H$87)*C_Res)/Core_2)","v":355.11196452573193}]
["NAC",1500,{"$f":"((((MeanV/($B$93/C_Amp))/$C$87)*C_Res)/Core_2)","v":94.912044673660859},{"$f":"((((MeanV/($B$93/C_Amp))/$D$87)*C_Res)/Core_2)","v":150.59377754887521},{"$f":"((((MeanV/($B$93/C_Amp))/$E$87)*C_Res)/Core_2)","v":240.309219492886},{"$f":"((((MeanV/($B$93/C_Amp))/$F$87)*C_Res)/Core_2)","v":382.86553614120822},{"$f":"((((MeanV/($B$93/C_Amp))/$G$87)*C_Res)/Core_2)","v":177.86666639630928},{"$f":"((((MeanV/($B$93/C_Amp))/$H$87)*C_Res)/Core_2)","v":295.9266371047766}]
["NAC",1750,{"$f":"((((MeanV/($B$94/C_Amp))/$C$87)*C_Res)/Core_2)","v":81.353181148852173},{"$f":"((((MeanV/($B$94/C_Amp))/$D$87)*C_Res)/Core_2)","v":129.08038075617876},{"$f":"((((MeanV/($B$94/C_Amp))/$E$87)*C_Res)/Core_2)","v":205.97933099390232},{"$f":"((((MeanV/($B$94/C_Amp))/$F$87)*C_Res)/Core_2)","v":328.17045954960707},{"$f":"((((MeanV/($B$94/C_Amp))/$G$87)*C_Res)/Core_2)","v":152.45714262540798},{"$f":"((((MeanV/($B$94/C_Amp))/$H$87)*C_Res)/Core_2)","v":253.65140323266567}]
["NAC",2000,{"$f":"((((MeanV/($B$95/C_Amp))/$C$87)*C_Res)/Core_2)","v":71.184033505245651},{"$f":"((((MeanV/($B$95/C_Amp))/$D$87)*C_Res)/Core_2)","v":112.94533316165642},{"$f":"((((MeanV/($B$95/C_Amp))/$E$87)*C_Res)/Core_2)","v":180.23191461966451},{"$f":"((((MeanV/($B$95/C_Amp))/$F$87)*C_Res)/Core_2)","v":287.14915210590618},{"$f":"((((MeanV/($B$95/C_Amp))/$G$87)*C_Res)/Core_2)","v":133.399999797232},{"$f":"((((MeanV/($B$95/C_Amp))/$H$87)*C_Res)/Core_2)","v":221.94497782858247}]

{"sheet":"4007ESConfigurator","index":14,"n_rows":1718,"n_cols":17,"rows_kept":1718,"cut":false,"hidden":false,"merged":[[188,0,189,0],[188,5,189,5],[188,6,189,6],[184,0,185,0],[184,5,185,5],[184,6,185,6],[186,0,187,0],[186,5,187,5],[186,6,187,6],[180,0,181,0],[180,5,181,5],[180,6,181,6],[182,0,183,0],[182,5,183,5],[182,6,183,6],[176,0,177,0],[176,5,177,5],[176,6,177,6],[178,0,179,0],[178,5,179,5],[178,6,179,6],[172,0,173,0],[172,5,173,5],[172,6,173,6],[174,0,175,0],[174,5,175,5],[174,6,175,6],[272,5,273,5],[274,5,275,5],[276,5,277,5],[278,5,279,5],[150,0,151,0],[152,0,153,0],[152,5,153,5],[154,0,155,0],[154,5,155,5],[156,0,157,0],[156,5,157,5],[158,0,159,0],[158,5,159,5],[160,0,161,0],[262,5,263,5],[264,5,265,5],[268,5,269,5],[270,5,271,5],[252,5,253,5],[254,5,255,5],[256,5,257,5],[258,5,259,5],[260,5,261,5],[244,5,245,5],[246,5,247,5],[248,5,249,5],[250,5,251,5],[266,5,267,5],[162,0,163,0],[150,5,151,5],[162,5,163,5],[162,6,163,6],[242,5,243,5],[164,0,165,0],[164,5,165,5],[164,6,165,6],[166,0,167,0],[166,5,167,5],[166,6,167,6],[168,0,169,0],[168,5,169,5],[168,6,169,6],[170,0,171,0],[170,5,171,5],[240,5,241,5],[150,6,151,6],[152,6,153,6],[154,6,155,6],[156,6,157,6],[158,6,159,6],[160,5,161,5],[160,6,161,6],[170,6,171,6],[1,4,2,4],[0,3,0,8],[4,0,4,2],[4,3,4,4],[4,11,4,15]]}
[null,null,null,"Simplex Releasing Fire Detection Solution - Manual Overide"]
[null,null,null,null,"** Note: Before Clicing Create BOM\n1.  Goto to 4007ESBOM, Click Clear BOM otherwise old data remains.\n2.  Next Click Filter off, then Filter on to get the latest configuration.\n3.  Finally Click Create BOM."]
[]
[null,null,null,null,null,"**Note : Filter On is to view all those with>1 on column Qty Setup"]
[" ",null,null,null,null,"**Note: Filter off is to view all including \"0\" value on Column Qty Setup to allow Qty Manual input",null,null,null,null,null,"Equpment Current"]
["POS.","No","Part number","Function","Product Description","Listing","Datasheet","Qty\nSetup","Qty\nManual","Qty\nFinal",null,"Stby Current","Alarm Current","Remarks"]
["A",null,"4007ES Addressable Suppression Panel - Default Basic Components",null,null,null,null,{"$f":"SUM(H8:H47)","v":48},null,{"$f":"SUM(J8:J14)","v":0},null,null,null,null,"Red",0,0]
[" ",1,"4007-9101","Addr Panel","4007ES Suppression Panel Red(Std Offering)","UL & FM Listed","PDF",{"$f":"IF('4007ES(Addr)'!K26=\"Red\",'4007ES(Addr)'!G29,0)","v":0},0,0,null,145,195,"Main Power","Platinium",{"$f":"+P7+1","v":1},2]
[" ",{"$f":"+B8+1","v":2},"4007-9102","Addr Panel","4007ES Suppression Panel Platinium(Std Offering)","UL & FM Listed","PDF",{"$f":"IF(+'4007ES(Addr)'!K26=\"Platinium\",'4007ES(Addr)'!G29,0)","v":0},0,{"$f":"+I9+H9","v":0},null,180,185,"Main Power","Yes",2,3]
[" ",3,"4007-9805","Option: Annunicator","48 LED on board Annunicator(Option)","UL & FM Listed","PDF",{"$f":"+'4007ES(Addr)'!G147","v":0},0,0,null,10,10,"Panel Powered","No",3,4]
[null," "," ","LEDs","LED Unit Loading(Option)","UL & FM Listed","PDF",{"$f":"+'4007ES(Addr)'!G148","v":0},0,0,null,0,2,"Panel Powered","Invalid",{"$f":"+P10+1","v":4},5]
[null,4,"Inclusive","Addr Loop Card","Idnet 100 points (Std Offering)","UL & FM Listed","PDF",{"$f":"IF((H8+H9)>0,(H8+H9),0)","v":0},0,0,null,80,120,"Panel Powered",100,5]
[null,{"$f":"+B12+1","v":5},"4007-9803","Option:Loop Card","Idnet 75 points (Option)","UL & FM Listed","PDF",{"$f":"+'4007ES(Addressable)'!N22","v":0},0,0,null,60,60,"Panel Powered",175,6]
[null,6,{"$f":"+AddonDevice!C8","v":"Counter"},{"$f":"+AddonDevice!D8","v":"Countdown Timer"},{"$f":"+AddonDevice!E8","v":"Count Down Timer Locally Source"},"Local","NA",{"$f":"+'4007ES(Addr)'!G149","v":0},0,{"$f":"+I14+H14","v":0},null,{"$f":"+AddonDevice!H8","v":30},{"$f":"+AddonDevice!I8","v":120},{"$f":"+AddonDevice!J8","v":"Aux PS"},250,{"$f":"+P13+1","v":7}]
["B",null,"4007ES Addressable Suppression Panel - Add on Option with except of 01 set of 8 I/O comes as default",null,null,null,null,{"$f":"SUM(H16:H55)","v":24},null,{"$f":"SUM(J16:J21)","v":0},null,null,null,null,"Red",{"$f":"+P14+1","v":8}]
[" ",7,"4007-9801","8 I/O Card","8 I/O Card - Class A or Class B Conventional Zone or Relay Card","UL & FM Listed","PDF",{"$f":"+'4007ES(Addr)'!G134","v":0},0,0,null,null,null,"Panel Powered","Beige",{"$f":"+P15+1","v":9}]
[" "," ","a","Select: Class B","Conventional Class B(Z1-32)","UL & FM Listed","PDF",0,0,0,null,11,60,"Panel Powered","None",{"$f":"+P16+1","v":10}]
[" "," ","b","Select: Class A","Conventional Class A(Z1-16)","UL & FM Listed","PDF",0,0,0,null,20,69,"Panel Powered","DSL(Hardwired)",{"$f":"+P17+1","v":11}]
[" "," ","c","Select: Relay","Relay output(Z1-Z32)","UL & FM Listed","PDF",0,0,0,null,0,9,"Panel Powered","MM Fiber",{"$f":"+P18+1","v":12}]
[" ",{"$f":"+B16+1","v":8},"4007-9802","Option: Card","25VDC Voltage Regulator(Option For Conventional Device)","UL & FM Listed","PDF",{"$f":"+'4007ES(Addr)'!G137","v":0},0,0,null,290,801,"Panel Powered","SM Fiber",13]
[" ",{"$f":"+B20+1","v":9},"4007-9812","Option: Card","Dual RS232 Interface Card","UL & FM Listed","PDF",{"$f":"+'4007ES(Addr)'!G138","v":0},0,0,null,60,60,"Panel Powered","Ethernet",14]
["C",null,"4007ES Addressable Suppression Panel - Add on Option of Network Card",null,null,null,null,{"$f":"SUM(H23:H61)","v":13},null,{"$f":"SUM(J23:J34)","v":0},null,null,null,"Panel Powered",null,15]
[null,{"$f":"+B21+1","v":10},"4007-9817","Option: Card","ES Network Main Card","UL & FM Listed","PDF",{"$f":"+'4007ES(Addr)'!G140","v":0},0,0,null,120,120,"Panel Powered",null,16]
[null,11,"4007-6307","Option: Card","ES Network Media Card - Hard Wired","UL & FM Listed","PDF",{"$f":"IF('4007ES(Addr)'!K141=\"DSL(Hardwired)\",'4007ES(Addr)'!G141,0)+IF('4007ES(Addr)'!K142=\"DSL(Hardwired)\",'4007ES(Addr)'!G142,0)","v":0},0,0,null,155,155,"Panel Powered","None",17]
[null,12,"4007-6309","Option: Card","ES Network Media Card - Multi mode Fiber Optic","UL & FM Listed","PDF",{"$f":"IF('4007ES(Addr)'!K141=\"MM Fiber\",'4007ES(Addr)'!G141,0)+IF('4007ES(Addr)'!K142=\"MM Fiber\",'4007ES(Addr)'!G142,0)","v":0},0,0,null,135,135,"Panel Powered","NAC1",18]
[null,13,"4007-6308","Option: Card","ES Network Media Card - Single mode Fibre Optic","UL & FM Listed","PDF",{"$f":"IF('4007ES(Addr)'!K141=\"SM Fiber\",'4007ES(Addr)'!G141,0)+IF('4007ES(Addr)'!K142=\"SM Fiber\",'4007ES(Addr)'!G142,0)","v":0},0,0,null,135,135,"Panel Powered","NAC2",19]
[null,14,"4007-6306","Option: Card","ES Network Media Card - Ethernet ","UL & FM Listed","PDF",{"$f":"IF('4007ES(Addr)'!K141=\"Ethernet\",'4007ES(Addr)'!G141,0)+IF('4007ES(Addr)'!K142=\"Ethernet\",'4007ES(Addr)'!G142,0)","v":0},0,0,null,20,20,"Panel Powered","NAC3",20]
[null,{"$f":"+B27+1","v":15},"4007-9810","Option: Card","4120 Network Main Card","UL & FM Listed","PDF",{"$f":"+'4007ES(Addr)'!G143","v":0},0,{"$f":"+I28+H28","v":0},null,30,30,"Panel Powered","NAC4",{"$f":"+P27+1","v":21}]
[null,{"$f":"+B28+1","v":16},"4007-9813","Option: Card","4120 Network Media Card - Hard Wired","UL & FM Listed","PDF",{"$f":"IF('4007ES(Addr)'!K144=\"RS485\",1,0)*('4007ES(Addr)'!G144+'4007ES(Addr)'!G145)","v":0},0,0,null,55,55,"Panel Powered",null,{"$f":"+P28+1","v":22}]
[null,17,"4007-6303","Option: Card","4120 Network Media Card - Multi mode Fiber Optic - Left","UL & FM Listed","PDF",{"$f":"IF('4007ES(Addr)'!K144=\"MM Fiber\",1,0)*('4007ES(Addr)'!G144)","v":0},0,0,null,55,55,"Panel Powered",null,{"$f":"+P29+1","v":23}]
[null,{"$f":"+B30+1","v":18},"4007-6304","Option: Card","4120 Network Media Card - Multi mode Fiber Optic - Right","UL & FM Listed","PDF",{"$f":"IF('4007ES(Addr)'!K145=\"MM Fiber\",1,0)*('4007ES(Addr)'!G145)","v":0},0,{"$f":"+I31+H31","v":0},null,55,55,"Panel Powered","None",{"$f":"+P30+1","v":24}]
[null,19,"4007-6301","Option: Card","4120 Network Media Card - Single mode Fiber Optic - Left","UL & FM Listed","PDF",{"$f":"IF('4007ES(Addr)'!K144=\"SM Fiber\",1,0)*('4007ES(Addr)'!G144)","v":0},0,0,null,55,55,"Panel Powered","RAC1",{"$f":"+P31+1","v":25}]
[null,{"$f":"+B32+1","v":20},"4007-6302","Option: Card","4120 Network Media Card - Single mode Fibre Optic - Right","UL & FM Listed","PDF",{"$f":"IF('4007ES(Addr)'!K145=\"SM Fiber\",1,0)*('4007ES(Addr)'!G145)","v":0},0,0,null,55,55,"Panel Powered","RAC2",26]
[null,null,null,null,null,null,null," ",{"$f":"+IF(H34<>0,H34,0)","v":" "},0,null," "," "," ","RAC3",{"$f":"+P33+1","v":27}]
["D",null,"4007ES Addressable Suppression Panel - Add on Option of Repeater LCD Max 6 Units",null,null,null,null,{"$f":"SUM(H36:H68)","v":7},null,{"$f":"SUM(J36:J39)","v":0},null,null,null,"Panel Powered","RAC4",{"$f":"+P32+1","v":26}]
[null,{"$f":"+B33+1","v":21},"4606-9202(BA)","Option: Repeater LCD","Remote Color Touchscreen LCD Annunciator-RED - Max 6","UL & FM Listed","PDF",{"$f":"IF('4007ES(Addr)'!K26=\"Red\",'4007ES(Addr)'!G151,0)","v":0},0,0,{"$f":"IF((J36+J382)>6,\"Error\",\"OK\")","v":"OK"},45,124,"Aux PS",null,{"$f":"+P35+1","v":27}]
[null,{"$f":"+B36+1","v":22},"4606-9205(BA)","Option: Repeater LCD","Remote Color Touchscreen LCD Annunciator-Beige - Max 6","UL & FM Listed","PDF",{"$f":"IF('4007ES(Addr)'!K26=\"Platinium\",'4007ES(Addr)'!G151,0)","v":0},0,0,null,45,124,"Aux PS",null,{"$f":"+P36+1","v":28}]
[null,23,"2975-9461","Option: Backbox","Surface mount metal box for above annunciators - Red","UL & FM Listed","PDF",{"$f":"IF('4007ES(Addr)'!K26=\"Red\",'4007ES(Addr)'!G152,0)","v":0},0,0,null,0,0,"NA","NA",29]
[null,24,"2975-9462","Option: Backbox","Surface mount metal box for above annunciators - Beige","UL & FM Listed","PDF",{"$f":"IF('4007ES(Addr)'!K26=\"Platinium\",'4007ES(Addr)'!G152,0)","v":0},0,0,null,0,0,"NA","IDC1",30]
[null,null,null,null,null,null,null," ",{"$f":"+IF(H40<>0,H40,0)","v":" "},0,null,null,null,null,"IDC2",{"$f":"+P39+1","v":31}]
["D",null,"4007ES Addressable Suppression Panel - Future Add on enhancement Cards",null,null,null,null,{"$f":"SUM(H42:H73)","v":4},null,{"$f":"SUM(J42:J48)","v":0},null,null,null,"Panel Powered","IDC3",32]
[null,{"$f":"+B39+1","v":25},{"$f":"+AddonDevice!C14","v":"Counter"},{"$f":"+AddonDevice!D14","v":"Countdown Timer"},{"$f":"+AddonDevice!E14","v":"Count Down Timer Locally Source"},{"$f":"+AddonDevice!F14","v":"Local"},null,{"$f":"+'4007ES(Addr)'!G149","v":0},0,0,null,{"$f":"+AddonDevice!H14","v":50},{"$f":"+AddonDevice!I14","v":180},{"$f":"+AddonDevice!J14","v":"Aux PS"},"IDC4",33]
[null,26,{"$f":"+AddonDevice!C15","v":"Customised 2"},{"$f":"+AddonDevice!D15","v":"Input2A"},{"$f":"+AddonDevice!E15","v":"4007ES Addr Panel Input2B"},{"$f":"+AddonDevice!F15","v":"Input2C"},null,0,0,{"$f":"+I43+H43","v":0},null,0,0,{"$f":"+AddonDevice!J15","v":"Input \"Aux PS\" As Reqd"},null,34]
[null,27,{"$f":"+AddonDevice!C16","v":"Customised 3"},{"$f":"+AddonDevice!D16","v":"Input3A"},{"$f":"+AddonDevice!E16","v":"4007ES Addr Panel IInput3B"},{"$f":"+AddonDevice!F16","v":"Input3C"},null,0,0,0,null,0,0,{"$f":"+AddonDevice!J16","v":"Input \"Aux PS\" As Reqd"},"NA",35]
[null,28,{"$f":"+AddonDevice!C17","v":"Customised 4"},{"$f":"+AddonDevice!D17","v":"Input4A"},{"$f":"+AddonDevice!E17","v":"4007ES Addr Panel IInput4B"},{"$f":"+AddonDevice!F17","v":"Input4C"},null,0,0,0,null,0,0,{"$f":"+AddonDevice!J17","v":"Input \"Aux PS\" As Reqd"},"NA",36]
[null,29,{"$f":"+AddonDevice!C18","v":"Customised 5"},{"$f":"+AddonDevice!D18","v":"Input5A"},{"$f":"+AddonDevice!E18","v":"4007ES Addr Panel IInput5B"},{"$f":"+AddonDevice!F18","v":"Input5C"},null,0,0,0,null,0,0,{"$f":"+AddonDevice!J18","v":"Input \"Aux PS\" As Reqd"},"NA",37]
[null,30,{"$f":"+AddonDevice!C19","v":"Customised 6"},{"$f":"+AddonDevice!D19","v":"Input6A"},{"$f":"+AddonDevice!E19","v":"4007ES Addr Panel IInput6B"},{"$f":"+AddonDevice!F19","v":"Input6C"},null,0,0,0,null,0,0,{"$f":"+AddonDevice!J19","v":"Input \"Aux PS\" As Reqd"},"SPM2",38]
[null,null,null,null,null,null,null," ",{"$f":"+IF(H48<>0,H48,0)","v":" "},0,null,null,null,null,24,39]
["B",null,"4009 Addressable Notification Circuits Repeater",null,null,null,null,{"$f":"SUM(H50:H55)","v":0},null,{"$f":"SUM(J50:J56)","v":0},null,null,null,null,36,40]
[null,1,"4009-9201","Nac Repeater","4009 IDNet NAC Extender with 4, Class B NACs and 8 A power supply NAC 1 to NAC 4 - 120VAC","UL Listed","PDF",{"$f":"+'4007ES(Addr)'!G30","v":0},0,0,null,85,185,"Main AC & Idnet",48,41]
[null,{"$f":"+B50+1","v":2},"4009-9301","Nac Repeater","4009 IDNet NAC Extender with 4, Class B NACs and 8 A power supply NAC 1 to NAC 4 - 240VAC","UL Listed","PDF",{"$f":"+'4007ES(Addr)'!G31","v":0},0,{"$f":"+I51+H51","v":0},null,85,185,"Main AC & Idnet",60,43]
[null,{"$f":"B51+1","v":3},"4009-9807","From 4 to 8 NAC","Additional four point NAC module(Added NAC limit to 1.5A)","UL & FM Listed","PDF",{"$f":"+'4007ES(Addr)'!G32","v":0},0,0,null,40,40,"Panel Powered",90,44]
[null,{"$f":"+B52+1","v":4},{"$f":"+AddonDevice!C22","v":"4009-9808"},{"$f":"+AddonDevice!D22","v":"Class A Adapter"},{"$f":"+AddonDevice!E22","v":"Dual Class A adapter(No Additional Current)"},{"$f":"+AddonDevice!F22","v":"UL Listed"},null,{"$f":"+'4007ES(Addr)'!G33","v":0},0,0,null,0,0,"Panel Powered",110,45]
[null,5,{"$f":"+AddonDevice!C23","v":"4009-9809"},{"$f":"+AddonDevice!D23","v":"Idnet Repeater"},{"$f":"+AddonDevice!E23","v":"IDNet Repeater, output is Class A or Class B(If Required due to distance)"},{"$f":"+AddonDevice!F23","v":"UL Listed"},null,{"$f":"+'4007ES(Addr)'!G34","v":0},0,{"$f":"+I54+H54","v":0},null,0,90,"Panel Powered","Gas",{"$f":"+P53+1","v":46}]
[null,{"$f":"+B54+1","v":6},{"$f":"+AddonDevice!C24","v":"Customised 3"},{"$f":"+AddonDevice!D24","v":"Input3A"},{"$f":"+AddonDevice!E24","v":"Input3B"},{"$f":"+AddonDevice!F24","v":"Input3C"},null,0,0,0,null,0,0,"Panel Powered","Water",47]
[null,null,null,null,null,null,null,null,null,0,null,null,null,null,5,48]
["C"," ","Addressable Field Devices - Standard ",null,null,null,null,{"$f":"SUM(H58:H79)","v":2},null,{"$f":"SUM(J58:J80)","v":0},null,null,null,null,10," "]
[null,1,"4098-9714","Photo Smoke","Addressable Photo Detector(UL268 7th Edition)","UL268 & FM","PDF",{"$f":"+'4007ES(Addr)'!G87","v":0},0,0,null,0,0,"Looped Powered",15]
[null,2,"4098-9733","Heat Detector","Addressable Heat Detector","UL & FM Listed","PDF",{"$f":"+'4007ES(Addr)'!G88","v":0},0,0,null,0,0,"Looped Powered",30]
[null,3,"4098-9734","High Temp Detector","Addressable High Temp Heat Detector","UL & FM Listed","PDF",{"$f":"+'4007ES(Addr)'!G89","v":0},0,0,null,0,0,"Looped Powered",45]
[null,4,"4098-9792","Addr Base","Addressable Standard Base","UL & FM Listed","PDF",{"$f":"+'4007ES(Addr)'!G90","v":0},0,0,null,0,0,"Looped Powered",60]
[null,{"$f":"+B61+1","v":5},"4098-9789","Addr Base","Addressable Base with Remote LED","UL & FM Listed","PDF",0,0,0,null,0,0,"Looped Powered",75]
[null,{"$f":"+B62+1","v":6},"4098-9794","Addr Base","Addressable Sounder Base","UL & FM Listed","PDF",0,0,0,null,0,0,"Looped Powered",90]
[null,{"$f":"+B63+1","v":7},"4098-9793 ","Addr Base","Addressable Isolator Base","UL & FM Listed","PDF",0,0,0,null,0,0,"Looped Powered",0.1]
[null,{"$f":"+B64+1","v":8},"4098-9770","Addr Base CO","CO Base, Standard operation","UL & FM Listed","PDF",{"$f":"+'4007ES(Addressable)'!N67","v":0},0,0,null,0,0,"Looped Powered",0.2]
[null,9,"4098-9771","Addr Base CO","CO Base with Sounder ","UL & FM Listed","PDF",0,0,0,null,0,0,"Looped Powered",0.25]
[null,{"$f":"+B66+1","v":10},"4099-9004","Addr Pullstation","Addressable Pull Station for Commercial Application-Single Action","UL & FM Listed","PDF",{"$f":"+'4007ES(Addr)'!G91","v":0},0,{"$f":"+I67+H67","v":0},null,null,null,null,0.3]
[null,null,null,null,null,null,null,1,null,{"$f":"SUM(J69:J72)","v":0},null,null,null,null,0.4]
[null,{"$f":"B67+1","v":11},"4090-9001","Module -Input","Addressable Single Input Module","UL & FM Listed","PDF",{"$f":"+'4007ES(Addr)'!G64+'4007ES(Addr)'!G76+'4007ES(Addr)'!G78+'4007ES(Addr)'!G80+'4007ES(Addr)'!G83+'4007ES(Addr)'!G85+'4007ES(Addr)'!G92+'4007ES(Addr)'!G124","v":0},0,0,null,0,0,"Looped Powered",0.5]
[null,{"$f":"+B69+1","v":12},"4090-9002","Module -Output","Addressable Single Relay Module","UL & FM Listed","PDF",{"$f":"+'4007ES(Addr)'!G69+'4007ES(Addr)'!G94+'4007ES(Addr)'!G169","v":0},0,0,null,0,0,"Looped Powered",24]
[null,{"$f":"+B70+1","v":13},"4090-9007","Module - Output","Addressable Signal ZAM module","UL & FM Listed","PDF",{"$f":"+'4007ES(Addr)'!G95+'4007ES(Addr)'!G168","v":0},0,0,null,0,0,"Looped Powered",36]
[null,{"$f":"+B71+1","v":14},"4090-9101","Module - Zone","Addressable Semi Addressable Module","UL & FM Listed","PDF",{"$f":"+'4007ES(Addr)'!G94+'4007ES(Addr)'!G125","v":0},0,0,null,0,0,"Looped Powered",48,"4004R"]
[null,null,null,null,null,null,null,1,null,{"$f":"SUM(J74:J80)","v":0},null,null,null,null,60,"4004R"]
[null,{"$f":"+B72+1","v":15},{"$f":"+AddonDevice!C27","v":"Customised 1"},{"$f":"+AddonDevice!D27","v":"Input1A"},{"$f":"+AddonDevice!E27","v":"Addressable Field Devices Input1B"},{"$f":"+AddonDevice!F27","v":"Listing Input1C"},null,{"$f":"+'4007ES(Addr)'!G103","v":0},0,0,null,0,0,"Please input \"Aux PS\" if needed",90,"4004R"]
[null,{"$f":"+B74+1","v":16},{"$f":"+AddonDevice!C28","v":"Customised 2"},{"$f":"+AddonDevice!D28","v":"Input2A"},{"$f":"+AddonDevice!E28","v":"Addressable Field Devices Input2B"},{"$f":"+AddonDevice!F28","v":"Listing Input2C"},null,{"$f":"+'4007ES(Addr)'!G104","v":0},0,{"$f":"+I75+H75","v":0},null,0,0,"Please input \"Aux PS\" if needed",110,"4004R"]
[null,17,{"$f":"+AddonDevice!C29","v":"Customised 3"},{"$f":"+AddonDevice!D29","v":"Input3A"},{"$f":"+AddonDevice!E29","v":"Addressable Field Devices Input3B"},{"$f":"+AddonDevice!F29","v":"Listing Input3C"},null,{"$f":"+'4007ES(Addr)'!G105","v":0},0,0,null,0,0,"Please input \"Aux PS\" if needed","No Selection","4004R"]
[null,18,{"$f":"+AddonDevice!C30","v":"Customised 4"},{"$f":"+AddonDevice!D30","v":"Input4A"},{"$f":"+AddonDevice!E30","v":"Addressable Field Devices Input4B"},{"$f":"+AddonDevice!F30","v":"Listing Input4C"},null,{"$f":"+'4007ES(Addr)'!G106","v":0},0,0,null,0,0,"Please input \"Aux PS\" if needed","4007ES"]
[null,19,{"$f":"+AddonDevice!C31","v":"Customised 5"},{"$f":"+AddonDevice!D31","v":"Input5A"},{"$f":"+AddonDevice!E31","v":"Addressable Field Devices Input5B"},{"$f":"+AddonDevice!F31","v":"Listing Input5C"},null,{"$f":"+'4007ES(Addr)'!G107","v":0},0,0,null,0,0,"Please input \"Aux PS\" if needed","No Selection"]
[null,20,{"$f":"+AddonDevice!C32","v":"Customised 6"},{"$f":"+AddonDevice!D32","v":"Input6A"},{"$f":"+AddonDevice!E32","v":"Addressable Field Devices Input 6B"},{"$f":"+AddonDevice!F32","v":"Listing Input6C"},null,{"$f":"+'4007ES(Addr)'!G108","v":0},0,0,null,0,0,"Please input \"Aux PS\" if needed"]
[null,null,null,null,null,null,null,0,null,0,null,0,0,null,"No Selection"]
["G",null,"Addressable/Conventional Field Devices - Special",null,null,null,null,{"$f":"SUM(H82:H102)","v":3},null,{"$f":"SUM(J82:J103)","v":0},null,null,null,null,"4007ES"]
[null,1,"4098-VEP-A00-1P","Addressable Device","4098-VEP-A00-1P - Current base on 5 pipes","UL268 7th Edition Listed","PDF",{"$f":"+'4007ES(Addr)'!G96","v":0},0,0,null,320,350,"Loop Powered","NAC Repeat 1"]
[null,{"$f":"+B82+1","v":2},"4098-VEP-A00-P","Addressable Device","4098-VEP-A00-P - Current base on 5 pipes","UL268 7th Edition Listed","PDF",{"$f":"+'4007ES(Addr)'!G97","v":0},0,0,null,360,400,{"$f":"+N82","v":"Loop Powered"},"NAC Repeat 2"]
[null,{"$f":"+B83+1","v":3},"4098-VEP-A10-P ","Addressable Device","4098-VEP-A10-P - Current base on 5 pipes","UL268 7th Edition Listed","PDF",{"$f":"+'4007ES(Addr)'!G98","v":0},0,0,null,400,430,"Loop Powered","NAC Repeat 3"]
[null,4,"4098-VEU-A00","Addressable Device","4098-VEU-A00 - Base on 5 pipes","UL268 7th Edition Listed","PDF",{"$f":"+'4007ES(Addr)'!G99","v":0},0,0,null,360,400,"Loop Powered","NAC Repeat 4"]
[null,5,"4098-VEU-A10","Addressable Device","4098-VEU-A10 - Base on 5 pipes","UL268 7th Edition Listed","PDF",{"$f":"+'4007ES(Addr)'!G100","v":0},0,0,null,400,430,"Loop Powered","NAC Repeat 5"]
[null,6,"4098-VES-A00-P","Addressable Device","4098-VES-A00-P","UL268 7th Edition Listed","PDF",{"$f":"+'4007ES(Addr)'!G101","v":0},0,0,null,360,400,"Loop Powered","No Selection"]
[null,7,"4098-VES-A10-P","Addressable Device","4098-VES-A10-P","UL268 7th Edition Listed","PDF",{"$f":"+'4007ES(Addr)'!G102","v":0},0,0,null,400,430,"Loop Powered","NAC Repeat 1"]
[null,null,null,null,null,null,null,1,null,{"$f":"SUM(J90:J91)","v":0},null,null,null,null,"NAC Repeat 2"]
[null,8,"FireRay1","Conventional Device","Fireray One","UL Listed","PDF",{"$f":"+'4007ES(Addr)'!G118","v":0},0,0,null,5,33,"Aux PS","NAC Repeat 3"]
[null,9,"4098-XAD","XAD","Addressable 4098-XAD-100, 4098-XAD-110, 4098-XAD-200, 4098-XAD-210","UL Listed","PDF",{"$f":"+'4007ES(Addr)'!G102","v":0},0,0,null,300,680,"Aux PS","NAC Repeat 4"]
[null,null,null,null,null,null,null,1,null,{"$f":"SUM(J93:J96)","v":0},null,null,null,null,"NAC Repeat 5"]
[null,{"$f":"+B91+1","v":10},"601F","Conventional Device","Zettler Single IR Point Flame Detector",null,null,{"$f":"+'4007ES(Addr)'!G114","v":0},0,0,null,0,0,"IDC Powered"]
[null,11,"FV400","Conventional Device","Zettler Triple IR Flame Detector","FM ",null,{"$f":"+'4007ES(Addr)'!G115","v":0},0,0,null,null,null,"Aux PS","120VAC"]
[null,{"$f":"+B94+1","v":12},"ProReact","Conventional Device","Zettler Linear Heat Detector Copper",null,null,{"$f":"+'4007ES(Addr)'!G116","v":0},0,0,null,null,null,"Aux PS","240VAC"]
[null,{"$f":"+B95+1","v":13},"APSensing","Conventional Device","Zettler Linear Heat Detector Fiber Optic",null,null,{"$f":"+'4007ES(Addr)'!G117","v":0},0,{"$f":"+I96+H96","v":0},null,null,null,"Aux PS"]
[null,null,null,null,null,null,null,1,null,{"$f":"SUM(J98:J103)","v":0}]
[null,{"$f":"+B96+1","v":14},{"$f":"+AddonDevice!C35","v":"Customised 1"},{"$f":"+AddonDevice!D35","v":"Input1A"},{"$f":"+AddonDevice!E35","v":"Special Device Input1B"},{"$f":"+AddonDevice!F35","v":"Input1C"},null,{"$f":"+'4007ES(Addr)'!G119","v":0},0,0,null,{"$f":"+AddonDevice!H35","v":0},{"$f":"+AddonDevice!I35","v":0},{"$f":"+AddonDevice!J35","v":"Input \"Aux PS\" As Reqd"},"None"]
[null,{"$f":"+B98+1","v":15},{"$f":"+AddonDevice!C36","v":"Customised 2"},{"$f":"+AddonDevice!D36","v":"Input2A"},{"$f":"+AddonDevice!E36","v":"Special Device Input2B"},{"$f":"+AddonDevice!F36","v":"Input2C"},null,{"$f":"+'4007ES(Addr)'!G120","v":0},0,{"$f":"+I99+H99","v":0},null,{"$f":"+AddonDevice!H36","v":0},{"$f":"+AddonDevice!I36","v":0},{"$f":"+AddonDevice!J36","v":"Input \"Aux PS\" As Reqd"},"RS485"]
[null,16,{"$f":"+AddonDevice!C37","v":"Customised 3"},{"$f":"+AddonDevice!D37","v":"Input3A"},{"$f":"+AddonDevice!E37","v":"Special Device Input3B"},{"$f":"+AddonDevice!F37","v":"Input3C"},null,{"$f":"+'4007ES(Addr)'!G121","v":0},0,0,null,{"$f":"+AddonDevice!H37","v":0},{"$f":"+AddonDevice!I37","v":0},{"$f":"+AddonDevice!J37","v":"Input \"Aux PS\" As Reqd"},"MM Fiber"]
[null,17,{"$f":"+AddonDevice!C38","v":"Customised 4"},{"$f":"+AddonDevice!D38","v":"Input4A"},{"$f":"+AddonDevice!E38","v":"Special Device Input4B"},{"$f":"+AddonDevice!F38","v":"Input4C"},null,{"$f":"+'4007ES(Addr)'!G122","v":0},0,0,null,{"$f":"+AddonDevice!H38","v":0},{"$f":"+AddonDevice!I38","v":0},{"$f":"+AddonDevice!J38","v":"Input \"Aux PS\" As Reqd"},"SM Fiber"]
[null,18,{"$f":"+AddonDevice!C39","v":"Customised 5"},{"$f":"+AddonDevice!D39","v":"Input5A"},{"$f":"+AddonDevice!E39","v":"Special Device Input5B"},{"$f":"+AddonDevice!F39","v":"Input5C"},null,{"$f":"+'4007ES(Addr)'!G123","v":0},0,0,null,{"$f":"+AddonDevice!H39","v":0},{"$f":"+AddonDevice!I39","v":0},{"$f":"+AddonDevice!J39","v":"Input \"Aux PS\" As Reqd"}]
[null,null," "," "," "," ",null,0," ",0,null," "," ",{"$f":"+AddonDevice!J40","v":0}]
["D",null,"Releasing Periipherals(Addressable and Conventional)",null,null," ",null,{"$f":"SUM(H105:H121)","v":1},null,{"$f":"SUM(J105:J114)","v":0}]
[null,1,"2099-9149","Conventional Device","Conventional Manual Overide Pullstation","UL268 & FM","PDF",{"$f":"+'4007ES(Addressable)'!N48","v":0},0,0,null,0,0,"Zone Powered"]
[null,{"$f":"+B105+1","v":2},"4099-9015","Addressable Device","Addressable Manual Overide Pullstation","UL & FM Listed","PDF",{"$f":"+'4007ES(Addr)'!G65","v":0},0,0,null,0,0,"Loop Powered"]
[null,{"$f":"+B106+1","v":3},"4099-9802","Sticker","Pull Station Suppression Label Kit for Specific Application","UL & FM Listed","PDF",{"$f":"+'4007ES(Addr)'!G66","v":0},0,{"$f":"+I107+H107","v":0},null,0,0,"NA"]
[null,{"$f":"+B107+1","v":4},"4090-9005","Addressable Device","Addr Basic Suppression Release Peripheral on mounting plate","UL & FM Listed","PDF",0,0,0,null,0,0,"Loop Powered"]
[null,{"$f":"+B108+1","v":5},"4090-9006","Addressable Device","Addr Suppression Release Peripheral mounted in NEMA 1 red box;","UL & FM Listed","PDF",{"$f":"+'4007ES(Addr)'!G59","v":0},0,0,null,0,0,"NA"]
[null,{"$f":"+B109+1","v":6},"2081-9046","RAC Accessories","Coil Supervision Module (01 Each RAC)","UL Listed","PDF",{"$f":"+'4007ES(Addr)'!G60","v":0},0,0,null,0,0,"NA"]
[null,7,"2081-9067","Accessories","Abort Switch","UL Listed","PDF",{"$f":"+'4007ES(Addr)'!G63","v":0},0,0,null,0,0,"NA"]
[null,8,"2080-9059","Accessories","Maintenance Switch without Lights","UL Listed","PDF",{"$f":"+'4007ES(Addr)'!G61","v":0},0,0,null,0,0,"NA"]
[null,{"$f":"+B112+1","v":9},"2080-9069","Accessories","Maintenance Switch with Lights","UL Listed","PDF",{"$f":"+'4007ES(Addr)'!G62","v":0},0,{"$f":"+I113+H113","v":0},null,0,83,"Aux PS"]
[null," "," "," "," "," "," "," "," ",0," "," "," "]
[null,null,null,null,null,null,null,1,null,{"$f":"SUM(J116:J122)","v":0}]
[null,{"$f":"+B113+1","v":10},{"$f":"+AddonDevice!C42","v":"Local"},{"$f":"+AddonDevice!D42","v":"Discharge Signage"},{"$f":"AddonDevice!E42","v":"Discharge Display  Signage"},{"$f":"+AddonDevice!F42","v":"Local"},null,{"$f":"+'4007ES(Addr)'!G67","v":0},0,{"$f":"+I116+H116","v":0},null,{"$f":"+AddonDevice!H42","v":0},{"$f":"+AddonDevice!I42","v":150},"Aux PS"]
[null,{"$f":"+B116+1","v":11},{"$f":"+AddonDevice!C43","v":"Local"},{"$f":"+AddonDevice!D43","v":"1st Alarm Signage"},{"$f":"+AddonDevice!E43","v":"Pre Release Display Signage"},{"$f":"+AddonDevice!F43","v":"Local"},null,{"$f":"+'4007ES(Addr)'!G68","v":0},0,{"$f":"+I117+H117","v":0},null,{"$f":"+AddonDevice!H43","v":0},{"$f":"+AddonDevice!I43","v":150},"Aux PS"]
[null,12,{"$f":"+AddonDevice!C44","v":"Customised 3"},{"$f":"+AddonDevice!D44","v":"Input1A"},{"$f":"+AddonDevice!E44","v":"Releasing Peripherals Input3B"},{"$f":"+AddonDevice!F44","v":"Input3C"},null,{"$f":"+'4007ES(Addr)'!G70","v":0},0,{"$f":"+I118+H118","v":0},null,{"$f":"+AddonDevice!H44","v":0},{"$f":"+AddonDevice!I44","v":0},{"$f":"+AddonDevice!J44","v":"Input \"Aux PS\" As Reqd"}]
[null,13,{"$f":"+AddonDevice!C45","v":"Customised 4"},{"$f":"+AddonDevice!D45","v":"Input4A"},{"$f":"+AddonDevice!E45","v":"Releasing Peripherals Input4B"},{"$f":"+AddonDevice!F45","v":"Input4C"},null,{"$f":"+'4007ES(Addr)'!G71","v":0},0,0,null,{"$f":"+AddonDevice!H45","v":0},{"$f":"+AddonDevice!I45","v":0},{"$f":"+AddonDevice!J45","v":"Input \"Aux PS\" As Reqd"}]
[null,14,{"$f":"+AddonDevice!C46","v":"Customised 5"},{"$f":"+AddonDevice!D46","v":"Input5A"},{"$f":"+AddonDevice!E46","v":"Releasing Peripherals Input5B"},{"$f":"+AddonDevice!F46","v":"Input5C"},null,{"$f":"+'4007ES(Addr)'!G72","v":0},0,0,null,{"$f":"+AddonDevice!H46","v":0},{"$f":"+AddonDevice!I46","v":0},{"$f":"+AddonDevice!J46","v":"Input \"Aux PS\" As Reqd"}]
[null,15,{"$f":"+AddonDevice!C47","v":"Customised 6"},{"$f":"+AddonDevice!D47","v":"Input6A"},{"$f":"+AddonDevice!E47","v":"Releasing Peripherals Input6B"},{"$f":"+AddonDevice!F47","v":"Input6C"},null,{"$f":"+'4007ES(Addr)'!G73","v":0},0,0,null,{"$f":"+AddonDevice!H47","v":0},{"$f":"+AddonDevice!I47","v":0},{"$f":"+AddonDevice!J47","v":"Input \"Aux PS\" As Reqd"}]
[null,null,null,null,null,null,null,0,null,0,null,{"$f":"+AddonDevice!H48","v":0},{"$f":"+AddonDevice!I48","v":0},{"$f":"+AddonDevice!J48","v":0}]
["H",null,"Conventional Field Devices",null,null,null,null,{"$f":"SUM(H124:H134)","v":1}," ",{"$f":"SUM(J124:J135)","v":0}]
[null,1,"516.900.201","Conventional Device","721P OPTICAL DET 721P UL","UL 268 7th Edition",null,{"$f":"+'4007ES(Addr)'!G110","v":0},0,0,null,3,50,"IDC Powered"]
[null,{"$f":"+B124+1","v":2},"516.900.203","Conventional Device","721H HEAT RoR 135F DET UL","UL & FM ",null,{"$f":"+'4007ES(Addr)'!G111","v":0},0,0,null,3,36,"IDC Powered"]
[null,{"$f":"+B125+1","v":3},"516.900.204","Conventional Device","722H HEAT FIX 135F DET UL","UL & FM ",null,{"$f":"'4007ES(Addr)'!G112","v":0},0,0,null,3,37,"IDC Powered"]
[null,{"$f":"+B126+1","v":4},"516.900.206","Conventional Device","700 series 4B BASE","UL & FM ",null,{"$f":"'4007ES(Addr)'!G113","v":0},0,0,null,null,null,"IDC Powered"]
[null,null,null,null,null,null,null,1,null,{"$f":"SUM(J129:J134)","v":0}]
[null,{"$f":"+B127+1","v":5},"516.900.205","Conventional Device","723H - HEAT FIX 200F DET UL","UL & FM",null,0,0,0,null,3,60,"IDC Powered"]
[null,{"$f":"+B129+1","v":6},"516.900.202","Conventional Device","721PH - OPT&HEAT DET UL","UL & FM",null,0,0,{"$f":"+I130+H130","v":0},null,{"$f":"+AddonDevice!H106","v":0},{"$f":"+AddonDevice!I106","v":0},"IDC Powered"]
[null,7,{"$f":"+AddonDevice!C105","v":"Customised 1"},{"$f":"+AddonDevice!D105","v":"Input1A"},{"$f":"+AddonDevice!E105","v":"Input1B- 2 Wired Powered by IDC"},{"$f":"+AddonDevice!F105","v":"Input1C"},null,{"$f":"+'4007ES(Addr)'!G126","v":0},0,0,null,{"$f":"+AddonDevice!H99","v":0},{"$f":"+AddonDevice!I99","v":0},"IDC Powered"]
[null,8,{"$f":"+AddonDevice!C106","v":"Customised 2"},{"$f":"+AddonDevice!D106","v":"Input2A"},{"$f":"+AddonDevice!E106","v":"Input2B- 2 Wired Powered by IDC"},{"$f":"+AddonDevice!F106","v":"Input2C"},null,{"$f":"+'4007ES(Addr)'!G127","v":0},0,0,null,{"$f":"+AddonDevice!H100","v":0},{"$f":"+AddonDevice!I100","v":0},"IDC Powered"]
[null,9,{"$f":"+AddonDevice!C107","v":"Customised 3"},{"$f":"+AddonDevice!D107","v":"Input3A"},{"$f":"+AddonDevice!E107","v":"Input3B- 2 Wired Powered by IDC"},{"$f":"+AddonDevice!F107","v":"Input3C"},null,{"$f":"+'4007ES(Addr)'!G128","v":0},0,0,null,{"$f":"+AddonDevice!H101","v":0},{"$f":"+AddonDevice!I101","v":0},"IDC Powered"]
[null,10,{"$f":"+AddonDevice!C108","v":"Customised 4"},{"$f":"+AddonDevice!D108","v":"Input4A"},{"$f":"+AddonDevice!E108","v":"Input4B- 2 Wired Powered by IDC"},{"$f":"+AddonDevice!F108","v":"Input4C"},null,{"$f":"+'4007ES(Addr)'!G129","v":0},0,0,null,{"$f":"+AddonDevice!H102","v":0},{"$f":"+AddonDevice!I102","v":0},"IDC Powered"]
[null,null,null,null,null,null,null,0,null,0]
["E",null,"Conventional Notification Devices",null,null,null,null,{"$f":"SUM(H137:H190)","v":1},null,{"$f":"SUM(J137:J190)","v":0}]
[" ",1,"4901-9820","Horn Only","Red Wall Mounted Horn","UL & FM Listed",null,{"$f":"'4007ES(Addr)'!G159","v":0},0,0,null,0,27,"NAC Powered"]
["  ",2,"4906-9127","Horn & Strobe 15Cd","15 cd Red Wall Horn Strobe","UL & FM Listed",null,{"$f":"+'4007ES(Addr)'!G156","v":0},0,0,null,0,75,"NAC Powered"]
[" ",3,"4906-9127","Horn & Strobe 30Cd","30 cd Red Wall Horn Strobe","UL & FM Listed",null,{"$f":"+'4007ES(Addr)'!G157","v":0},0,0,null,0,116,"NAC Powered"]
[" ",4,"4906-9127","Horn & Strobe 75Cd","75 cd Red Wall Horn Strobe","UL & FM Listed",null,{"$f":"+'4007ES(Addr)'!G158","v":0},0,0,null,0,221,"NAC Powered"]
[" ",5,"43T-G6-24-R","Bell Only","Vibrating Bell 6\" - 24 VDC","UL Listed",null,{"$f":"+'4007ES(Addr)'!G155","v":0},0,0,null,0,41,"NAC Powered"]
[null,null,null,null,null,null,null,1,null,{"$f":"SUM(J143:J148)","v":0}]
[null,{"$f":"+B141+1","v":6},{"$f":"+AddonDevice!C112","v":"Customised 1"},{"$f":"+AddonDevice!D112","v":"Input1A"},{"$f":"+AddonDevice!E112","v":"Input1B - Notification Device 1"},{"$f":"+AddonDevice!F112","v":"Input1C"},null,{"$f":"+'4007ES(Addr)'!G160","v":0},0,{"$f":"+I143+H143","v":0},null,0,{"$f":"+AddonDevice!I112","v":0},"NAC Powered"]
[null,{"$f":"+B143+1","v":7},{"$f":"+AddonDevice!C113","v":"Customised 2"},{"$f":"+AddonDevice!D113","v":"Input2A"},{"$f":"+AddonDevice!E113","v":"Input2B - Notification Device 2"},{"$f":"+AddonDevice!F113","v":"Input2C"},null,{"$f":"+'4007ES(Addr)'!G161","v":0},0,{"$f":"+I144+H144","v":0},null,0,{"$f":"+AddonDevice!I113","v":0},"NAC Powred"]
[null,8,{"$f":"+AddonDevice!C114","v":"Customised 3"},{"$f":"+AddonDevice!D114","v":"Input3A"},{"$f":"+AddonDevice!E114","v":"Input3B - Notification Device 3"},{"$f":"+AddonDevice!F114","v":"Input3C"},null,{"$f":"+'4007ES(Addr)'!G162","v":0},0,0,null,0,{"$f":"+AddonDevice!I114","v":0},"NAC Powred"]
[null,9,{"$f":"+AddonDevice!C115","v":"Customised 4"},{"$f":"+AddonDevice!D115","v":"Input4A"},{"$f":"+AddonDevice!E115","v":"Input4B - Notification Device 4"},{"$f":"+AddonDevice!F115","v":"Input4C"},null,{"$f":"+'4007ES(Addr)'!G163","v":0},0,0,null,0,{"$f":"+AddonDevice!I115","v":0},"NAC Powred"]
[null,10,{"$f":"+AddonDevice!C116","v":"Customised 5"},{"$f":"+AddonDevice!D116","v":"Input5A"},{"$f":"+AddonDevice!E116","v":"Input5B - Notification Device 5"},{"$f":"+AddonDevice!F116","v":"Input5C"},null,{"$f":"+'4007ES(Addr)'!G164","v":0},0,0,null,0,{"$f":"+AddonDevice!I116","v":0},"NAC Powred"]
[null,11,{"$f":"+AddonDevice!C117","v":"Customised 6"},{"$f":"+AddonDevice!D117","v":"Input6A"},{"$f":"+AddonDevice!E117","v":"Input6B - Notifiation Device 6"},{"$f":"+AddonDevice!F117","v":"Input6C"},null,{"$f":"'4007ES(Addr)'!G165","v":0},0,0,null,0,{"$f":"+AddonDevice!I117","v":0},"NAC Powred"]
["F"," ","Installation Info on Max Distance Run from 4007ES Panel NAC circuit to Addressable Module, then to Notification Device",null,null,null,null,null,null,{"$f":"SUM(J150:J190)","v":0}]
["Hazard Zone","S/NO","Sub Details","Current Loading","Details","Wire Gauge","Ohm @ Km","Worse Case Distance","Plus or Minus","Final Distance"]
[1,1,{"$f":"IF('4007ES(Addr)'!$K$19=\"No Selection\",\"\",\"Zone 1\")","v":""},{"$f":"IF('4007ES(Addr)'!$K$19=\"No Selection\",0,'4007ES(Addr)'!K$172)","v":0},{"$f":"IF('4007ES(Addr)'!K$19=\"No Selection\",\"\",'4007ES(Addr)'!K$13)","v":""},{"$f":"IF('4007ES(Addr)'!K$19=\"No Selection\",\"\",'4007ES(Addr)'!K$182)","v":""},{"$f":"IF('4007ES(Addr)'!K$19=\"No Selection\",0,'4007ES(Addr)'!K184)","v":0},{"$f":"IF('4007ES(Addr)'!K$19=\"No Selection\",0,'4007ES(Addr)'!K$177)","v":0},null,{"$f":"+H151+I151","v":0}]
[null,2,{"$f":"IF('4007ES(Addr)'!$K$19=\"No Selection\",\"\",\"Zone 2\")","v":""},{"$f":"IF('4007ES(Addr)'!$K$19=\"No Selection\",0,'4007ES(Addr)'!K$174)","v":0},{"$f":"IF('4007ES(Addr)'!K$19=\"No Selection\",\"\",'4007ES(Addr)'!K$13)","v":""},null,null,{"$f":"IF('4007ES(Addr)'!K$19=\"No Selection\",0,'4007ES(Addr)'!K$179)","v":0},null,0]
[{"$f":"+A151+1","v":2},1,{"$f":"IF('4007ES(Addr)'!$L$19=\"No Selection\",\"\",\"Zone 1\")","v":""},{"$f":"IF('4007ES(Addr)'!$L$19=\"No Selection\",0,'4007ES(Addr)'!L$172)","v":0},{"$f":"IF('4007ES(Addr)'!L$19=\"No Selection\",\"\",'4007ES(Addr)'!L$13)","v":""},{"$f":"IF('4007ES(Addr)'!$L19=\"No Selection\",\"\",'4007ES(Addr)'!L$182)","v":""},{"$f":"IF('4007ES(Addr)'!L$19=\"No Selection\",0,'4007ES(Addr)'!L184)","v":0},{"$f":"IF('4007ES(Addr)'!L$19=\"No Selection\",0,'4007ES(Addr)'!L$177)","v":0},null,0]
[null,2,{"$f":"IF('4007ES(Addr)'!$L$19=\"No Selection\",\"\",\"Zone 2\")","v":""},{"$f":"IF('4007ES(Addr)'!$L$19=\"No Selection\",0,'4007ES(Addr)'!L$174)","v":0},{"$f":"IF('4007ES(Addr)'!L$19=\"No Selection\",\"\",'4007ES(Addr)'!L$13)","v":""},null,null,{"$f":"IF('4007ES(Addr)'!L$19=\"No Selection\",0,'4007ES(Addr)'!L$179)","v":0},null,0]
[{"$f":"+A153+1","v":3},1,{"$f":"IF('4007ES(Addr)'!$M$19=\"No Selection\",\"\",\"Zone 1\")","v":""},{"$f":"IF('4007ES(Addr)'!$M$19=\"No Selection\",0,'4007ES(Addr)'!M$172)","v":0},{"$f":"IF('4007ES(Addr)'!M$19=\"No Selection\",\"\",'4007ES(Addr)'!M$13)","v":""},{"$f":"IF('4007ES(Addr)'!$M19=\"No Selection\",\"\",'4007ES(Addr)'!M$182)","v":""},{"$f":"IF('4007ES(Addr)'!M$19=\"No Selection\",0,'4007ES(Addr)'!M184)","v":0},{"$f":"IF('4007ES(Addr)'!M$19=\"No Selection\",0,'4007ES(Addr)'!M$177)","v":0},null,0]
[null,2,{"$f":"IF('4007ES(Addr)'!$M$19=\"No Selection\",\"\",\"Zone 2\")","v":""},{"$f":"IF('4007ES(Addr)'!$M$19=\"No Selection\",0,'4007ES(Addr)'!M$174)","v":0},{"$f":"IF('4007ES(Addr)'!M$19=\"No Selection\",\"\",'4007ES(Addr)'!M$13)","v":""},null,null,{"$f":"IF('4007ES(Addr)'!M$19=\"No Selection\",0,'4007ES(Addr)'!M$179)","v":0},null,0]
[{"$f":"+A155+1","v":4},1,{"$f":"IF('4007ES(Addr)'!$N$19=\"No Selection\",\"\",\"Zone 1\")","v":""},{"$f":"IF('4007ES(Addr)'!$N$19=\"No Selection\",0,'4007ES(Addr)'!N$172)","v":0},{"$f":"IF('4007ES(Addr)'!$N$19=\"No Selection\",\"\",'4007ES(Addr)'!N$13)","v":""},{"$f":"IF('4007ES(Addr)'!$N19=\"No Selection\",\"\",'4007ES(Addr)'!N$182)","v":""},{"$f":"IF('4007ES(Addr)'!N$19=\"No Selection\",0,'4007ES(Addr)'!N184)","v":0},{"$f":"IF('4007ES(Addr)'!N$19=\"No Selection\",0,'4007ES(Addr)'!N$177)","v":0},null,0]
[null,2,{"$f":"IF('4007ES(Addr)'!$N$19=\"No Selection\",\"\",\"Zone 2\")","v":""},{"$f":"IF('4007ES(Addr)'!$N$19=\"No Selection\",0,'4007ES(Addr)'!N$174)","v":0},{"$f":"IF('4007ES(Addr)'!$N$19=\"No Selection\",\"\",'4007ES(Addr)'!N$13)","v":""},null,null,{"$f":"IF('4007ES(Addr)'!N$19=\"No Selection\",0,'4007ES(Addr)'!N$179)","v":0},null,0]
[{"$f":"+A157+1","v":5},1,{"$f":"IF('4007ES(Addr)'!$O$19=\"No Selection\",\"\",\"Zone 1\")","v":""},{"$f":"IF('4007ES(Addr)'!$O$19=\"No Selection\",0,'4007ES(Addr)'!O$172)","v":0},{"$f":"IF('4007ES(Addr)'!$O$19=\"No Selection\",\"\",'4007ES(Addr)'!O$13)","v":""},{"$f":"IF('4007ES(Addr)'!$O19=\"No Selection\",\"\",'4007ES(Addr)'!O$182)","v":""},{"$f":"IF('4007ES(Addr)'!O$19=\"No Selection\",0,'4007ES(Addr)'!O184)","v":0},{"$f":"IF('4007ES(Addr)'!O$19=\"No Selection\",0,'4007ES(Addr)'!O$177)","v":0},null,0]
[null,2,{"$f":"IF('4007ES(Addr)'!$O$19=\"No Selection\",\"\",\"Zone 2\")","v":""},{"$f":"IF('4007ES(Addr)'!$O$19=\"No Selection\",0,'4007ES(Addr)'!O$174)","v":0},{"$f":"IF('4007ES(Addr)'!$O$19=\"No Selection\",\"\",'4007ES(Addr)'!O$13)","v":""},null,null,{"$f":"IF('4007ES(Addr)'!O$19=\"No Selection\",0,'4007ES(Addr)'!O$179)","v":0},null,0]
[{"$f":"+A159+1","v":6},1,{"$f":"IF('4007ES(Addr)'!$P$19=\"No Selection\",\"\",\"Zone 1\")","v":""},{"$f":"IF('4007ES(Addr)'!$P$19=\"No Selection\",0,'4007ES(Addr)'!P$172)","v":0},{"$f":"IF('4007ES(Addr)'!$P$19=\"No Selection\",\"\",'4007ES(Addr)'!P$13)","v":""},{"$f":"IF('4007ES(Addr)'!$P19=\"No Selection\",\"\",'4007ES(Addr)'!P$182)","v":""},{"$f":"IF('4007ES(Addr)'!P$19=\"No Selection\",0,'4007ES(Addr)'!P184)","v":0},{"$f":"IF('4007ES(Addr)'!P$19=\"No Selection\",0,'4007ES(Addr)'!P$177)","v":0},null,0]
[null,2,{"$f":"IF('4007ES(Addr)'!$P$19=\"No Selection\",\"\",\"Zone 2\")","v":""},{"$f":"IF('4007ES(Addr)'!$P$19=\"No Selection\",0,'4007ES(Addr)'!P$174)","v":0},{"$f":"IF('4007ES(Addr)'!$P$19=\"No Selection\",\"\",'4007ES(Addr)'!P$13)","v":""},null,null,{"$f":"IF('4007ES(Addr)'!P$19=\"No Selection\",0,'4007ES(Addr)'!P$179)","v":0},null,0]
[{"$f":"+A161+1","v":7},1,{"$f":"IF('4007ES(Addr)'!$Q$19=\"No Selection\",\"\",\"Zone 1\")","v":""},{"$f":"IF('4007ES(Addr)'!$Q$19=\"No Selection\",0,'4007ES(Addr)'!Q$172)","v":0},{"$f":"IF('4007ES(Addr)'!$Q$19=\"No Selection\",\"\",'4007ES(Addr)'!Q$13)","v":""},{"$f":"IF('4007ES(Addr)'!$Q19=\"No Selection\",\"\",'4007ES(Addr)'!Q$182)","v":""},{"$f":"IF('4007ES(Addr)'!Q$19=\"No Selection\",0,'4007ES(Addr)'!Q184)","v":0},{"$f":"IF('4007ES(Addr)'!Q$19=\"No Selection\",0,'4007ES(Addr)'!Q$177)","v":0},null,0]
[null,2,{"$f":"IF('4007ES(Addr)'!$Q$19=\"No Selection\",\"\",\"Zone 2\")","v":""},{"$f":"IF('4007ES(Addr)'!$Q$19=\"No Selection\",0,'4007ES(Addr)'!Q$174)","v":0},{"$f":"IF('4007ES(Addr)'!$Q$19=\"No Selection\",\"\",'4007ES(Addr)'!Q$13)","v":""},null,null,{"$f":"IF('4007ES(Addr)'!Q$19=\"No Selection\",0,'4007ES(Addr)'!Q$179)","v":0},null,0]
[{"$f":"+A163+1","v":8},1,{"$f":"IF('4007ES(Addr)'!$R$19=\"No Selection\",\"\",\"Zone 1\")","v":""},{"$f":"IF('4007ES(Addr)'!$R$19=\"No Selection\",0,'4007ES(Addr)'!R$172)","v":0},{"$f":"IF('4007ES(Addr)'!$R$19=\"No Selection\",\"\",'4007ES(Addr)'!R$13)","v":""},{"$f":"IF('4007ES(Addr)'!$R19=\"No Selection\",\"\",'4007ES(Addr)'!R$182)","v":""},{"$f":"IF('4007ES(Addr)'!R$19=\"No Selection\",0,'4007ES(Addr)'!R184)","v":0},{"$f":"IF('4007ES(Addr)'!R$19=\"No Selection\",0,'4007ES(Addr)'!R$177)","v":0},null,0]
[null,2,{"$f":"IF('4007ES(Addr)'!$R$19=\"No Selection\",\"\",\"Zone 2\")","v":""},{"$f":"IF('4007ES(Addr)'!$R$19=\"No Selection\",0,'4007ES(Addr)'!R$174)","v":0},{"$f":"IF('4007ES(Addr)'!$R$19=\"No Selection\",\"\",'4007ES(Addr)'!R$13)","v":""},null,null,{"$f":"IF('4007ES(Addr)'!R$19=\"No Selection\",0,'4007ES(Addr)'!R$179)","v":0},null,0]
[{"$f":"+A165+1","v":9},1,{"$f":"IF('4007ES(Addr)'!$S$19=\"No Selection\",\"\",\"Zone 1\")","v":""},{"$f":"IF('4007ES(Addr)'!$S$19=\"No Selection\",0,'4007ES(Addr)'!S$172)","v":0},{"$f":"IF('4007ES(Addr)'!$S$19=\"No Selection\",\"\",'4007ES(Addr)'!S$13)","v":""},{"$f":"IF('4007ES(Addr)'!$S19=\"No Selection\",\"\",'4007ES(Addr)'!S$182)","v":""},{"$f":"IF('4007ES(Addr)'!S$19=\"No Selection\",0,'4007ES(Addr)'!S184)","v":0},{"$f":"IF('4007ES(Addr)'!S$19=\"No Selection\",0,'4007ES(Addr)'!S$177)","v":0},null,0]
[null,2,{"$f":"IF('4007ES(Addr)'!$S$19=\"No Selection\",\"\",\"Zone 2\")","v":""},{"$f":"IF('4007ES(Addr)'!$S$19=\"No Selection\",0,'4007ES(Addr)'!S$174)","v":0},{"$f":"IF('4007ES(Addr)'!$S$19=\"No Selection\",\"\",'4007ES(Addr)'!S$13)","v":""},null,null,{"$f":"IF('4007ES(Addr)'!S$19=\"No Selection\",0,'4007ES(Addr)'!S$179)","v":0},null,0]
[{"$f":"+A167+1","v":10},1,{"$f":"IF('4007ES(Addr)'!$T$19=\"No Selection\",\"\",\"Zone 1\")","v":""},{"$f":"IF('4007ES(Addr)'!$T$19=\"No Selection\",0,'4007ES(Addr)'!T$172)","v":0},{"$f":"IF('4007ES(Addr)'!$T$19=\"No Selection\",\"\",'4007ES(Addr)'!T$13)","v":""},{"$f":"IF('4007ES(Addr)'!$T19=\"No Selection\",\"\",'4007ES(Addr)'!T$182)","v":""},{"$f":"IF('4007ES(Addr)'!T$19=\"No Selection\",0,'4007ES(Addr)'!T184)","v":0},{"$f":"IF('4007ES(Addr)'!T$19=\"No Selection\",0,'4007ES(Addr)'!T$177)","v":0},null,0]
[null,2,{"$f":"IF('4007ES(Addr)'!$T$19=\"No Selection\",\"\",\"Zone 2\")","v":""},{"$f":"IF('4007ES(Addr)'!$T$19=\"No Selection\",0,'4007ES(Addr)'!T$174)","v":0},{"$f":"IF('4007ES(Addr)'!$T$19=\"No Selection\",\"\",'4007ES(Addr)'!T$13)","v":""},null,null,{"$f":"IF('4007ES(Addr)'!T$19=\"No Selection\",0,'4007ES(Addr)'!T$179)","v":0},null,0]
[{"$f":"+A169+1","v":11},1,{"$f":"IF('4007ES(Addr)'!$U$19=\"No Selection\",\"\",\"Zone 1\")","v":""},{"$f":"IF('4007ES(Addr)'!$U$19=\"No Selection\",0,'4007ES(Addr)'!U$172)","v":0},{"$f":"IF('4007ES(Addr)'!$U$19=\"No Selection\",\"\",'4007ES(Addr)'!U$13)","v":""},{"$f":"IF('4007ES(Addr)'!$U19=\"No Selection\",\"\",'4007ES(Addr)'!U$182)","v":""},{"$f":"IF('4007ES(Addr)'!U$19=\"No Selection\",0,'4007ES(Addr)'!U184)","v":0},{"$f":"IF('4007ES(Addr)'!U$19=\"No Selection\",0,'4007ES(Addr)'!U$177)","v":0},null,0]
[null,2,{"$f":"IF('4007ES(Addr)'!$U$19=\"No Selection\",\"\",\"Zone 2\")","v":""},{"$f":"IF('4007ES(Addr)'!$U$19=\"No Selection\",0,'4007ES(Addr)'!U$174)","v":0},{"$f":"IF('4007ES(Addr)'!$U$19=\"No Selection\",\"\",'4007ES(Addr)'!U$13)","v":""},null,null,{"$f":"IF('4007ES(Addr)'!U$19=\"No Selection\",0,'4007ES(Addr)'!U$179)","v":0},null,0]
[{"$f":"+A171+1","v":12},1,{"$f":"IF('4007ES(Addr)'!$V$19=\"No Selection\",\"\",\"Zone 1\")","v":""},{"$f":"IF('4007ES(Addr)'!$V$19=\"No Selection\",0,'4007ES(Addr)'!V$172)","v":0},{"$f":"IF('4007ES(Addr)'!$V$19=\"No Selection\",\"\",'4007ES(Addr)'!V$13)","v":""},{"$f":"IF('4007ES(Addr)'!$V19=\"No Selection\",\"\",'4007ES(Addr)'!V$182)","v":""},{"$f":"IF('4007ES(Addr)'!V$19=\"No Selection\",0,'4007ES(Addr)'!V184)","v":0},{"$f":"IF('4007ES(Addr)'!V$19=\"No Selection\",0,'4007ES(Addr)'!V$177)","v":0},null,0]
[null,2,{"$f":"IF('4007ES(Addr)'!$V$19=\"No Selection\",\"\",\"Zone 2\")","v":""},{"$f":"IF('4007ES(Addr)'!$V$19=\"No Selection\",0,'4007ES(Addr)'!V$174)","v":0},{"$f":"IF('4007ES(Addr)'!$V$19=\"No Selection\",\"\",'4007ES(Addr)'!V$13)","v":""},null,null,{"$f":"IF('4007ES(Addr)'!V$19=\"No Selection\",0,'4007ES(Addr)'!V$179)","v":0},null,0]
[{"$f":"+A173+1","v":13},1,{"$f":"IF('4007ES(Addr)'!$W$19=\"No Selection\",\"\",\"Zone 1\")","v":""},{"$f":"IF('4007ES(Addr)'!$W$19=\"No Selection\",0,'4007ES(Addr)'!W$172)","v":0},{"$f":"IF('4007ES(Addr)'!$W$19=\"No Selection\",\"\",'4007ES(Addr)'!W$13)","v":""},{"$f":"IF('4007ES(Addr)'!$W19=\"No Selection\",\"\",'4007ES(Addr)'!W$182)","v":""},{"$f":"IF('4007ES(Addr)'!W$19=\"No Selection\",0,'4007ES(Addr)'!W184)","v":0},{"$f":"IF('4007ES(Addr)'!W$19=\"No Selection\",0,'4007ES(Addr)'!W$177)","v":0},null,0]
[null,2,{"$f":"IF('4007ES(Addr)'!$W$19=\"No Selection\",\"\",\"Zone 2\")","v":""},{"$f":"IF('4007ES(Addr)'!$W$19=\"No Selection\",0,'4007ES(Addr)'!W$174)","v":0},{"$f":"IF('4007ES(Addr)'!$W$19=\"No Selection\",\"\",'4007ES(Addr)'!W$13)","v":""},null,null,{"$f":"IF('4007ES(Addr)'!W$19=\"No Selection\",0,'4007ES(Addr)'!W$179)","v":0},null,0]
[{"$f":"+A175+1","v":14},1,{"$f":"IF('4007ES(Addr)'!$X$19=\"No Selection\",\"\",\"Zone 1\")","v":""},{"$f":"IF('4007ES(Addr)'!$X$19=\"No Selection\",0,'4007ES(Addr)'!X$172)","v":0},{"$f":"IF('4007ES(Addr)'!$X$19=\"No Selection\",\"\",'4007ES(Addr)'!X$13)","v":""},{"$f":"IF('4007ES(Addr)'!$X19=\"No Selection\",\"\",'4007ES(Addr)'!X$182)","v":""},{"$f":"IF('4007ES(Addr)'!X$19=\"No Selection\",0,'4007ES(Addr)'!X184)","v":0},{"$f":"IF('4007ES(Addr)'!X$19=\"No Selection\",0,'4007ES(Addr)'!X$177)","v":0},null,0]
[null,2,{"$f":"IF('4007ES(Addr)'!$X$19=\"No Selection\",\"\",\"Zone 2\")","v":""},{"$f":"IF('4007ES(Addr)'!$X$19=\"No Selection\",0,'4007ES(Addr)'!X$174)","v":0},{"$f":"IF('4007ES(Addr)'!$X$19=\"No Selection\",\"\",'4007ES(Addr)'!X$13)","v":""},null,null,{"$f":"IF('4007ES(Addr)'!X$19=\"No Selection\",0,'4007ES(Addr)'!X$179)","v":0},null,0]
[{"$f":"+A177+1","v":15},1,{"$f":"IF('4007ES(Addr)'!$Y$19=\"No Selection\",\"\",\"Zone 1\")","v":""},{"$f":"IF('4007ES(Addr)'!$Y$19=\"No Selection\",0,'4007ES(Addr)'!Y$172)","v":0},{"$f":"IF('4007ES(Addr)'!$Y$19=\"No Selection\",\"\",'4007ES(Addr)'!Y$13)","v":""},{"$f":"IF('4007ES(Addr)'!$Y19=\"No Selection\",\"\",'4007ES(Addr)'!Y$182)","v":""},{"$f":"IF('4007ES(Addr)'!Y$19=\"No Selection\",0,'4007ES(Addr)'!Y184)","v":0},{"$f":"IF('4007ES(Addr)'!Y$19=\"No Selection\",0,'4007ES(Addr)'!Y$177)","v":0},null,0]
[null,2,{"$f":"IF('4007ES(Addr)'!$Y$19=\"No Selection\",\"\",\"Zone 2\")","v":""},{"$f":"IF('4007ES(Addr)'!$Y$19=\"No Selection\",0,'4007ES(Addr)'!Y$174)","v":0},{"$f":"IF('4007ES(Addr)'!$Y$19=\"No Selection\",\"\",'4007ES(Addr)'!Y$13)","v":""},null,null,{"$f":"IF('4007ES(Addr)'!Y$19=\"No Selection\",0,'4007ES(Addr)'!Y$179)","v":0},null,0]
[{"$f":"+A179+1","v":16},1,{"$f":"IF('4007ES(Addr)'!$Z$19=\"No Selection\",\"\",\"Zone 1\")","v":""},{"$f":"IF('4007ES(Addr)'!$Z$19=\"No Selection\",0,'4007ES(Addr)'!Z$172)","v":0},{"$f":"IF('4007ES(Addr)'!$Z$19=\"No Selection\",\"\",'4007ES(Addr)'!Z$13)","v":""},{"$f":"IF('4007ES(Addr)'!$Z19=\"No Selection\",\"\",'4007ES(Addr)'!Z$182)","v":""},{"$f":"IF('4007ES(Addr)'!Z$19=\"No Selection\",0,'4007ES(Addr)'!Z184)","v":0},{"$f":"IF('4007ES(Addr)'!Z$19=\"No Selection\",0,'4007ES(Addr)'!Z$177)","v":0},null,0]
[null,2,{"$f":"IF('4007ES(Addr)'!$Z$19=\"No Selection\",\"\",\"Zone 2\")","v":""},{"$f":"IF('4007ES(Addr)'!$Z$19=\"No Selection\",0,'4007ES(Addr)'!Z$174)","v":0},{"$f":"IF('4007ES(Addr)'!$Z$19=\"No Selection\",\"\",'4007ES(Addr)'!Z$13)","v":""},null,null,{"$f":"IF('4007ES(Addr)'!Z$19=\"No Selection\",0,'4007ES(Addr)'!Z$179)","v":0},null,0]
[{"$f":"+A181+1","v":17},1,{"$f":"IF('4007ES(Addr)'!$AA$19=\"No Selection\",\"\",\"Zone 1\")","v":""},{"$f":"IF('4007ES(Addr)'!$AA$19=\"No Selection\",0,'4007ES(Addr)'!AA$172)","v":0},{"$f":"IF('4007ES(Addr)'!$AA$19=\"No Selection\",\"\",'4007ES(Addr)'!AA$13)","v":""},{"$f":"IF('4007ES(Addr)'!$AA19=\"No Selection\",\"\",'4007ES(Addr)'!AA$182)","v":""},{"$f":"IF('4007ES(Addr)'!AA$19=\"No Selection\",0,'4007ES(Addr)'!AA184)","v":0},{"$f":"IF('4007ES(Addr)'!AA$19=\"No Selection\",0,'4007ES(Addr)'!AA$177)","v":0},null,0]
[null,2,{"$f":"IF('4007ES(Addr)'!$AA$19=\"No Selection\",\"\",\"Zone 2\")","v":""},{"$f":"IF('4007ES(Addr)'!$AA$19=\"No Selection\",0,'4007ES(Addr)'!AA$174)","v":0},{"$f":"IF('4007ES(Addr)'!$AA$19=\"No Selection\",\"\",'4007ES(Addr)'!AA$13)","v":""},null,null,{"$f":"IF('4007ES(Addr)'!AA$19=\"No Selection\",0,'4007ES(Addr)'!AA$179)","v":0},null,0]
[{"$f":"+A183+1","v":18},1,{"$f":"IF('4007ES(Addr)'!$AB$19=\"No Selection\",\"\",\"Zone 1\")","v":""},{"$f":"IF('4007ES(Addr)'!$AB$19=\"No Selection\",0,'4007ES(Addr)'!AB$172)","v":0},{"$f":"IF('4007ES(Addr)'!$AB$19=\"No Selection\",\"\",'4007ES(Addr)'!AB$13)","v":""},{"$f":"IF('4007ES(Addr)'!$AB19=\"No Selection\",\"\",'4007ES(Addr)'!AB$182)","v":""},{"$f":"IF('4007ES(Addr)'!AB$19=\"No Selection\",0,'4007ES(Addr)'!AB184)","v":0},{"$f":"IF('4007ES(Addr)'!AB$19=\"No Selection\",0,'4007ES(Addr)'!AB$177)","v":0},null,0]
[null,2,{"$f":"IF('4007ES(Addr)'!$AB$19=\"No Selection\",\"\",\"Zone 2\")","v":""},{"$f":"IF('4007ES(Addr)'!$AB$19=\"No Selection\",0,'4007ES(Addr)'!AB$174)","v":0},{"$f":"IF('4007ES(Addr)'!$AB$19=\"No Selection\",\"\",'4007ES(Addr)'!AB$13)","v":""},null,null,{"$f":"IF('4007ES(Addr)'!AB$19=\"No Selection\",0,'4007ES(Addr)'!AB$179)","v":0},null,0]
[{"$f":"+A185+1","v":19},1,{"$f":"IF('4007ES(Addr)'!$AC$19=\"No Selection\",\"\",\"Zone 1\")","v":""},{"$f":"IF('4007ES(Addr)'!$AC$19=\"No Selection\",0,'4007ES(Addr)'!AC$172)","v":0},{"$f":"IF('4007ES(Addr)'!$AC$19=\"No Selection\",\"\",'4007ES(Addr)'!AC$13)","v":""},{"$f":"IF('4007ES(Addr)'!$AC19=\"No Selection\",\"\",'4007ES(Addr)'!AC$182)","v":""},{"$f":"IF('4007ES(Addr)'!AC$19=\"No Selection\",0,'4007ES(Addr)'!AC184)","v":0},{"$f":"IF('4007ES(Addr)'!AC$19=\"No Selection\",0,'4007ES(Addr)'!AC$177)","v":0},null,0]
[null,2,{"$f":"IF('4007ES(Addr)'!$AC$19=\"No Selection\",\"\",\"Zone 2\")","v":""},{"$f":"IF('4007ES(Addr)'!$AC$19=\"No Selection\",0,'4007ES(Addr)'!AC$174)","v":0},{"$f":"IF('4007ES(Addr)'!$AC$19=\"No Selection\",\"\",'4007ES(Addr)'!AC$13)","v":""},null,null,{"$f":"IF('4007ES(Addr)'!AC$19=\"No Selection\",0,'4007ES(Addr)'!AC$179)","v":0},null,0]
[{"$f":"+A187+1","v":20},1,{"$f":"IF('4007ES(Addr)'!$AD$19=\"No Selection\",\"\",\"Zone 1\")","v":""},{"$f":"IF('4007ES(Addr)'!$AD$19=\"No Selection\",0,'4007ES(Addr)'!AD$172)","v":0},{"$f":"IF('4007ES(Addr)'!$AD$19=\"No Selection\",\"\",'4007ES(Addr)'!AD$13)","v":""},{"$f":"IF('4007ES(Addr)'!$AD19=\"No Selection\",\"\",'4007ES(Addr)'!AD$182)","v":""},{"$f":"IF('4007ES(Addr)'!AD$19=\"No Selection\",0,'4007ES(Addr)'!AD184)","v":0},{"$f":"IF('4007ES(Addr)'!AD$19=\"No Selection\",0,'4007ES(Addr)'!AD$177)","v":0},null,0]
[null,2,{"$f":"IF('4007ES(Addr)'!$AD$19=\"No Selection\",\"\",\"Zone 2\")","v":""},{"$f":"IF('4007ES(Addr)'!$AD$19=\"No Selection\",0,'4007ES(Addr)'!AD$174)","v":0},{"$f":"IF('4007ES(Addr)'!$AD$19=\"No Selection\",\"\",'4007ES(Addr)'!AD$13)","v":""},null,null,{"$f":"IF('4007ES(Addr)'!AD$19=\"No Selection\",0,'4007ES(Addr)'!AD$179)","v":0},null,0]
["G",null,"Releasing Actuators",null,null," ",null,{"$f":"SUM(H193:H238)","v":0},null,{"$f":"SUM(J192:J280)","v":0}]
[null,0," ","No Selection","No Actuator Selected",null,null,{"$f":"IF('4004R(Conventional)'!B131=0,0,0)","v":0},0,{"$f":"+I192+H192","v":0},null,0,0,0]
[" ",1,{"$f":"+'4007ES(Addr)'!K38","v":0},{"$f":"+AddonDevice!D50","v":"Ansul"},{"$f":"+AddonDevice!E50","v":"AUTOMAN II-C Assembly (solenoid 17728; coil 25924)"},{"$f":"+AddonDevice!F50","v":"UL listed"},null,{"$f":"SUM(IF('4007ES(Addr)'!$AS$95:$AX$114=E193,IF('4007ES(Addr)'!$AS$95:$AS$114=B193,'4007ES(Addr)'!$AX$95:$AX$114)))","v":0},0,{"$f":"+I193+H193","v":0},null,{"$f":"+AddonDevice!H50","v":0},{"$f":"+AddonDevice!I50","v":750},{"$f":"+AddonDevice!J50","v":"RAC Powered"}]
[null,{"$f":"+B193+1","v":2},{"$f":"+B194","v":2},{"$f":"+AddonDevice!D51","v":"Ansul"},{"$f":"+AddonDevice!E51","v":"AUTOMAN II-C Explosion-Proof Releasing Device (solenoid 31492; coil 31438)"},{"$f":"+AddonDevice!F51","v":"UL listed"},null,{"$f":"SUM(IF('4007ES(Addr)'!$AS$95:$AX$114=E194,IF('4007ES(Addr)'!$AS$95:$AS$114=B194,'4007ES(Addr)'!$AX$95:$AX$114)))","v":0},0,0,null,{"$f":"+AddonDevice!H51","v":0},{"$f":"+AddonDevice!I51","v":750},{"$f":"+AddonDevice!J51","v":"RAC Powered"}]
[null,{"$f":"+B194+1","v":3},{"$f":"+B195","v":3},{"$f":"+AddonDevice!D52","v":"Ansul"},{"$f":"+AddonDevice!E52","v":"AUTOMAN II-C Assembly (solenoid 68739; coil 25924)"},{"$f":"+AddonDevice!F52","v":"UL listed"},null,{"$f":"SUM(IF('4007ES(Addr)'!$AS$95:$AX$114=E195,IF('4007ES(Addr)'!$AS$95:$AS$114=B195,'4007ES(Addr)'!$AX$95:$AX$114)))","v":0},0,0,null,{"$f":"+AddonDevice!H52","v":0},{"$f":"+AddonDevice!I52","v":750},{"$f":"+AddonDevice!J52","v":"RAC Powered"}]
[null,{"$f":"+B195+1","v":4},4,{"$f":"+AddonDevice!D53","v":"Ansul"},{"$f":"+AddonDevice!E53","v":"Solenoid Electric Actuator (solenoid 73111; coil 73097)"},{"$f":"+AddonDevice!F53","v":"UL listed"},null,{"$f":"SUM(IF('4007ES(Addr)'!$AS$95:$AX$114=E196,IF('4007ES(Addr)'!$AS$95:$AS$114=B196,'4007ES(Addr)'!$AX$95:$AX$114)))","v":0},0,0,null,{"$f":"+AddonDevice!H53","v":0},{"$f":"+AddonDevice!I53","v":1000},{"$f":"+AddonDevice!J53","v":"RAC Powered"}]
[null,5,5,{"$f":"+AddonDevice!D54","v":"Ansul"},{"$f":"+AddonDevice!E54","v":"*CV90 HF Electric Actuator 73327"},{"$f":"+AddonDevice!F54","v":"UL listed"},null,{"$f":"SUM(IF('4007ES(Addr)'!$AS$95:$AX$114=E197,IF('4007ES(Addr)'!$AS$95:$AS$114=B197,'4007ES(Addr)'!$AX$95:$AX$114)))","v":0},0,0,null,{"$f":"+AddonDevice!H54","v":0},{"$f":"+AddonDevice!I54","v":570},{"$f":"+AddonDevice!J54","v":"RAC Powered"}]
[null,6,6,{"$f":"+AddonDevice!D55","v":"Ansul"},{"$f":"+AddonDevice!E55","v":"LP CO2 w/ASCO solenoid 422934"},{"$f":"+AddonDevice!F55","v":"UL listed"},null,{"$f":"SUM(IF('4007ES(Addr)'!$AS$95:$AX$114=E198,IF('4007ES(Addr)'!$AS$95:$AS$114=B198,'4007ES(Addr)'!$AX$95:$AX$114)))","v":0},0,0,null,{"$f":"+AddonDevice!H55","v":0},{"$f":"+AddonDevice!I55","v":442},{"$f":"+AddonDevice!J55","v":"RAC Powered"}]
[null,7,7,{"$f":"+AddonDevice!D56","v":"Ansul"},{"$f":"+AddonDevice!E56","v":"LP CO2 double action 24 VDC solenoid 430948"},{"$f":"+AddonDevice!F56","v":"UL listed"},null,{"$f":"SUM(IF('4007ES(Addr)'!$AS$95:$AX$114=E199,IF('4007ES(Addr)'!$AS$95:$AS$114=B199,'4007ES(Addr)'!$AX$95:$AX$114)))","v":0},0,0,null,{"$f":"+AddonDevice!H56","v":0},{"$f":"+AddonDevice!I56","v":438},{"$f":"+AddonDevice!J56","v":"RAC Powered"}]
[null,8,8,{"$f":"+AddonDevice!D57","v":"Ansul"},{"$f":"+AddonDevice!E57","v":"LP CO2 3-way selector valve solenoid 433419"},{"$f":"+AddonDevice!F57","v":"UL listed"},null,{"$f":"SUM(IF('4007ES(Addr)'!$AS$95:$AX$114=E200,IF('4007ES(Addr)'!$AS$95:$AS$114=B200,'4007ES(Addr)'!$AX$95:$AX$114)))","v":0},0,0,null,{"$f":"+AddonDevice!H57","v":0},{"$f":"+AddonDevice!I57","v":438},{"$f":"+AddonDevice!J57","v":"RAC Powered"}]
[null,9,9,{"$f":"+AddonDevice!D58","v":"Ansul"},{"$f":"+AddonDevice!E58","v":"Electric Actuator 24 VDC solenoid 570537"},{"$f":"+AddonDevice!F58","v":"UL listed"},null,{"$f":"SUM(IF('4007ES(Addr)'!$AS$95:$AX$114=E201,IF('4007ES(Addr)'!$AS$95:$AS$114=B201,'4007ES(Addr)'!$AX$95:$AX$114)))","v":0},0,0,null,{"$f":"+AddonDevice!H58","v":0},{"$f":"+AddonDevice!I58","v":250},{"$f":"+AddonDevice!J58","v":"RAC Powered"}]
[null,10,10,{"$f":"+AddonDevice!D59","v":"ASCO"},{"$f":"+AddonDevice!E59","v":"8210A107 (097617-005D coil)"},{"$f":"+AddonDevice!F59","v":"UL listed"},null,{"$f":"SUM(IF('4007ES(Addr)'!$AS$95:$AX$114=E202,IF('4007ES(Addr)'!$AS$95:$AS$114=B202,'4007ES(Addr)'!$AX$95:$AX$114)))","v":0},0,0,null,{"$f":"+AddonDevice!H59","v":0},{"$f":"+AddonDevice!I59","v":750},{"$f":"+AddonDevice!J59","v":"RAC Powered"}]
[null,11,11,{"$f":"+AddonDevice!D60","v":"ASCO"},{"$f":"+AddonDevice!E60","v":"8210G207 (238310 coil)"},{"$f":"+AddonDevice!F60","v":"UL listed"},null,{"$f":"SUM(IF('4007ES(Addr)'!$AS$95:$AX$114=E203,IF('4007ES(Addr)'!$AS$95:$AS$114=B203,'4007ES(Addr)'!$AX$95:$AX$114)))","v":0},0,0,null,{"$f":"+AddonDevice!H60","v":0},{"$f":"+AddonDevice!I60","v":440},{"$f":"+AddonDevice!J60","v":"RAC Powered"}]
[null,12,12,{"$f":"+AddonDevice!D61","v":"ASCO"},{"$f":"+AddonDevice!E61","v":"8211A107 (097617-005D coil)"},{"$f":"+AddonDevice!F61","v":"UL listed"},null,{"$f":"SUM(IF('4007ES(Addr)'!$AS$95:$AX$114=E204,IF('4007ES(Addr)'!$AS$95:$AS$114=B204,'4007ES(Addr)'!$AX$95:$AX$114)))","v":0},0,0,null,{"$f":"+AddonDevice!H61","v":0},{"$f":"+AddonDevice!I61","v":750},{"$f":"+AddonDevice!J61","v":"RAC Powered"}]
[null,13,13,{"$f":"+AddonDevice!D62","v":"ASCO"},{"$f":"+AddonDevice!E62","v":"8262H182 (238910 coil)"},{"$f":"+AddonDevice!F62","v":"UL listed"},null,{"$f":"SUM(IF('4007ES(Addr)'!$AS$95:$AX$114=E205,IF('4007ES(Addr)'!$AS$95:$AS$114=B205,'4007ES(Addr)'!$AX$95:$AX$114)))","v":0},0,0,null,{"$f":"+AddonDevice!H62","v":0},{"$f":"+AddonDevice!I62","v":483},{"$f":"+AddonDevice!J62","v":"RAC Powered"}]
[null,14,14,{"$f":"+AddonDevice!D63","v":"ASCO"},{"$f":"+AddonDevice!E63","v":"EF8210G001MBMO"},{"$f":"+AddonDevice!F63","v":"UL listed"},null,{"$f":"SUM(IF('4007ES(Addr)'!$AS$95:$AX$114=E206,IF('4007ES(Addr)'!$AS$95:$AS$114=B206,'4007ES(Addr)'!$AX$95:$AX$114)))","v":0},0,0,null,{"$f":"+AddonDevice!H63","v":0},{"$f":"+AddonDevice!I63","v":450},{"$f":"+AddonDevice!J63","v":"RAC Powered"}]
[null,15,15,{"$f":"+AddonDevice!D64","v":"ASCO"},{"$f":"+AddonDevice!E64","v":"HV2628571 (23810 coil)"},{"$f":"+AddonDevice!F64","v":"UL listed"},null,{"$f":"SUM(IF('4007ES(Addr)'!$AS$95:$AX$114=E207,IF('4007ES(Addr)'!$AS$95:$AS$114=B207,'4007ES(Addr)'!$AX$95:$AX$114)))","v":0},0,0,null,{"$f":"+AddonDevice!H64","v":0},{"$f":"+AddonDevice!I64","v":442},{"$f":"+AddonDevice!J64","v":"RAC Powered"}]
[null,16,16,{"$f":"+AddonDevice!D65","v":"ASCO"},{"$f":"+AddonDevice!E65","v":"HV2648581 (23810 coil)"},{"$f":"+AddonDevice!F65","v":"UL listed"},null,{"$f":"SUM(IF('4007ES(Addr)'!$AS$95:$AX$114=E208,IF('4007ES(Addr)'!$AS$95:$AS$114=B208,'4007ES(Addr)'!$AX$95:$AX$114)))","v":0},0,0,null,{"$f":"+AddonDevice!H65","v":0},{"$f":"+AddonDevice!I65","v":442},{"$f":"+AddonDevice!J65","v":"RAC Powered"}]
[null,17,17,{"$f":"+AddonDevice!D66","v":"ASCO"},{"$f":"+AddonDevice!E66","v":"R8210A107 (097617-005D coil)"},{"$f":"+AddonDevice!F66","v":"UL listed"},null,{"$f":"SUM(IF('4007ES(Addr)'!$AS$95:$AX$114=E209,IF('4007ES(Addr)'!$AS$95:$AS$114=B209,'4007ES(Addr)'!$AX$95:$AX$114)))","v":0},0,0,null,{"$f":"+AddonDevice!H66","v":0},{"$f":"+AddonDevice!I66","v":700},{"$f":"+AddonDevice!J66","v":"RAC Powered"}]
[null,18,18,{"$f":"+AddonDevice!D67","v":"ASCO"},{"$f":"+AddonDevice!E67","v":"T8210A107 (097617-005D coil)"},{"$f":"+AddonDevice!F67","v":"UL listed"},null,{"$f":"SUM(IF('4007ES(Addr)'!$AS$95:$AX$114=E210,IF('4007ES(Addr)'!$AS$95:$AS$114=B210,'4007ES(Addr)'!$AX$95:$AX$114)))","v":0},0,0,null,{"$f":"+AddonDevice!H67","v":0},{"$f":"+AddonDevice!I67","v":700},{"$f":"+AddonDevice!J67","v":"RAC Powered"}]
[null,19,19,{"$f":"+AddonDevice!D68","v":"Hygood"},{"$f":"+AddonDevice!E68","v":"304.205.010 – Electrical Actuator Suppression Diode"},{"$f":"+AddonDevice!F68","v":"UL listed"},null,{"$f":"SUM(IF('4007ES(Addr)'!$AS$95:$AX$114=E211,IF('4007ES(Addr)'!$AS$95:$AS$114=B211,'4007ES(Addr)'!$AX$95:$AX$114)))","v":0},0,0,null,{"$f":"+AddonDevice!H68","v":0},{"$f":"+AddonDevice!I68","v":250},{"$f":"+AddonDevice!J68","v":"RAC Powered"}]
[null,20,20,{"$f":"+AddonDevice!D69","v":"Hygood"},{"$f":"+AddonDevice!E69","v":"304.209.001 – Electrical Actuator Bridge Rectifier"},{"$f":"+AddonDevice!F69","v":"UL listed"},null,{"$f":"SUM(IF('4007ES(Addr)'!$AS$95:$AX$114=E212,IF('4007ES(Addr)'!$AS$95:$AS$114=B212,'4007ES(Addr)'!$AX$95:$AX$114)))","v":0},0,0,null,{"$f":"+AddonDevice!H69","v":0},{"$f":"+AddonDevice!I69","v":250},{"$f":"+AddonDevice!J69","v":"RAC Powered"}]
[null,21,21,{"$f":"+AddonDevice!D70","v":"Pyrochem"},{"$f":"+AddonDevice!E70","v":"ECH Electrical Control Head (551201)"},{"$f":"+AddonDevice!F70","v":"UL listed"},null,{"$f":"SUM(IF('4007ES(Addr)'!$AS$95:$AX$114=E213,IF('4007ES(Addr)'!$AS$95:$AS$114=B213,'4007ES(Addr)'!$AX$95:$AX$114)))","v":0},0,0,null,{"$f":"+AddonDevice!H70","v":0},{"$f":"+AddonDevice!I70","v":1700},{"$f":"+AddonDevice!J70","v":"RAC Powered"}]
[null,22,22,{"$f":"+AddonDevice!D71","v":"Pyrochem"},{"$f":"+AddonDevice!E71","v":"Explosion-Proof Electric Actuator (570147)"},{"$f":"+AddonDevice!F71","v":"UL listed"},null,{"$f":"SUM(IF('4007ES(Addr)'!$AS$95:$AX$114=E214,IF('4007ES(Addr)'!$AS$95:$AS$114=B214,'4007ES(Addr)'!$AX$95:$AX$114)))","v":0},0,0,null,{"$f":"+AddonDevice!H71","v":0},{"$f":"+AddonDevice!I71","v":396},{"$f":"+AddonDevice!J71","v":"RAC Powered"}]
[null,23,23,{"$f":"+AddonDevice!D72","v":"Pyrochem"},{"$f":"+AddonDevice!E72","v":"Removable Electric Actuator (570209)"},{"$f":"+AddonDevice!F72","v":"UL listed"},null,{"$f":"SUM(IF('4007ES(Addr)'!$AS$95:$AX$114=E215,IF('4007ES(Addr)'!$AS$95:$AS$114=B215,'4007ES(Addr)'!$AX$95:$AX$114)))","v":0},0,0,null,{"$f":"+AddonDevice!H72","v":0},{"$f":"+AddonDevice!I72","v":200},{"$f":"+AddonDevice!J72","v":"RAC Powered"}]
[null,24,24,{"$f":"+AddonDevice!D73","v":"Skinner"},{"$f":"+AddonDevice!E73","v":"71395SN2ENJ1N0H111C2 (Skinner coil H111C2)"},{"$f":"+AddonDevice!F73","v":"UL listed"},null,{"$f":"SUM(IF('4007ES(Addr)'!$AS$95:$AX$114=E216,IF('4007ES(Addr)'!$AS$95:$AS$114=B216,'4007ES(Addr)'!$AX$95:$AX$114)))","v":0},0,0,null,{"$f":"+AddonDevice!H73","v":0},{"$f":"+AddonDevice!I73","v":420},{"$f":"+AddonDevice!J73","v":"RAC Powered"}]
[null,25,25,{"$f":"+AddonDevice!D74","v":"Skinner"},{"$f":"+AddonDevice!E74","v":"73212BN4TN00N0C111C2 (Skinner coil C111C2)"},{"$f":"+AddonDevice!F74","v":"UL listed"},null,{"$f":"SUM(IF('4007ES(Addr)'!$AS$95:$AX$114=E217,IF('4007ES(Addr)'!$AS$95:$AS$114=B217,'4007ES(Addr)'!$AX$95:$AX$114)))","v":0},0,0,null,{"$f":"+AddonDevice!H74","v":0},{"$f":"+AddonDevice!I74","v":420},{"$f":"+AddonDevice!J74","v":"RAC Powered"}]
[null,26,26,{"$f":"+AddonDevice!D75","v":"Skinner"},{"$f":"+AddonDevice!E75","v":"73212BN4TNLVN0C322C2 (Skinner coil C322C2)"},{"$f":"+AddonDevice!F75","v":"UL listed"},null,{"$f":"SUM(IF('4007ES(Addr)'!$AS$95:$AX$114=E218,IF('4007ES(Addr)'!$AS$95:$AS$114=B218,'4007ES(Addr)'!$AX$95:$AX$114)))","v":0},0,0,null,{"$f":"+AddonDevice!H75","v":0},{"$f":"+AddonDevice!I75","v":830},{"$f":"+AddonDevice!J75","v":"RAC Powered"}]
[null,27,27,{"$f":"+AddonDevice!D76","v":"Skinner"},{"$f":"+AddonDevice!E76","v":"73218BN4UNLVN0H111C2 (Skinner coil H111C2)"},{"$f":"+AddonDevice!F76","v":"UL listed"},null,{"$f":"SUM(IF('4007ES(Addr)'!$AS$95:$AX$114=E219,IF('4007ES(Addr)'!$AS$95:$AS$114=B219,'4007ES(Addr)'!$AX$95:$AX$114)))","v":0},0,0,null,{"$f":"+AddonDevice!H76","v":0},{"$f":"+AddonDevice!I76","v":410},{"$f":"+AddonDevice!J76","v":"RAC Powered"}]
[null,28,28,{"$f":"+AddonDevice!D77","v":"Skinner"},{"$f":"+AddonDevice!E77","v":"73218BN4UNLVN0C111C2 (Skinner coil C111C2)"},{"$f":"+AddonDevice!F77","v":"UL listed"},null,{"$f":"SUM(IF('4007ES(Addr)'!$AS$95:$AX$114=E220,IF('4007ES(Addr)'!$AS$95:$AS$114=B220,'4007ES(Addr)'!$AX$95:$AX$114)))","v":0},0,0,null,{"$f":"+AddonDevice!H77","v":0},{"$f":"+AddonDevice!I77","v":410},{"$f":"+AddonDevice!J77","v":"RAC Powered"}]
[null,29,29,{"$f":"+AddonDevice!D78","v":"Minimax"},{"$f":"+AddonDevice!E78","v":"MX1230 without diode"},{"$f":"+AddonDevice!F78","v":"UL listed"},null,{"$f":"SUM(IF('4007ES(Addr)'!$AS$95:$AX$114=E221,IF('4007ES(Addr)'!$AS$95:$AS$114=B221,'4007ES(Addr)'!$AX$95:$AX$114)))","v":0},0,0,null,{"$f":"+AddonDevice!H78","v":0},{"$f":"+AddonDevice!I78","v":420},{"$f":"+AddonDevice!J78","v":"RAC Powered"}]
[null,30,30,{"$f":"+AddonDevice!D79","v":"Burkert"},{"$f":"+AddonDevice!E79","v":"5282 2/2-Way Solenoid Valve"},{"$f":"+AddonDevice!F79","v":"UL listed"},null,{"$f":"SUM(IF('4007ES(Addr)'!$AS$95:$AX$114=E222,IF('4007ES(Addr)'!$AS$95:$AS$114=B222,'4007ES(Addr)'!$AX$95:$AX$114)))","v":0},0,0,null,{"$f":"+AddonDevice!H79","v":0},{"$f":"+AddonDevice!I79","v":333},{"$f":"+AddonDevice!J79","v":"RAC Powered"}]
[null,31,31,{"$f":"+AddonDevice!D80","v":"Versa"},{"$f":"+AddonDevice!E80","v":"CGS-4292-NB3-S20000"},{"$f":"+AddonDevice!F80","v":"UL listed"},null,{"$f":"SUM(IF('4007ES(Addr)'!$AS$95:$AX$114=E223,IF('4007ES(Addr)'!$AS$95:$AS$114=B223,'4007ES(Addr)'!$AX$95:$AX$114)))","v":0},0,0,null,{"$f":"+AddonDevice!H80","v":0},{"$f":"+AddonDevice!I80","v":438},{"$f":"+AddonDevice!J80","v":"RAC Powered"}]
[null,32,32,{"$f":"+AddonDevice!D81","v":"Tyco"},{"$f":"+AddonDevice!E81","v":"Model TSP 304205030"},{"$f":"+AddonDevice!F81","v":"UL listed"},null,{"$f":"SUM(IF('4007ES(Addr)'!$AS$95:$AX$114=E224,IF('4007ES(Addr)'!$AS$95:$AS$114=B224,'4007ES(Addr)'!$AX$95:$AX$114)))","v":0},0,0,null,{"$f":"+AddonDevice!H81","v":0},{"$f":"+AddonDevice!I81","v":500},{"$f":"+AddonDevice!J81","v":"RAC Powered"}]
[null,33,33,{"$f":"+AddonDevice!D82","v":"Tyco"},{"$f":"+AddonDevice!E82","v":"Model TSP 304700001"},{"$f":"+AddonDevice!F82","v":"UL listed"},null,{"$f":"SUM(IF('4007ES(Addr)'!$AS$95:$AX$114=E225,IF('4007ES(Addr)'!$AS$95:$AS$114=B225,'4007ES(Addr)'!$AX$95:$AX$114)))","v":0},0,0,null,{"$f":"+AddonDevice!H82","v":0},{"$f":"+AddonDevice!I82","v":830},{"$f":"+AddonDevice!J82","v":"RAC Powered"}]
[null,34,34,{"$f":"+AddonDevice!D83","v":"Masteco"},{"$f":"+AddonDevice!E83","v":"Model MSC-01"},{"$f":"+AddonDevice!F83","v":"UL listed"},null,{"$f":"SUM(IF('4007ES(Addr)'!$AS$95:$AX$114=E226,IF('4007ES(Addr)'!$AS$95:$AS$114=B226,'4007ES(Addr)'!$AX$95:$AX$114)))","v":0},0,0,null,{"$f":"+AddonDevice!H83","v":0},{"$f":"+AddonDevice!I83","v":1700},{"$f":"+AddonDevice!J83","v":"RAC Powered"}]
[null,{"$f":"+B226+1","v":35},{"$f":"+AddonDevice!C84","v":"Alan"},{"$f":"+AddonDevice!D84","v":"Alan Customised 1"},{"$f":"+AddonDevice!E84","v":"Alan Test Release Actuators'1250mA"},{"$f":"+AddonDevice!F84","v":"Input 1C"},null,{"$f":"SUM(IF('4007ES(Addr)'!$AS$95:$AX$114=E227,IF('4007ES(Addr)'!$AS$95:$AS$114=B227,'4007ES(Addr)'!$AX$95:$AX$114)))","v":0},0,{"$f":"+I227+H227","v":0},null,0,{"$f":"+AddonDevice!I84","v":1250},"RAC Powered"]
[null,36,{"$f":"+AddonDevice!C85","v":"Alan"},{"$f":"+AddonDevice!D85","v":"Test2"},{"$f":"+AddonDevice!E85","v":"Release Actuators'1500mA"},{"$f":"+AddonDevice!F85","v":"Input 2C"},null,{"$f":"SUM(IF('4007ES(Addr)'!$AS$95:$AX$114=E228,IF('4007ES(Addr)'!$AS$95:$AS$114=B228,'4007ES(Addr)'!$AX$95:$AX$114)))","v":0},0,0,null,0,{"$f":"+AddonDevice!I85","v":1500},"RAC Powered"]
[null,37,{"$f":"+AddonDevice!C86","v":"Alan"},{"$f":"+AddonDevice!D86","v":"Test2"},{"$f":"+AddonDevice!E86","v":"Release Actuators'1750mA"},{"$f":"+AddonDevice!F86","v":"Input 3C"},null,{"$f":"SUM(IF('4007ES(Addr)'!$AS$95:$AX$114=E229,IF('4007ES(Addr)'!$AS$95:$AS$114=B229,'4007ES(Addr)'!$AX$95:$AX$114)))","v":0},0,0,null,0,{"$f":"+AddonDevice!I86","v":1750},"RAC Powered"]
[null,38,{"$f":"+AddonDevice!C87","v":"Alan"},{"$f":"+AddonDevice!D87","v":"Test2"},{"$f":"+AddonDevice!E87","v":"Release Actuators2000mA"},{"$f":"+AddonDevice!F87","v":"Input 4C"},null,{"$f":"SUM(IF('4007ES(Addr)'!$AS$95:$AX$114=E230,IF('4007ES(Addr)'!$AS$95:$AS$114=B230,'4007ES(Addr)'!$AX$95:$AX$114)))","v":0},0,0,null,0,{"$f":"+AddonDevice!I87","v":2000},"RAC Powered"]
[null,39,{"$f":"+AddonDevice!C88","v":"Customised 5"},{"$f":"+AddonDevice!D88","v":"Input5A"},{"$f":"+AddonDevice!E88","v":"Release Actuators Input5B"},{"$f":"+AddonDevice!F88","v":"Input5C"},null,{"$f":"SUM(IF('4007ES(Addr)'!$AS$95:$AX$114=E231,IF('4007ES(Addr)'!$AS$95:$AS$114=B231,'4007ES(Addr)'!$AX$95:$AX$114)))","v":0},0,0,null,0,{"$f":"+AddonDevice!I88","v":0},"RAC Powered"]
[null,40,{"$f":"+AddonDevice!C89","v":"Customised 6"},{"$f":"+AddonDevice!D89","v":"Input6A"},{"$f":"+AddonDevice!E89","v":"Release ActuatorsInput6B"},{"$f":"+AddonDevice!F89","v":"Input6C"},null,{"$f":"SUM(IF('4007ES(Addr)'!$AS$95:$AX$114=E232,IF('4007ES(Addr)'!$AS$95:$AS$114=B232,'4007ES(Addr)'!$AX$95:$AX$114)))","v":0},0,0,null,0,{"$f":"+AddonDevice!I89","v":0},"RAC Powered"]
[null,41,{"$f":"+AddonDevice!C90","v":"Customised 7"},{"$f":"+AddonDevice!D90","v":"Input7A"},{"$f":"+AddonDevice!E90","v":"Release ActuatorsInput7B"},{"$f":"+AddonDevice!F90","v":"Input7C"},null,{"$f":"SUM(IF('4007ES(Addr)'!$AS$95:$AX$114=E233,IF('4007ES(Addr)'!$AS$95:$AS$114=B233,'4007ES(Addr)'!$AX$95:$AX$114)))","v":0},0,0,null,0,{"$f":"+AddonDevice!I90","v":0},"RAC Powered"]
[null,42,{"$f":"+AddonDevice!C91","v":"Customised 8"},{"$f":"+AddonDevice!D91","v":"Input8A"},{"$f":"+AddonDevice!E91","v":"Release ActuatorsInput8B"},{"$f":"+AddonDevice!F91","v":"Input8C"},null,{"$f":"SUM(IF('4007ES(Addr)'!$AS$95:$AX$114=E234,IF('4007ES(Addr)'!$AS$95:$AS$114=B234,'4007ES(Addr)'!$AX$95:$AX$114)))","v":0},0,0,null,0,{"$f":"+AddonDevice!I91","v":0},"RAC Powered"]
[null,43,{"$f":"+AddonDevice!C92","v":"Customised 9"},{"$f":"+AddonDevice!D92","v":"Input9A"},{"$f":"+AddonDevice!E92","v":"Release ActuatorsInput9B"},{"$f":"+AddonDevice!F92","v":"Input9C"},null,{"$f":"SUM(IF('4007ES(Addr)'!$AS$95:$AX$114=E235,IF('4007ES(Addr)'!$AS$95:$AS$114=B235,'4007ES(Addr)'!$AX$95:$AX$114)))","v":0},0,0,null,0,{"$f":"+AddonDevice!I92","v":0},"RAC Powered"]
[null,44,{"$f":"+AddonDevice!C93","v":"Customised 10"},{"$f":"+AddonDevice!D93","v":"Input10A"},{"$f":"+AddonDevice!E93","v":"Release ActuatorsInput10B"},{"$f":"+AddonDevice!F93","v":"Input10C"},null,{"$f":"SUM(IF('4007ES(Addr)'!$AS$95:$AX$114=E236,IF('4007ES(Addr)'!$AS$95:$AS$114=B236,'4007ES(Addr)'!$AX$95:$AX$114)))","v":0},0,0,null,0,{"$f":"+AddonDevice!I93","v":0},"RAC Powered"]
[null,45,{"$f":"+AddonDevice!C94","v":"Customised 11"},{"$f":"+AddonDevice!D94","v":"Input11A"},{"$f":"+AddonDevice!E94","v":"Release ActuatorsInput11B"},{"$f":"+AddonDevice!F94","v":"Input11C"},null,{"$f":"SUM(IF('4007ES(Addr)'!$AS$95:$AX$114=E237,IF('4007ES(Addr)'!$AS$95:$AS$114=B237,'4007ES(Addr)'!$AX$95:$AX$114)))","v":0},0,0,null,0,{"$f":"+AddonDevice!I94","v":0},"RAC Powered"]
[null,46,{"$f":"+AddonDevice!C95","v":"Customised 12"},{"$f":"+AddonDevice!D95","v":"Input12A"},{"$f":"+AddonDevice!E95","v":"Release ActuatorsInput12B"},{"$f":"+AddonDevice!F95","v":"Input12C"},null,{"$f":"SUM(IF('4007ES(Addr)'!$AS$95:$AX$114=E238,IF('4007ES(Addr)'!$AS$95:$AS$114=B238,'4007ES(Addr)'!$AX$95:$AX$114)))","v":0},0,0,null,0,{"$f":"+AddonDevice!I95","v":0},"RAC Powered"]
["H"," ","Installation Info on Max Distance Run from 4007ES NAC Circuit to Addressable Suppression Releasing Peripheral  Modules.",null,null,null,null,null,null,{"$f":"SUM(J241:J280)","v":0}]
[null," ","Hazard Zone","Wire Gauge Selected","Maximum RAC Distance Run 1. 4007ES to SRP & 2. SRP to Solenoid","Current Loading","Line Resistance","Distance","Distance","Distance"]
[null,1,1,{"$f":"IF('4007ES(Addr)'!K$19=\"No Selection\",\"\",'4007ES(Addr)'!K$48)","v":""},{"$f":"IF('4007ES(Addr)'!K$19=\"No Selection\",\"\",\"From 4007ES NAC to SRP Addressable Module\")","v":""},{"$f":"IF('4007ES(Addr)'!K$19=\"No Selection\",0,'4007ES(Addr)'!K$39)","v":0},{"$f":"IF('4007ES(Addr)'!K$19=\"No Selection\",0,'4007ES(Addr)'!K$50)","v":0},{"$f":"IF('4007ES(Addr)'!K$19=\"No Selection\",0,'4007ES(Addr)'!K$40)","v":0},0,{"$f":"+H241+I241","v":0}]
[null,{"$f":"+B241+1","v":2},1,{"$f":"IF('4007ES(Addr)'!K$19=\"No Selection\",\"\",'4007ES(Addr)'!K$53)","v":""},{"$f":"IF('4007ES(Addr)'!K$19=\"No Selection\",\"\",\"From SRP Addressable Module to Solenoid\")","v":""},null,{"$f":"IF('4007ES(Addr)'!K$19=\"No Selection\",0,'4007ES(Addr)'!K$55)","v":0},{"$f":"IF('4007ES(Addr)'!K$19=\"No Selection\",0,'4007ES(Addr)'!K$41)","v":0},0,{"$f":"+H242+I242","v":0}]
[null,{"$f":"+B242+1","v":3},{"$f":"+C241+1","v":2},{"$f":"IF('4007ES(Addr)'!L$19=\"No Selection\",\"\",'4007ES(Addr)'!L$48)","v":""},{"$f":"IF('4007ES(Addr)'!L$19=\"No Selection\",\"\",\"From 4007ES NAC to SRP Addressable Module\")","v":""},{"$f":"IF('4007ES(Addr)'!L$19=\"No Selection\",0,'4007ES(Addr)'!L$39)","v":0},{"$f":"IF('4007ES(Addr)'!L$19=\"No Selection\",0,'4007ES(Addr)'!L$50)","v":0},{"$f":"IF('4007ES(Addr)'!L$19=\"No Selection\",0,'4007ES(Addr)'!L$40)","v":0},0,{"$f":"+H243+I243","v":0}]
[null,4,2,{"$f":"IF('4007ES(Addr)'!L$19=\"No Selection\",\"\",'4007ES(Addr)'!L$53)","v":""},{"$f":"IF('4007ES(Addr)'!L$19=\"No Selection\",\"\",\"From SRP Addressable Module to Solenoid\")","v":""},null,{"$f":"IF('4007ES(Addr)'!L$19=\"No Selection\",0,'4007ES(Addr)'!L$55)","v":0},{"$f":"IF('4007ES(Addr)'!L$19=\"No Selection\",0,'4007ES(Addr)'!L$37)","v":0},0,{"$f":"+H244+I244","v":0}]
[null,5,3,{"$f":"IF('4007ES(Addr)'!M$19=\"No Selection\",\"\",'4007ES(Addr)'!M$48)","v":""},{"$f":"IF('4007ES(Addr)'!M$19=\"No Selection\",\"\",\"From 4007ES NAC to SRP Addressable Module\")","v":""},{"$f":"IF('4007ES(Addr)'!M$19=\"No Selection\",0,'4007ES(Addr)'!M$39)","v":0},{"$f":"IF('4007ES(Addr)'!M$19=\"No Selection\",0,'4007ES(Addr)'!M$50)","v":0},{"$f":"IF('4007ES(Addr)'!M$19=\"No Selection\",0,'4007ES(Addr)'!M$40)","v":0},0,{"$f":"+H245+I245","v":0}]
[null,6,3,{"$f":"IF('4007ES(Addr)'!M$19=\"No Selection\",\"\",'4007ES(Addr)'!M$53)","v":""},{"$f":"IF('4007ES(Addr)'!M$19=\"No Selection\",\"\",\"From SRP Addressable Module to Solenoid\")","v":""},null,{"$f":"IF('4007ES(Addr)'!M$19=\"No Selection\",0,'4007ES(Addr)'!M$55)","v":0},{"$f":"IF('4007ES(Addr)'!M$19=\"No Selection\",0,'4007ES(Addr)'!M$37)","v":0},0,{"$f":"+H246+I246","v":0}]
[null,7,4,{"$f":"IF('4007ES(Addr)'!N$19=\"No Selection\",\"\",'4007ES(Addr)'!N$48)","v":""},{"$f":"IF('4007ES(Addr)'!N$19=\"No Selection\",\"\",\"From 4007ES NAC to SRP Addressable Module\")","v":""},{"$f":"IF('4007ES(Addr)'!N$19=\"No Selection\",0,'4007ES(Addr)'!N$39)","v":0},{"$f":"IF('4007ES(Addr)'!N$19=\"No Selection\",0,'4007ES(Addr)'!N$50)","v":0},{"$f":"IF('4007ES(Addr)'!N$19=\"No Selection\",0,'4007ES(Addr)'!N$40)","v":0},0,{"$f":"+H247+I247","v":0}]
[null,8,4,{"$f":"IF('4007ES(Addr)'!N$19=\"No Selection\",\"\",'4007ES(Addr)'!N$53)","v":""},{"$f":"IF('4007ES(Addr)'!N$19=\"No Selection\",\"\",\"From SRP Addressable Module to Solenoid\")","v":""},null,{"$f":"IF('4007ES(Addr)'!N$19=\"No Selection\",0,'4007ES(Addr)'!N$55)","v":0},{"$f":"IF('4007ES(Addr)'!N$19=\"No Selection\",0,'4007ES(Addr)'!N$37)","v":0},0,{"$f":"+H248+I248","v":0}]
[null,9,{"$f":"+C247+1","v":5},{"$f":"IF('4007ES(Addr)'!O$19=\"No Selection\",\"\",'4007ES(Addr)'!O$48)","v":""},{"$f":"IF('4007ES(Addr)'!O$19=\"No Selection\",\"\",\"From 4007ES NAC to SRP Addressable Module\")","v":""},{"$f":"IF('4007ES(Addr)'!O$19=\"No Selection\",0,'4007ES(Addr)'!O$39)","v":0},{"$f":"IF('4007ES(Addr)'!O$19=\"No Selection\",0,'4007ES(Addr)'!O$50)","v":0},{"$f":"IF('4007ES(Addr)'!O$19=\"No Selection\",0,'4007ES(Addr)'!O$40)","v":0},0,0]
[null,10,{"$f":"+C248+1","v":5},{"$f":"IF('4007ES(Addr)'!O$19=\"No Selection\",\"\",'4007ES(Addr)'!O$53)","v":""},{"$f":"IF('4007ES(Addr)'!O$19=\"No Selection\",\"\",\"From SRP Addressable Module to Solenoid\")","v":""},null,{"$f":"IF('4007ES(Addr)'!O$19=\"No Selection\",0,'4007ES(Addr)'!O$55)","v":0},{"$f":"IF('4007ES(Addr)'!O$19=\"No Selection\",0,'4007ES(Addr)'!O$37)","v":0},0,{"$f":"+H250+I250","v":0}]
[null,11,6,{"$f":"IF('4007ES(Addr)'!P$19=\"No Selection\",\"\",'4007ES(Addr)'!P$48)","v":""},{"$f":"IF('4007ES(Addr)'!P$19=\"No Selection\",\"\",\"From 4007ES NAC to SRP Addressable Module\")","v":""},{"$f":"IF('4007ES(Addr)'!P$19=\"No Selection\",0,'4007ES(Addr)'!P$39)","v":0},{"$f":"IF('4007ES(Addr)'!P$19=\"No Selection\",0,'4007ES(Addr)'!P$50)","v":0},{"$f":"IF('4007ES(Addr)'!P$19=\"No Selection\",0,'4007ES(Addr)'!P$40)","v":0},0,0]
[null,12,6,{"$f":"IF('4007ES(Addr)'!P$19=\"No Selection\",\"\",'4007ES(Addr)'!P$53)","v":""},{"$f":"IF('4007ES(Addr)'!P$19=\"No Selection\",\"\",\"From SRP Addressable Module to Solenoid\")","v":""},null,{"$f":"IF('4007ES(Addr)'!P$19=\"No Selection\",0,'4007ES(Addr)'!P$55)","v":0},{"$f":"IF('4007ES(Addr)'!P$19=\"No Selection\",0,'4007ES(Addr)'!P$37)","v":0},0,{"$f":"+H252+I252","v":0}]
[null,13,7,{"$f":"IF('4007ES(Addr)'!Q$19=\"No Selection\",\"\",'4007ES(Addr)'!Q$48)","v":""},{"$f":"IF('4007ES(Addr)'!Q$19=\"No Selection\",\"\",\"From 4007ES NAC to SRP Addressable Module\")","v":""},{"$f":"IF('4007ES(Addr)'!Q$19=\"No Selection\",0,'4007ES(Addr)'!Q$39)","v":0},{"$f":"IF('4007ES(Addr)'!Q$19=\"No Selection\",0,'4007ES(Addr)'!Q$50)","v":0},{"$f":"IF('4007ES(Addr)'!Q$19=\"No Selection\",0,'4007ES(Addr)'!Q$40)","v":0},0,0]
[null,14,7,{"$f":"IF('4007ES(Addr)'!Q$19=\"No Selection\",\"\",'4007ES(Addr)'!Q$53)","v":""},{"$f":"IF('4007ES(Addr)'!Q$19=\"No Selection\",\"\",\"From SRP Addressable Module to Solenoid\")","v":""},{"$f":"IF('4007ES(Addr)'!Q$19=\"No Selection\",0,'4007ES(Addr)'!Q$39)","v":0},{"$f":"IF('4007ES(Addr)'!Q$19=\"No Selection\",0,'4007ES(Addr)'!Q$55)","v":0},{"$f":"IF('4007ES(Addr)'!Q$19=\"No Selection\",0,'4007ES(Addr)'!Q$37)","v":0},0,{"$f":"+H254+I254","v":0}]
[null,15,8,{"$f":"IF('4007ES(Addr)'!R$19=\"No Selection\",\"\",'4007ES(Addr)'!R$48)","v":""},{"$f":"IF('4007ES(Addr)'!R$19=\"No Selection\",\"\",\"From 4007ES NAC to SRP Addressable Module\")","v":""},{"$f":"IF('4007ES(Addr)'!R$19=\"No Selection\",0,'4007ES(Addr)'!R$39)","v":0},{"$f":"IF('4007ES(Addr)'!R$19=\"No Selection\",0,'4007ES(Addr)'!R$50)","v":0},{"$f":"IF('4007ES(Addr)'!R$19=\"No Selection\",0,'4007ES(Addr)'!R$40)","v":0},0,0]
[null,16,8,{"$f":"IF('4007ES(Addr)'!R$19=\"No Selection\",\"\",'4007ES(Addr)'!R$53)","v":""},{"$f":"IF('4007ES(Addr)'!R$19=\"No Selection\",\"\",\"From SRP Addressable Module to Solenoid\")","v":""},{"$f":"IF('4007ES(Addr)'!R$19=\"No Selection\",0,'4007ES(Addr)'!R$39)","v":0},{"$f":"IF('4007ES(Addr)'!R$19=\"No Selection\",0,'4007ES(Addr)'!R$55)","v":0},{"$f":"IF('4007ES(Addr)'!R$19=\"No Selection\",0,'4007ES(Addr)'!R$37)","v":0},0,{"$f":"+H256+I256","v":0}]
[null,17,9,{"$f":"IF('4007ES(Addr)'!S$19=\"No Selection\",\"\",'4007ES(Addr)'!S$48)","v":""},{"$f":"IF('4007ES(Addr)'!S$19=\"No Selection\",\"\",\"From 4007ES NAC to SRP Addressable Module\")","v":""},{"$f":"IF('4007ES(Addr)'!S$19=\"No Selection\",0,'4007ES(Addr)'!S$39)","v":0},{"$f":"IF('4007ES(Addr)'!S$19=\"No Selection\",0,'4007ES(Addr)'!S$50)","v":0},{"$f":"IF('4007ES(Addr)'!S$19=\"No Selection\",0,'4007ES(Addr)'!S$40)","v":0},0,0]
[null,18,9,{"$f":"IF('4007ES(Addr)'!S$19=\"No Selection\",\"\",'4007ES(Addr)'!S$53)","v":""},{"$f":"IF('4007ES(Addr)'!S$19=\"No Selection\",\"\",\"From SRP Addressable Module to Solenoid\")","v":""},{"$f":"IF('4007ES(Addr)'!S$19=\"No Selection\",0,'4007ES(Addr)'!S$39)","v":0},{"$f":"IF('4007ES(Addr)'!S$19=\"No Selection\",0,'4007ES(Addr)'!S$55)","v":0},{"$f":"IF('4007ES(Addr)'!S$19=\"No Selection\",0,'4007ES(Addr)'!S$37)","v":0},0,{"$f":"+H258+I258","v":0}]
[null,19,{"$f":"+C257+1","v":10},{"$f":"IF('4007ES(Addr)'!T$19=\"No Selection\",\"\",'4007ES(Addr)'!T$48)","v":""},{"$f":"IF('4007ES(Addr)'!T$19=\"No Selection\",\"\",\"From 4007ES NAC to SRP Addressable Module\")","v":""},{"$f":"IF('4007ES(Addr)'!T$19=\"No Selection\",0,'4007ES(Addr)'!T$39)","v":0},{"$f":"IF('4007ES(Addr)'!T$19=\"No Selection\",0,'4007ES(Addr)'!T$50)","v":0},{"$f":"IF('4007ES(Addr)'!T$19=\"No Selection\",0,'4007ES(Addr)'!T$40)","v":0},0,0]
[null,20,{"$f":"+C258+1","v":10},{"$f":"IF('4007ES(Addr)'!T$19=\"No Selection\",\"\",'4007ES(Addr)'!T$53)","v":""},{"$f":"IF('4007ES(Addr)'!T$19=\"No Selection\",\"\",\"From SRP Addressable Module to Solenoid\")","v":""},{"$f":"IF('4007ES(Addr)'!T$19=\"No Selection\",0,'4007ES(Addr)'!T$39)","v":0},{"$f":"IF('4007ES(Addr)'!T$19=\"No Selection\",0,'4007ES(Addr)'!T$55)","v":0},{"$f":"IF('4007ES(Addr)'!T$19=\"No Selection\",0,'4007ES(Addr)'!T$37)","v":0},0,{"$f":"+H260+I260","v":0}]
[null,21,11,{"$f":"IF('4007ES(Addr)'!U$19=\"No Selection\",\"\",'4007ES(Addr)'!U$48)","v":""},{"$f":"IF('4007ES(Addr)'!U$19=\"No Selection\",\"\",\"From 4007ES NAC to SRP Addressable Module\")","v":""},{"$f":"IF('4007ES(Addr)'!U$19=\"No Selection\",0,'4007ES(Addr)'!U$39)","v":0},{"$f":"IF('4007ES(Addr)'!U$19=\"No Selection\",0,'4007ES(Addr)'!U$50)","v":0},{"$f":"IF('4007ES(Addr)'!U$19=\"No Selection\",0,'4007ES(Addr)'!U$40)","v":0},0,0]
[null,22,11,{"$f":"IF('4007ES(Addr)'!U$19=\"No Selection\",\"\",'4007ES(Addr)'!U$53)","v":""},{"$f":"IF('4007ES(Addr)'!U$19=\"No Selection\",\"\",\"From SRP Addressable Module to Solenoid\")","v":""},{"$f":"IF('4007ES(Addr)'!U$19=\"No Selection\",0,'4007ES(Addr)'!U$39)","v":0},{"$f":"IF('4007ES(Addr)'!U$19=\"No Selection\",0,'4007ES(Addr)'!U$55)","v":0},{"$f":"IF('4007ES(Addr)'!U$19=\"No Selection\",0,'4007ES(Addr)'!U$37)","v":0},0,{"$f":"+H262+I262","v":0}]
[null,23,12,{"$f":"IF('4007ES(Addr)'!V$19=\"No Selection\",\"\",'4007ES(Addr)'!V$48)","v":""},{"$f":"IF('4007ES(Addr)'!V$19=\"No Selection\",\"\",\"From 4007ES NAC to SRP Addressable Module\")","v":""},{"$f":"IF('4007ES(Addr)'!V$19=\"No Selection\",0,'4007ES(Addr)'!V$39)","v":0},{"$f":"IF('4007ES(Addr)'!V$19=\"No Selection\",0,'4007ES(Addr)'!V$50)","v":0},{"$f":"IF('4007ES(Addr)'!V$19=\"No Selection\",0,'4007ES(Addr)'!V$40)","v":0},0,0]
[null,24,12,{"$f":"IF('4007ES(Addr)'!V$19=\"No Selection\",\"\",'4007ES(Addr)'!V$53)","v":""},{"$f":"IF('4007ES(Addr)'!V$19=\"No Selection\",\"\",\"From SRP Addressable Module to Solenoid\")","v":""},{"$f":"IF('4007ES(Addr)'!V$19=\"No Selection\",0,'4007ES(Addr)'!V$39)","v":0},{"$f":"IF('4007ES(Addr)'!V$19=\"No Selection\",0,'4007ES(Addr)'!V$55)","v":0},{"$f":"IF('4007ES(Addr)'!V$19=\"No Selection\",0,'4007ES(Addr)'!V$37)","v":0},0,{"$f":"+H264+I264","v":0}]
[null,25,13,{"$f":"IF('4007ES(Addr)'!W$19=\"No Selection\",\"\",'4007ES(Addr)'!W$48)","v":""},{"$f":"IF('4007ES(Addr)'!W$19=\"No Selection\",\"\",\"From 4007ES NAC to SRP Addressable Module\")","v":""},{"$f":"IF('4007ES(Addr)'!W$19=\"No Selection\",0,'4007ES(Addr)'!W$39)","v":0},{"$f":"IF('4007ES(Addr)'!W$19=\"No Selection\",0,'4007ES(Addr)'!W$50)","v":0},{"$f":"IF('4007ES(Addr)'!W$19=\"No Selection\",0,'4007ES(Addr)'!W$40)","v":0},0,0]
[null,26,13,{"$f":"IF('4007ES(Addr)'!W$19=\"No Selection\",\"\",'4007ES(Addr)'!W$53)","v":""},{"$f":"IF('4007ES(Addr)'!W$19=\"No Selection\",\"\",\"From SRP Addressable Module to Solenoid\")","v":""},{"$f":"IF('4007ES(Addr)'!W$19=\"No Selection\",0,'4007ES(Addr)'!W$39)","v":0},{"$f":"IF('4007ES(Addr)'!W$19=\"No Selection\",0,'4007ES(Addr)'!W$55)","v":0},{"$f":"IF('4007ES(Addr)'!W$19=\"No Selection\",0,'4007ES(Addr)'!W$37)","v":0},0,{"$f":"+H266+I266","v":0}]
[null,27,14,{"$f":"IF('4007ES(Addr)'!X$19=\"No Selection\",\"\",'4007ES(Addr)'!X$48)","v":""},{"$f":"IF('4007ES(Addr)'!X$19=\"No Selection\",\"\",\"From 4007ES NAC to SRP Addressable Module\")","v":""},{"$f":"IF('4007ES(Addr)'!X$19=\"No Selection\",0,'4007ES(Addr)'!X$39)","v":0},{"$f":"IF('4007ES(Addr)'!X$19=\"No Selection\",0,'4007ES(Addr)'!X$50)","v":0},{"$f":"IF('4007ES(Addr)'!X$19=\"No Selection\",0,'4007ES(Addr)'!X$40)","v":0},0,0]
[null,28,14,{"$f":"IF('4007ES(Addr)'!X$19=\"No Selection\",\"\",'4007ES(Addr)'!X$53)","v":""},{"$f":"IF('4007ES(Addr)'!X$19=\"No Selection\",\"\",\"From SRP Addressable Module to Solenoid\")","v":""},{"$f":"IF('4007ES(Addr)'!X$19=\"No Selection\",0,'4007ES(Addr)'!X$39)","v":0},{"$f":"IF('4007ES(Addr)'!X$19=\"No Selection\",0,'4007ES(Addr)'!X$55)","v":0},{"$f":"IF('4007ES(Addr)'!X$19=\"No Selection\",0,'4007ES(Addr)'!X$37)","v":0},0,{"$f":"+H268+I268","v":0}]
[null,29,15,{"$f":"IF('4007ES(Addr)'!Y$19=\"No Selection\",\"\",'4007ES(Addr)'!Y$48)","v":""},{"$f":"IF('4007ES(Addr)'!Y$19=\"No Selection\",\"\",\"From 4007ES NAC to SRP Addressable Module\")","v":""},{"$f":"IF('4007ES(Addr)'!Y$19=\"No Selection\",0,'4007ES(Addr)'!Y$39)","v":0},{"$f":"IF('4007ES(Addr)'!Y$19=\"No Selection\",0,'4007ES(Addr)'!Y$50)","v":0},{"$f":"IF('4007ES(Addr)'!Y$19=\"No Selection\",0,'4007ES(Addr)'!Y$40)","v":0},0,0]
[null,30,15,{"$f":"IF('4007ES(Addr)'!Y$19=\"No Selection\",\"\",'4007ES(Addr)'!Y$53)","v":""},{"$f":"IF('4007ES(Addr)'!Y$19=\"No Selection\",\"\",\"From SRP Addressable Module to Solenoid\")","v":""},{"$f":"IF('4007ES(Addr)'!Y$19=\"No Selection\",0,'4007ES(Addr)'!Y$39)","v":0},{"$f":"IF('4007ES(Addr)'!Y$19=\"No Selection\",0,'4007ES(Addr)'!Y$55)","v":0},{"$f":"IF('4007ES(Addr)'!Y$19=\"No Selection\",0,'4007ES(Addr)'!Y$37)","v":0},0,{"$f":"+H270+I270","v":0}]
[null,31,16,{"$f":"IF('4007ES(Addr)'!Z$19=\"No Selection\",\"\",'4007ES(Addr)'!Z$48)","v":""},{"$f":"IF('4007ES(Addr)'!Z$19=\"No Selection\",\"\",\"From 4007ES NAC to SRP Addressable Module\")","v":""},{"$f":"IF('4007ES(Addr)'!Z$19=\"No Selection\",0,'4007ES(Addr)'!Z$39)","v":0},{"$f":"IF('4007ES(Addr)'!Z$19=\"No Selection\",0,'4007ES(Addr)'!Z$50)","v":0},{"$f":"IF('4007ES(Addr)'!Z$19=\"No Selection\",0,'4007ES(Addr)'!Z$40)","v":0},0,0]
[null,32,16,{"$f":"IF('4007ES(Addr)'!Z$19=\"No Selection\",\"\",'4007ES(Addr)'!Z$53)","v":""},{"$f":"IF('4007ES(Addr)'!Z$19=\"No Selection\",\"\",\"From SRP Addressable Module to Solenoid\")","v":""},{"$f":"IF('4007ES(Addr)'!Z$19=\"No Selection\",0,'4007ES(Addr)'!Z$39)","v":0},{"$f":"IF('4007ES(Addr)'!Z$19=\"No Selection\",0,'4007ES(Addr)'!Z$55)","v":0},{"$f":"IF('4007ES(Addr)'!Z$19=\"No Selection\",0,'4007ES(Addr)'!Z$37)","v":0},0,{"$f":"+H272+I272","v":0}]
[null,33,17,{"$f":"IF('4007ES(Addr)'!AA$19=\"No Selection\",\"\",'4007ES(Addr)'!AA$48)","v":""},{"$f":"IF('4007ES(Addr)'!AA$19=\"No Selection\",\"\",\"From 4007ES NAC to SRP Addressable Module\")","v":""},{"$f":"IF('4007ES(Addr)'!AA$19=\"No Selection\",0,'4007ES(Addr)'!AA$39)","v":0},{"$f":"IF('4007ES(Addr)'!AA$19=\"No Selection\",0,'4007ES(Addr)'!AA$50)","v":0},{"$f":"IF('4007ES(Addr)'!AA$19=\"No Selection\",0,'4007ES(Addr)'!AA$40)","v":0},0,0]
[null,34,17,{"$f":"IF('4007ES(Addr)'!AA$19=\"No Selection\",\"\",'4007ES(Addr)'!AA$53)","v":""},{"$f":"IF('4007ES(Addr)'!AA$19=\"No Selection\",\"\",\"From SRP Addressable Module to Solenoid\")","v":""},{"$f":"IF('4007ES(Addr)'!AA$19=\"No Selection\",0,'4007ES(Addr)'!AA$39)","v":0},{"$f":"IF('4007ES(Addr)'!AA$19=\"No Selection\",0,'4007ES(Addr)'!AA$55)","v":0},{"$f":"IF('4007ES(Addr)'!AA$19=\"No Selection\",0,'4007ES(Addr)'!AA$37)","v":0},0,{"$f":"+H274+I274","v":0}]
[null,35,18,{"$f":"IF('4007ES(Addr)'!AB$19=\"No Selection\",\"\",'4007ES(Addr)'!AB$48)","v":""},{"$f":"IF('4007ES(Addr)'!AB$19=\"No Selection\",\"\",\"From 4007ES NAC to SRP Addressable Module\")","v":""},{"$f":"IF('4007ES(Addr)'!AB$19=\"No Selection\",0,'4007ES(Addr)'!AB$39)","v":0},{"$f":"IF('4007ES(Addr)'!AB$19=\"No Selection\",0,'4007ES(Addr)'!AB$50)","v":0},{"$f":"IF('4007ES(Addr)'!AB$19=\"No Selection\",0,'4007ES(Addr)'!AB$40)","v":0},0,0]
[null,36,18,{"$f":"IF('4007ES(Addr)'!AB$19=\"No Selection\",\"\",'4007ES(Addr)'!AB$53)","v":""},{"$f":"IF('4007ES(Addr)'!AB$19=\"No Selection\",\"\",\"From SRP Addressable Module to Solenoid\")","v":""},{"$f":"IF('4007ES(Addr)'!AB$19=\"No Selection\",0,'4007ES(Addr)'!AB$39)","v":0},{"$f":"IF('4007ES(Addr)'!AB$19=\"No Selection\",0,'4007ES(Addr)'!AB$55)","v":0},{"$f":"IF('4007ES(Addr)'!AB$19=\"No Selection\",0,'4007ES(Addr)'!AB$37)","v":0},0,{"$f":"+H276+I276","v":0}]
[null,37,19,{"$f":"IF('4007ES(Addr)'!AC$19=\"No Selection\",\"\",'4007ES(Addr)'!AC$48)","v":""},{"$f":"IF('4007ES(Addr)'!AC$19=\"No Selection\",\"\",\"From 4007ES NAC to SRP Addressable Module\")","v":""},{"$f":"IF('4007ES(Addr)'!AC$19=\"No Selection\",0,'4007ES(Addr)'!AC$39)","v":0},{"$f":"IF('4007ES(Addr)'!AC$19=\"No Selection\",0,'4007ES(Addr)'!AC$50)","v":0},{"$f":"IF('4007ES(Addr)'!AC$19=\"No Selection\",0,'4007ES(Addr)'!AC$40)","v":0},0,0]
[null,38,19,{"$f":"IF('4007ES(Addr)'!AC$19=\"No Selection\",\"\",'4007ES(Addr)'!AC$53)","v":""},{"$f":"IF('4007ES(Addr)'!AC$19=\"No Selection\",\"\",\"From SRP Addressable Module to Solenoid\")","v":""},{"$f":"IF('4007ES(Addr)'!AC$19=\"No Selection\",0,'4007ES(Addr)'!AC$39)","v":0},{"$f":"IF('4007ES(Addr)'!AC$19=\"No Selection\",0,'4007ES(Addr)'!AC$55)","v":0},{"$f":"IF('4007ES(Addr)'!AC$19=\"No Selection\",0,'4007ES(Addr)'!AC$37)","v":0},0,{"$f":"+H278+I278","v":0}]
[null,39,{"$f":"+C277+1","v":20},{"$f":"IF('4007ES(Addr)'!AD$19=\"No Selection\",\"\",'4007ES(Addr)'!AD$48)","v":""},{"$f":"IF('4007ES(Addr)'!AD$19=\"No Selection\",\"\",\"From 4007ES NAC to SRP Addressable Module\")","v":""},{"$f":"IF('4007ES(Addr)'!AD$19=\"No Selection\",0,'4007ES(Addr)'!AD$39)","v":0},{"$f":"IF('4007ES(Addr)'!AD$19=\"No Selection\",0,'4007ES(Addr)'!AD$50)","v":0},{"$f":"IF('4007ES(Addr)'!AD$19=\"No Selection\",0,'4007ES(Addr)'!AD$40)","v":0},0,{"$f":"+H279+I279","v":0}]
[null,40,{"$f":"+C278+1","v":20},{"$f":"IF('4007ES(Addr)'!AD$19=\"No Selection\",\"\",'4007ES(Addr)'!AD$53)","v":""},{"$f":"IF('4007ES(Addr)'!AD$19=\"No Selection\",\"\",\"From SRP Addressable Module to Solenoid\")","v":""},{"$f":"IF('4007ES(Addr)'!AD$19=\"No Selection\",0,'4007ES(Addr)'!AD$39)","v":0},{"$f":"IF('4007ES(Addr)'!AD$19=\"No Selection\",0,'4007ES(Addr)'!AD$55)","v":0},{"$f":"IF('4007ES(Addr)'!AD$19=\"No Selection\",0,'4007ES(Addr)'!AD$37)","v":0},0,{"$f":"+H280+I280","v":0}]
["I",null,"Batteries and Charger for Reference - Local purchase - 4007ES ",null,null,null,null,null,null,{"$f":"SUM(J282:L289)","v":0}]
[" ",1,"2081-9272","Lead Acid Battery only","6.2 Ah battery, 12 V","Internal Panel Mounting",null,{"$f":"+'4007ES(Addr)'!U188","v":0},0,{"$f":"+I282+H282","v":0},null,0,0,0]
[null,2,"2081-9274","Lead Acid Battery only","10 Ah battery, 12 V","Internal Panel Mounting",null,{"$f":"+'4007ES(Addr)'!U189","v":0},0,0,null,0,0,0]
[null,3,"2081-9288","Lead Acid Battery only","12.7 Ah battery, 12 V","Internal Panel Mounting",null,{"$f":"+'4007ES(Addr)'!U190","v":0},0,0,null,0,0,0]
[null,{"$f":"+B284+1","v":4},"2081-9275","Lead Acid Battery only","18 Ah battery, 12 V","External Panel Charger & Mounting",null,{"$f":"+'4007ES(Addr)'!U191","v":0},0,0,null,0,0,0]
[null,{"$f":"+B285+1","v":5},"2081-9287","Lead Acid Battery only","25 Ah battery, 12 V","External Panel Charger & Mounting",null,{"$f":"+'4007ES(Addr)'!U192","v":0},0,0,null,0,0,0]
[null,6,"2081-9276","Lead Acid Battery only","33 Ah battery, 12 V","External Panel Charger & Mounting",null,{"$f":"+'4007ES(Addr)'!U193","v":0},0,0,null,0,0,0]
[null,7,"2081-9296","Lead Acid Battery only","50 Ah battery, 12 V","External Panel Charger & Mounting",null,{"$f":"+'4007ES(Addr)'!U194","v":0},0,0,null,0,0,0]
[null,8,"2081-9279","Lead Acid Battery only","110Ah battery, 12V","External Panel Charger & Mounting",null,{"$f":"+'4007ES(Addr)'!U195","v":0},0,0,null,0,0,0]
[null,9," "," ","External Battery Box","External Battery Box",null,{"$f":"(IF('4007ES(Addr)'!K216=\"External Battery Box\",1,0))","v":0},0,0]
[null,10,"4081-9308","Battery Charger","External Battery Charger up to 110Ah","External Battery Charger",null,{"$f":"IF('4007ES(Addr)'!K216=\"External Battery Charger\",1,0)","v":0},0,0,null,0,0,0]
["J",null,"Batteries and Charger for Reference - Local purchase - NAC Repeater",null,null,null,null,null,null,{"$f":"SUM(J293:J302)","v":0}]
[" ",1,"2081-9272","Lead Acid Battery only","6.2 Ah battery, 12 V","Internal Panel Mounting",null,{"$f":"+'4007ES(Addr)'!Y188","v":0},0,{"$f":"+I293+H293","v":0},null,0,0,0]
[null,2,"2081-9274","Lead Acid Battery only","10 Ah battery, 12 V","Internal Panel Mounting",null,{"$f":"+'4007ES(Addr)'!Y189","v":0},0,0,null,0,0,0]
[null,3,"2081-9288","Lead Acid Battery only","12.7 Ah battery, 12 V","Internal Panel Mounting",null,{"$f":"+'4007ES(Addr)'!Y190","v":0},0,0,null,0,0,0]
[null,{"$f":"+B295+1","v":4},"2081-9275","Lead Acid Battery only","18 Ah battery, 12 V","External Battery Box",null,{"$f":"+'4007ES(Addr)'!Y191","v":0},0,0,null,0,0,0]
[null,{"$f":"+B296+1","v":5},"2081-9287","Lead Acid Battery only","25 Ah battery, 12 V","External Battery Box",null,{"$f":"+'4007ES(Addr)'!Y192","v":0},0,0,null,0,0,0]
[null,6,"2081-9276","Lead Acid Battery only","33 Ah battery, 12 V","External Battery Box",null,{"$f":"+'4007ES(Addr)'!Y193","v":0},0,0,null,0,0,0]
[null,7,"2081-9296","Lead Acid Battery only","50 Ah battery, 12 V","External Panel Charger & Mounting",null,{"$f":"+'4007ES(Addr)'!Y194","v":0},0,0,null,0,0,0]
[null,8,"2081-9279","Lead Acid Battery only","110Ah battery, 12V","External Panel Charger & Mounting",null,{"$f":"+'4007ES(Addr)'!Y195","v":0},0,0,null,0,0,0]
[null,9," "," ","External Battery Box","External Battery Box",null,{"$f":"(IF('4007ES(Addr)'!L216=\"External Battery Box\",1,0))+(IF('4007ES(Addr)'!M216=\"External Battery Box\",1,0))+(IF('4007ES(Addr)'!N216=\"External Battery Box\",1,0))+(IF('4007ES(Addr)'!O216=\"External Battery Box\",1,0))+(IF('4007ES(Addr)'!P216=\"External Battery Box\",1,0))","v":0},0,{"$f":"+I301+H301","v":0}]
[null,{"$f":"+B301+1","v":10},"4081-9308","Battery Charger","External Battery Charger up to 110Ah","External Batter Charger",null,{"$f":"(IF('4007ES(Addr)'!L217=\"External Battery Charger\",1,0))+(IF('4007ES(Addr)'!M217=\"External Battery Charger\",1,0))+(IF('4007ES(Addr)'!N217=\"External Battery Charger\",1,0))+(IF('4007ES(Addr)'!O217=\"External Battery Charger\",1,0))+(IF('4007ES(Addr)'!P217=\"External Battery Charger\",1,0))","v":0},0,0,null,0,0,0]
[null,null,null,null," "]
[]
[]
[]
[]
[]
[]
[]
[]
[]
[null,null,null,null,null,4]
[]
[]
[]
[]
[]
[]
[]
[]
[]
[]
[]
[]
[]
[]
[]
[]
[]
[]
[]
[]
[]
[]
[]
[]
[]
[]
[]
[]
[]
[]
[]
[]
[]
[]
[]
[]
[]
[]
[]
[]
[]
[]
[]
[]
[]
[]
[]
[]
[]
[]
[]
[]
[]
[]
[]
[]
[]
[]
[]
[]
[]
[]
[]
[]
[]
[]
[]
[]
[]
[]
[]
[]
[]
[]
[]
[]
[]
[]
[]
[]
[]
[]
[]
[]
[]
[]
[]
[]
[]
[]
[]
[]
[]
[]
[]
[]
[]
[]
[]
[]
[]
[]
[]
[]
[]
[]
[]
[]
[]
[]
[]
[]
[]
[]
[]
[]
[]
[]
[]
[]
[]
[]
[]
[]
[]
[]
[]
[]
[]
[]
[]
[]
[]
[]
[]
[]
[]
[]
[]
[]
[]
[]
[]
[]
[]
[]
[]
[]
[]
[]
[]
[]
[]
[]
[]
[]
[]
[]
[]
[]
[]
[]
[]
[]
[]
[]
[]
[]
[]
[]
[]
[]
[]
[]
[]
[]
[]
[]
[]
[]
[]
[]
[]
[]
[]
[]
[]
[]
[]
[]
[]
[]
[]
[]
[]
[]
[]
[]
[]
[]
[]
[]
[]
[]
[]
[]
[]
[]
[]
[]
[]
[]
[]
[]
[]
[]
[]
[]
[]
[]
[]
[]
[]
[]
[]
[]
[]
[]
[]
[]
[]
[]
[]
[]
[]
[]
[]
[]
[]
[]
[]
[]
[]
[]
[]
[]
[]
[]
[]
[]
[]
[]
[]
[]
[]
[]
[]
[]
[]
[]
[]
[]
[]
[]
[]
[]
[]
[]
[]
[]
[]
[]
[]
[]
[]
[]
[]
[]
[]
[]
[]
[]
[]
[]
[]
[]
[]
[]
[]
[]
[]
[]
[]
[]
[]
[]
[]
[]
[]
[]
[]
[]
[]
[]
[]
[]
[]
[]
[]
[]
[]
[]
[]
[]
[]
[]
[]
[]
[]
[]
[]
[]
[]
[]
[]
[]
[]
[]
[]
[]
[]
[]
[]
[]
[]
[]
[]
[]
[]
[]
[]
[]
[]
[]
[]
[]
[]
[]
[]
[]
[]
[]
[]
[]
[]
[]
[]
[]
[]
[]
[]
[]
[]
[]
[]
[]
[]
[]
[]
[]
[]
[]
[]
[]
[]
[]
[]
[]
[]
[]
[]
[]
[]
[]
[]
[]
[]
[]
[]
[]
[]
[]
[]
[]
[]
[]
[]
[]
[]
[]
[]
[]
[]
[]
[]
[]
[]
[]
[]
[]
[]
[]
[]
[]
[]
[]
[]
[]
[]
[]
[]
[]
[]
[]
[]
[]
[]
[]
[]
[]
[]
[]
[]
[]
[]
[]
[]
[]
[]
[]
[]
[]
[]
[]
[]
[]
[]
[]
[]
[]
[]
[]
[]
[]
[]
[]
[]
[]
[]
[]
[]
[]
[]
[]
[]
[]
[]
[]
[]
[]
[]
[]
[]
[]
[]
[]
[]
[]
[]
[]
[]
[]
[]
[]
[]
[]
[]
[]
[]
[]
[]
[]
[]
[]
[]
[]
[]
[]
[]
[]
[]
[]
[]
[]
[]
[]
[]
[]
[]
[]
[]
[]
[]
[]
[]
[]
[]
[]
[]
[]
[]
[]
[]
[]
[]
[]
[]
[]
[]
[]
[]
[]
[]
[]
[]
[]
[]
[]
[]
[]
[]
[]
[]
[]
[]
[]
[]
[]
[]
[]
[]
[]
[]
[]
[]
[]
[]
[]
[]
[]
[]
[]
[]
[]
[]
[]
[]
[]
[]
[]
[]
[]
[]
[]
[]
[]
[]
[]
[]
[]
[]
[]
[]
[]
[]
[]
[]
[]
[]
[]
[]
[]
[]
[]
[]
[]
[]
[]
[]
[]
[]
[]
[]
[]
[]
[]
[]
[]
[]
[]
[]
[]
[]
[]
[]
[]
[]
[]
[]
[]
[]
[]
[]
[]
[]
[]
[]
[]
[]
[]
[]
[]
[]
[]
[]
[]
[]
[]
[]
[]
[]
[]
[]
[]
[]
[]
[]
[]
[]
[]
[]
[]
[]
[]
[]
[]
[]
[]
[]
[]
[]
[]
[]
[]
[]
[]
[]
[]
[]
[]
[]
[]
[]
[]
[]
[]
[]
[]
[]
[]
[]
[]
[]
[]
[]
[]
[]
[]
[]
[]
[]
[]
[]
[]
[]
[]
[]
[]
[]
[]
[]
[]
[]
[]
[]
[]
[]
[]
[]
[]
[]
[]
[]
[]
[]
[]
[]
[]
[]
[]
[]
[]
[]
[]
[]
[]
[]
[]
[]
[]
[]
[]
[]
[]
[]
[]
[]
[]
[]
[]
[]
[]
[]
[]
[]
[]
[]
[]
[]
[]
[]
[]
[]
[]
[]
[]
[]
[]
[]
[]
[]
[]
[]
[]
[]
[]
[]
[]
[]
[]
[]
[]
[]
[]
[]
[]
[]
[]
[]
[]
[]
[]
[]
[]
[]
[]
[]
[]
[]
[]
[]
[]
[]
[]
[]
[]
[]
[]
[]
[]
[]
[]
[]
[]
[]
[]
[]
[]
[]
[]
[]
[]
[]
[]
[]
[]
[]
[]
[]
[]
[]
[]
[]
[]
[]
[]
[]
[]
[]
[]
[]
[]
[]
[]
[]
[]
[]
[]
[]
[]
[]
[]
[]
[]
[]
[]
[]
[]
[]
[]
[]
[]
[]
[]
[]
[]
[]
[]
[]
[]
[]
[]
[]
[]
[]
[]
[]
[]
[]
[]
[]
[]
[]
[]
[]
[]
[]
[]
[]
[]
[]
[]
[]
[]
[]
[]
[]
[]
[]
[]
[]
[]
[]
[]
[]
[]
[]
[]
[]
[]
[]
[]
[]
[]
[]
[]
[]
[]
[]
[]
[]
[]
[]
[]
[]
[]
[]
[]
[]
[]
[]
[]
[]
[]
[]
[]
[]
[]
[]
[]
[]
[]
[]
[]
[]
[]
[]
[]
[]
[]
[]
[]
[]
[]
[]
[]
[]
[]
[]
[]
[]
[]
[]
[]
[]
[]
[]
[]
[]
[]
[]
[]
[]
[]
[]
[]
[]
[]
[]
[]
[]
[]
[]
[]
[]
[]
[]
[]
[]
[]
[]
[]
[]
[]
[]
[]
[]
[]
[]
[]
[]
[]
[]
[]
[]
[]
[]
[]
[]
[]
[]
[]
[]
[]
[]
[]
[]
[]
[]
[]
[]
[]
[]
[]
[]
[]
[]
[]
[]
[]
[]
[]
[]
[]
[]
[]
[]
[]
[]
[]
[]
[]
[]
[]
[]
[]
[]
[]
[]
[]
[]
[]
[]
[]
[]
[]
[]
[]
[]
[]
[]
[]
[]
[]
[]
[]
[]
[]
[]
[]
[]
[]
[]
[]
[]
[]
[]
[]
[]
[]
[]
[]
[]
[]
[]
[]
[]
[]
[]
[]
[]
[]
[]
[]
[]
[]
[]
[]
[]
[]
[]
[]
[]
[]
[]
[]
[]
[]
[]
[]
[]
[]
[]
[]
[]
[]
[]
[]
[]
[]
[]
[]
[]
[]
[]
[]
[]
[]
[]
[]
[]
[]
[]
[]
[]
[]
[]
[]
[]
[]
[]
[]
[]
[]
[]
[]
[]
[]
[]
[]
[]
[]
[]
[]
[]
[]
[]
[]
[]
[]
[]
[]
[]
[]
[]
[]
[]
[]
[]
[]
[]
[]
[]
[]
[]
[]
[]
[]
[]
[]
[]
[]
[]
[]
[]
[]
[]
[]
[]
[]
[]
[]
[]
[]
[]
[]
[]
[]
[]
[]
[]
[]
[]
[]
[]
[]
[]
[]
[]
[]
[]
[]
[]
[]
[]
[]
[]
[]
[]
[]
[]
[]
[]
[]
[]
[]
[]
[]
[]
[]
[]
[]
[]
[]
[]
[]
[]
[]
[]
[]
[]
[]
[]
[null,null,null,null,"\\"]
[]
[]
[]
[]
[]
[]
[]
[]
[]
[]
[]
[]
[]
[]
[]
[]
[]
[]
[]
[]
[]
[]
[]
[]
[]
[]
[]
[]
[]
[]
[]
[]
[]
[]
[]
[]
[]
[]
[]
[]
[]
[]
[]
[]
[]
[]
[]
[]
[]
[]
[]
[]
[]
[]
[]
[]
[]
[]
[]
[]
[]
[]
[]
[]
[]
[]
[]
[]
[]
[]
[]
[]
[]
[]
[]
[]
[]
[]
[]
[]
[]
[]
[]
[]
[]
[]
[]
[]
[]
[]
[]
[]
[]
[]
[]
[]
[]
[]
[]
[]
[]
[]
[]
[]
[]
[]
[]
[]
[]
[]
[]
[]
[]
[]
[]
[]
[]
[]
[]
[]
[]
[]
[]
[]
[]
[]
[]
[]
[]
[]
[]
[]
[]
[]
[]
[]
[]
[]
[]
[]
[]
[]
[]
[]
[]
[]
[]
[]
[]
[]
[]
[]
[]
[]
[]
[]
[]
[]
[]
[]
[]
[]
[]
[]
[]
[]
[]
[]
[]
[]
[null,null,null,null," "]

{"sheet":"4007ES(Addressable)","index":15,"n_rows":159,"n_cols":16,"rows_kept":159,"cut":false,"hidden":true,"merged":[[8,1,8,10],[9,1,9,10],[10,1,10,10],[12,5,12,10],[13,5,13,10],[104,12,104,13],[152,5,152,10],[112,5,112,10],[106,6,106,8],[108,6,108,8],[110,6,110,8],[137,8,137,9],[105,6,105,8],[107,6,107,8],[109,6,109,8],[111,6,111,8],[153,5,153,10],[124,6,124,8],[125,6,125,8],[126,6,126,8],[127,6,127,8],[129,6,129,8],[130,6,130,8],[131,6,131,8],[132,6,132,8],[136,8,136,9]]}
[]
[]
[]
[]
[]
[]
[]
[]
[]
[null,"4007ES Addressable Suppression Panel Default of  100 Addressable Points, 8 Point Zone/Relay Card and 4 Conventional NACs"]
[]
[null," "," "," "]
[null," "," ",null,null,"4007ES with 4 Conventional NACs Configuration"]
[null,null,null,null,null,"Enter custom template name here",null,null,null,null,null,null,"PID","Qty","Addr","Description"]
[null,null,null,null,null,null,"Selection"]
[null,null,"Enter Quantity of panel type to be included in BOM",null,null,null,1]
[null,null,"Step 1 till 5: Select Panel Type",null,null,null," ",null,"Standby Loads","Alarm Loads"]
[null,null,"Addressable Suppression Panel with UL & FM Listing","PDF",null,null,{"$f":"IF($G$19=\"Red\",'4007ESConfigurator'!C8,IF($G$19=\"Platinium\",'4007ESConfigurator'!C9,0))","v":"4007-9102"},null,{"$f":"IF($G$16>0.9,'4007ESConfigurator'!L8,0)","v":145},{"$f":"IF($G$16>0.9,'4007ESConfigurator'!M8,0)","v":195},null,null,{"$f":"+G18","v":"4007-9102"},{"$f":"+G16","v":1},0,{"$f":"+'4007ESConfigurator'!E8","v":"4007ES Suppression Panel Red(Std Offering)"}]
[null,null,"Color",null,null,null,"Platinium",null,null,null,null,null,{"$f":"+'4007ESConfigurator'!C13","v":"4007-9803"},{"$f":"G22","v":0},null,{"$f":"+'4007ESConfigurator'!E9","v":"4007ES Suppression Panel Platinium(Std Offering)"}]
[null,null,"Step 2: Option Select Addressable Loop",null,null,null," ",null," "," "]
[null,null,"Default Idnet Addressable Points Loop Card",null,null,null,100,null,{"$f":"IF($G$21>99,'4007ESConfigurator'!L12,0)","v":80},{"$f":"IF($G$21>99,'4007ESConfigurator'!M12,0)","v":120}]
[null,null,"Idnet Loop 75 points Expansion Cards",null,null,null,{"$f":"IF($G$21=175,1,IF($G$21=250,2,0))","v":0},null,{"$f":"IF($G$22=1,'4007ESConfigurator'!L13,IF($G$22=2,'4007ESConfigurator'!L13*2,0))","v":0},{"$f":"IF($G$22=1,'4007ESConfigurator'!M13,IF($G$22=2,'4007ESConfigurator'!M13*2,0))","v":0},null,null,{"$f":"+'4007ESConfigurator'!C13","v":"4007-9803"},{"$f":"+G22","v":0}]
[null,null,"Step 3: Optional Select Conventional Zones",null,null,{"$f":"+(H24+H26)/2","v":2}," "," "," "," "]
[null,null,"Class B Conventional Zones",null,null,{"$f":"ROUNDUP(((H24+H26)/2),0)","v":2},4,{"$f":"+G24","v":4},{"$f":"IF($G$24>1,$G$24*'4007ESConfigurator'!L17,0)","v":44},{"$f":"IF($G$24>1,$G$24*'4007ESConfigurator'!M17,0)","v":240},null,null,{"$f":"+'4007ESConfigurator'!C16","v":"4007-9801"},{"$f":"ROUNDUP((IF((((G24+(G25*2)+G26)/8)-0)<0,0,(((G24+(G25*2)+G26)/8)-0))),0)","v":1},null,{"$f":"+'4007ESConfigurator'!E13","v":"Idnet 75 points (Option)"}]
[null,null,"Class A Conventional Zones",null,null,{"$f":"+(H25*2)+H24+H26","v":4},0,{"$f":"+G25","v":0},{"$f":"IF($G$25>1,$G$25*'4007ESConfigurator'!L18,0)","v":0},{"$f":"IF($G$25>1,$G$25*'4007ESConfigurator'!M17,0)","v":0}]
[null,null,"Relay Outputs",null,null," ",0,{"$f":"+G26","v":0},0,{"$f":"IF(G26>0,G26*'4007ESConfigurator'!M19,0)","v":0}]
[null,null,"25V Zone Regulator Module",null,null," ","No",0,{"$f":"IF(G27=\"Yes\",'4007ESConfigurator'!L20,0)","v":0},{"$f":"IF(G27=\"Yes\",'4007ESConfigurator'!M20,0)","v":0},null,null,{"$f":"+'4007ESConfigurator'!C20","v":"4007-9802"},{"$f":"IF(G27=\"Yes\",1,0)","v":0}]
[null,null,"Optional : RS 232 Card for Printer",null,null," ","No",0,{"$f":"IF(G28=\"Yes\",'4007ESConfigurator'!L21,0)","v":0},{"$f":"IF(G28=\"Yes\",'4007ESConfigurator'!M21,0)","v":0},null,null,{"$f":"+'4007ESConfigurator'!C21","v":"4007-9812"},{"$f":"IF(G28=\"Yes\",1,0)","v":0}]
[null,null,"Step 4: Optional Network Requirements",null,null,null," "," "," "," "," "]
[null,null,"ESNet Network Card",null,null,null,"No",null,{"$f":"IF(G30=\"Yes\",'4007ESConfigurator'!L23,0)","v":0},{"$f":"IF(G30=\"Yes\",'4007ESConfigurator'!M23,0)","v":0},null,null,{"$f":"+'4007ESConfigurator'!C23","v":"4007-9817"},{"$f":"IF(G30=\"Yes\", 1,0)","v":0},null,{"$f":"+'4007ESConfigurator'!E23","v":"ES Network Main Card"}]
[null,null,"ESNet Slot 1 Media Card",null,null,null,"None",null,{"$f":"IF(G31=\"DSL(Hardwired)\",'4007ESConfigurator'!L24,IF(G31=\"MM Fiber\",'4007ESConfigurator'!L25,IF(G31=\"SM Fiber\",'4007ESConfigurator'!L26,IF(G31=\"Ethernet\",'4007ESConfigurator'!L27,0))))","v":0},{"$f":"IF(G31=\"DSL(Hardwired)\",'4007ESConfigurator'!M24,IF(G31=\"MM Fiber\",'4007ESConfigurator'!M25,IF(G31=\"SM Fiber\",'4007ESConfigurator'!M26,IF(G31=\"Ethernet\",'4007ESConfigurator'!M27,0))))","v":0},null,null,{"$f":"+'4007ESConfigurator'!C24","v":"4007-6307"},{"$f":"IF(G31=\"DSL(Hardwired)\", 1,0)+IF(G32=\"DSL(Hardwired)\",1,0)","v":0},null,{"$f":"+'4007ESConfigurator'!E24","v":"ES Network Media Card - Hard Wired"}]
[null,null,"ESNet Slot 2 Media Card",null,null,null,"None",null,{"$f":"IF(G32=\"DSL(Hardwired)\",'4007ESConfigurator'!L24,IF(G32=\"MM Fiber\",'4007ESConfigurator'!L25,IF(G32=\"SM Fiber\",'4007ESConfigurator'!L26,IF(G32=\"Ethernet\",'4007ESConfigurator'!L27,0))))","v":0},{"$f":"IF(G32=\"DSL(Hardwired)\",'4007ESConfigurator'!M24,IF(G32=\"MM Fiber\",'4007ESConfigurator'!M25,IF(G32=\"SM Fiber\",'4007ESConfigurator'!M26,IF(G32=\"Ethernet\",'4007ESConfigurator'!M27,0))))","v":0},null,null,{"$f":"+'4007ESConfigurator'!C25","v":"4007-6309"},{"$f":"IF(G31=\"MM Fiber\", 1,0)+IF(G32=\"MM Fiber\", 1,0)","v":0},null,{"$f":"+'4007ESConfigurator'!E25","v":"ES Network Media Card - Multi mode Fiber Optic"}]
[null,null,"Step 5: Optional Panel Suppression Field Accessories",null,null,null,null,null," ",null,null,null,{"$f":"+'4007ESConfigurator'!C26","v":"4007-6308"},{"$f":"IF(G31=\"SM Fiber\", 1,0)+IF(G32=\"SM Fiber\", 1,0)","v":0},null,{"$f":"+'4007ESConfigurator'!E26","v":"ES Network Media Card - Single mode Fibre Optic"}]
[null,null,"Panel Mounted 48 LED Annunciator",null,null,null,"Yes",null,{"$f":"IF(G34=\"Yes\",'4007ESConfigurator'!L10,0)","v":10},{"$f":"IF(G34=\"Yes\",'4007ESConfigurator'!M10,0)","v":10},null,null,{"$f":"+'4007ESConfigurator'!C27","v":"4007-6306"},{"$f":"IF(G31=\"Ethernet\",1,0)+IF(G32=\"Ethernet\",1,0)","v":0},null,{"$f":"+'4007ESConfigurator'!E27","v":"ES Network Media Card - Ethernet "}]
[null,null,"Enter Number of LEDs on in Alarm",null,null,null,16,null,0,{"$f":"IF(G34=\"Yes\",'4007ESConfigurator'!M11*G35,0)","v":32},null,null,{"$f":"+'4007ESConfigurator'!C10","v":"4007-9805"},{"$f":"IF(G34=\"Yes\",1,0)","v":1}]
[null,null,"Localised Count down Timer",null,null,null,"No",null,{"$f":"+'4007ESConfigurator'!L42*'4007ESConfigurator'!J42","v":0},{"$f":"+'4007ESConfigurator'!M42*'4007ESConfigurator'!J42","v":0},null,null,"Local Timer",{"$f":"IF(G36=\"Yes\",1,0)","v":0},null,{"$f":"+'4007ESConfigurator'!E42","v":"Count Down Timer Locally Source"}]
[null,null,"Step 6: Repeater LCD Annunicator",null,null,null,"** Note:  The selection will affect Max Distance Run due to Actuator total line Resistance."]
[null,null,"Color Touchscreen Annunciator - Panel Aux",null,null,null,0,null,{"$f":"+'4007ESConfigurator'!$L$36*G38","v":0},{"$f":"+'4007ESConfigurator'!$M$36*G38","v":0},null,null,"4606-9202(BA)",{"$f":"IF(G40=\"Red\",G38,0)","v":0},null,{"$f":"+'4007ESConfigurator'!E36","v":"Remote Color Touchscreen LCD Annunciator-RED - Max 6"}]
[null,null,"Surface mount metal box for above annunciators ",null,null,null,{"$f":"+G38","v":0},null,null,null,null,null,"4606-9205(BA)",{"$f":"IF(G40=\"Beige\",G38,0)","v":0},null,{"$f":"+'4007ESConfigurator'!E37","v":"Remote Color Touchscreen LCD Annunciator-Beige - Max 6"}]
[null,null,null,null,null,null,"Beige",null," ",null,null,null,"2975-9461",{"$f":"IF(G40=\"Red\",G39,0)","v":0},null,{"$f":"+'4007ESConfigurator'!E38","v":"Surface mount metal box for above annunciators - Red"}]
[null,null,null,null,null,null,null,null,null,null,null,null,"2975-9462",{"$f":"IF(G40=\"Beige\",G39,0)","v":0},null,{"$f":"+'4007ESConfigurator'!E39","v":"Surface mount metal box for above annunciators - Beige"}]
[null,null,"Step 7: Suppression Interface Equip: Abort & Maintenance Switch","PDF"]
[null,null,"Abort Switch with UL864 Listing",null,null,null,0,null,null,null,null,null,"2081-9067",{"$f":"+G43+G44","v":0}," ",{"$f":"+'4007ESConfigurator'!E111","v":"Abort Switch"}]
[null,null,"Abort Switch with UL864 Listing with Addressable Module",null,null,null,0,null,0,{"$f":"+'4007ESConfigurator'!M113","v":83},null,null,"4009-9001",{"$f":"+G44","v":0},{"$f":"+N44","v":0},{"$f":"+'4007ESConfigurator'!E69","v":"Addressable Single Input Module"}]
[null,null,"Maintenance Switch with Lights(UL)",null,null,null,1,{"$f":"+G45+G46","v":1},0,0,null,null,"2080-9069",1,0,{"$f":"+'4007ESConfigurator'!E114","v":" "}]
[null,null,"Maintenance Switch without Lights(UL)",null,null,{"$f":"IF((ABS($H$45-$H$46))>1,\"Error\",\"OK\")","v":"Error"},0,{"$f":"+G54+G55+G56+G57","v":3},null,null,null,null,"2080-9059",0,null,{"$f":"+'4007ESConfigurator'!E112","v":"Maintenance Switch without Lights"}]
[null,null,"Addressable interface for Release Actuating Circuit(RAC)",null,null,null,1,null," "," ",null,null,"4090-9006",{"$f":"+G47","v":1},{"$f":"+N47","v":1},"Addressable RAC Module"]
[null,null,"Manual Overide PullStation - Conventional(UL & FM)","PDF",null,null,0,{"$f":"+G48+G49","v":1},null,0,null,null,{"$f":"+'4007ESConfigurator'!C105","v":"2099-9149"},0,{"$f":"+N48","v":0},{"$f":"+'4007ESConfigurator'!E105","v":"Conventional Manual Overide Pullstation"}]
[null,null,"Manual Overide PullStation - Addressable(UL&FM)","PDF",null,null,1,{"$f":"+G58+G59","v":2},null,0,null,null,{"$f":"IF(G49>0.9,\"4099-9015\",0)","v":"4099-9015"},1,{"$f":"+G49","v":1},{"$f":"+'4007ESConfigurator'!E106","v":"Addressable Manual Overide Pullstation"}]
[null,null,"Label Kit For Specific Releasing Application.",null,null,null,{"$f":"+G48+G49","v":1},{"$f":"+G59+G60","v":2},null,0,null,null,{"$f":"IF(G50>0.9,\"4099-9802\",0)","v":"4099-9802"},1,0,"Label Kit"]
[null,null,"Discharge Signage",null,null,null,0,null,{"$f":"+'4007ESConfigurator'!L116*G51","v":0},{"$f":"+'4007ESConfigurator'!M116*G51","v":0},null,null,"Discharge",0,0,{"$f":"+C51","v":"Discharge Signage"}]
[null,null,"Addressable Interface for Discharge Signage",null,null,null,{"$f":"+G51","v":0},null,null,null,null,null,"4090-9002",{"$f":"+G52","v":0},{"$f":"+N52","v":0},"Relay Modules"]
[null,"S/No","Step 7: Suppression Interface Equipment: Actuators","CCT",null,null,null,null,null,null,null,null,"Brand","Qty"," "," "]
["**",1,{"$f":"VLOOKUP($B54,'4007ESConfigurator'!$B$192:$M$238,4,TRUE)","v":"AUTOMAN II-C Assembly (solenoid 17728; coil 25924)"},"RAC1",null,null,1,null," ",{"$f":"VLOOKUP($B54,'4007ESConfigurator'!$B$192:$M$238,12,TRUE)*G54","v":750},null,null,{"$f":"VLOOKUP($B54,'4007ESConfigurator'!$B$192:$M$238,3,TRUE)","v":"Ansul"},{"$f":"+G54","v":1}," ",{"$f":"+C54","v":"AUTOMAN II-C Assembly (solenoid 17728; coil 25924)"}]
["**",12,{"$f":"VLOOKUP($B55,'4007ESConfigurator'!$B$192:$M$238,4,TRUE)","v":"8211A107 (097617-005D coil)"},"RAC2",null,null,1,null,null,{"$f":"VLOOKUP($B55,'4007ESConfigurator'!$B$192:$M$238,12,TRUE)*G55","v":750},null,null,{"$f":"VLOOKUP($B55,'4007ESConfigurator'!$B$192:$M$238,3,TRUE)","v":"ASCO"},1," ",{"$f":"+C55","v":"8211A107 (097617-005D coil)"}]
["**",9,{"$f":"VLOOKUP($B56,'4007ESConfigurator'!$B$192:$M$238,4,TRUE)","v":"Electric Actuator 24 VDC solenoid 570537"},"RAC3",null,null,1,null,null,{"$f":"VLOOKUP($B56,'4007ESConfigurator'!$B$192:$M$238,12,TRUE)*G56","v":250},null,null,{"$f":"VLOOKUP($B56,'4007ESConfigurator'!$B$192:$M$238,3,TRUE)","v":"Ansul"},1," ",{"$f":"+C56","v":"Electric Actuator 24 VDC solenoid 570537"}]
["**",0,{"$f":"VLOOKUP(B57,'4007ESConfigurator'!$B$192:$M$238,4,TRUE)","v":"No Actuator Selected"},"None",null,null,0,null,null,{"$f":"VLOOKUP($B57,'4007ESConfigurator'!$B$192:$M$238,12,TRUE)*G57","v":0},null,null,{"$f":"VLOOKUP($B57,'4007ESConfigurator'!$B$192:$M$238,3,TRUE)","v":"No Selection"},0,{"$f":"VLOOKUP(M57,'Solenoid Nos Reference'!A2:C52,2,TRUE)","v":{"$error":"#N/A"}},{"$f":"+C57","v":"No Actuator Selected"}]
[null,null,"Monitoring of Compressor for Pneumatic Operation of Actuators",null,null,null,1,null,null,0,null,null,"4009-9001",1,{"$f":"+G58","v":1},{"$f":"+P44","v":"Addressable Single Input Module"}]
[null,null,"Monitoring of Pressure Switch Alarm",null,null,null,1,null," ",0,null,null,"4009-9001",1,{"$f":"+G59","v":1},{"$f":"+P58","v":"Addressable Single Input Module"}]
[null,null,"Monitoring of Supervisory Tamper Switch",null,null,null,1,null," ",0,null,null,"4009-9001",1,{"$f":"+G60","v":1},{"$f":"+P59","v":"Addressable Single Input Module"}]
[null,null,"Monitoring of Water Flow Switch",null,null,null,0,null," ",0,null,null,"4009-9001",0,{"$f":"+G61","v":0},{"$f":"+P60","v":"Addressable Single Input Module"}]
[null,null,"Monitoring of Supervisory Alert",null,null,null,0,null," ",0,null,null,"4009-9001",0,{"$f":"+G62","v":0},{"$f":"+P61","v":"Addressable Single Input Module"}]
[null,null,"Total Actuator Quantities(Maintenance switch to Match Quantities)",null,null,{"$f":"IF((ABS($H$45-$H$46))>1,\"Error\",\"OK\")","v":"Error"},{"$f":"SUM(G54:G57)","v":3},null," ",0]
[null,null,"Step 8: Addressable Field Devices(Included in Idnet Current Loading)"]
[null,null,"Addressable Smoke Detector UL 268 7th Edition",null,null,null,8,null,null,0,null,null,"4098-9714",{"$f":"+G65","v":8},{"$f":"+G65","v":8},{"$f":"+C65","v":"Addressable Smoke Detector UL 268 7th Edition"}]
[null,null,"Addressable Heat Detector UL & FM Listed",null,null,null,1,null,null,0,null,null,"4098-9733",1,1,{"$f":"+C66","v":"Addressable Heat Detector UL & FM Listed"}]
[null,null,"Addressable CO Detector UL & FM Listed",null,null,null,0,null,null,0,null,null,"4098-9770",0,0,"Addressable CO Detector UL & FM Listed"]
[null,null,"Addressable Manual PullStation",null,null,null,1,null,null,0,null,null,"4099-9004",1,1,{"$f":"+C68","v":"Addressable Manual PullStation"}]
[null,null,"Addressable Input Module",null,null,null,1,null,null,0,null,null,"4090-9001",1,1,{"$f":"+P58","v":"Addressable Single Input Module"}]
[null,null,"Addressable Zone Addressable Module",null,null,null,2,null,null,0,null,null,"4090-9101",2,2,{"$f":"+C70","v":"Addressable Zone Addressable Module"}]
[null,null,"Addressable Relay Module",null,null,null,2,null,null,0,null,null,"4090-9002",2,2,{"$f":"+P47","v":"Addressable RAC Module"}]
[null,null,"Addressable Signal Module",null,null,null,1,null,null,0,null,null,"4090-9007",1,1,{"$f":"+C72","v":"Addressable Signal Module"}]
[null,null,"4098-VEP-A00-1P",null,null,null,0,null,{"$f":"+'4007ESConfigurator'!L82*G73","v":0},{"$f":"+'4007ESConfigurator'!M82*G73","v":0},null,null,"4098-VEP-A00-1P",0,{"$f":"+N73","v":0},"Addressable ASD"]
[null,null,"4098-VEP-A00-P",null,null,null,0,null,{"$f":"+'4007ESConfigurator'!L83*G74","v":0},{"$f":"+'4007ESConfigurator'!M83*G74","v":0},null,null,"4098-VEP-A00-P",0,0,"Addressable ASD"]
[null,null,"4098-VEP-A10-P ",null,null,null,0,null,{"$f":"+'4007ESConfigurator'!L84*G75","v":0},{"$f":"+'4007ESConfigurator'!M84*G75","v":0},null,null,"4098-VEP-A10-P ",0,0,"Addressable ASD"]
[null,null,"4098-VEU-A00",null,null,null,0,null,{"$f":"+'4007ESConfigurator'!L85*G76","v":0},{"$f":"+'4007ESConfigurator'!M85*G76","v":0},null,null,"4098-VEU-A00",0,0,"Addressable ASD"]
[null,null,"4098-VEU-A10",null,null,null,0,null,{"$f":"+'4007ESConfigurator'!L86*G77","v":0},{"$f":"+'4007ESConfigurator'!M86*G77","v":0},null,null,"4098-VEU-A10",0,0,"Addressable ASD"]
[null,null,"4098-VES-A00-P",null,null,null,0,null,{"$f":"+'4007ESConfigurator'!L87*G78","v":0},{"$f":"+'4007ESConfigurator'!M87*G78","v":0},null,null,"4098-VES-A00-P",0,0,"Addressable ASD"]
[null,null,"4098-VES-A00-P",null,null,null,0,null,{"$f":"+'4007ESConfigurator'!L88*G79","v":0},{"$f":"+'4007ESConfigurator'!M88*G79","v":0},null,null,"4098-VES-A00-P",0,0,"Addressable ASD"]
[null,null,"Addressable Pts>100 , Required to Add cards",null,null,null,{"$f":"+O105","v":{"$error":"#N/A"}},null," ",0]
[null,null,"Step 9: Conventional Field Devices",null,null,null,null,null,null,0]
[null,null,"721P OPTICAL DET 721P UL",null,null,null,0,null,null,0,null,null,{"$f":"+'4007ESConfigurator'!C124","v":"516.900.201"},{"$f":"+G82","v":0},null,{"$f":"+C82","v":"721P OPTICAL DET 721P UL"}]
[null,null,"721H HEAT RoR 135F DET UL",null,null,null,0,null,null,0,null,null,{"$f":"+'4007ESConfigurator'!C125","v":"516.900.203"},{"$f":"+G83","v":0},null,{"$f":"+C83","v":"721H HEAT RoR 135F DET UL"}]
[null,null,"722H HEAT FIX 135F DET UL",null,null,null,0,null,null,0,null,null,{"$f":"+'4007ESConfigurator'!C126","v":"516.900.204"},{"$f":"+G84","v":0},null,{"$f":"+C84","v":"722H HEAT FIX 135F DET UL"}]
[null,null,"700 series Conventional Base",null,null,null,{"$f":"SUM(G82:G84)","v":0},null,null,0,null,null,{"$f":"+'4007ESConfigurator'!C127","v":"516.900.206"},null,null,{"$f":"+C85","v":"700 series Conventional Base"}]
[null,null,"601F Single IR Flame Detector",null,null,null,0,null,null,0,null,null,"601F",{"$f":"+G86","v":0},null,{"$f":"+C86","v":"601F Single IR Flame Detector"}]
[null,null,"FV400 Triple IR Flame Detector",null,null,null,0,null,null,0,null,null,"FV400",{"$f":"+G87","v":0},null,"FV400 Triple IR Flame Detector"]
[null,null,"ProReact Copper Linear Heat Detector(ProReact)",null,null,null,0,null,null,0,null,null,"ProReact",{"$f":"+G88","v":0},null,"ProReact Copper Linear Heat Detector(ProReact)"]
[null,null,"APSensing Fiber Optic Linear Heat Detector",null,null,null,0,null,null,0,null,null,"APSensing",{"$f":"+G89","v":0},null,"APSensing Fiber Optic Linear Heat Detector"]
[null,null,"Fireray Beam Detector",null,null,null,0,null,null,0,null,null,"FireRay1",{"$f":"+G90","v":0},null,"Fireray Beam Detector"]
[null,null,"Step 10: Conventional Notification Devices"]
[null,"NAC4",{"$f":"+'4007ESConfigurator'!E141","v":"Vibrating Bell 6\" - 24 VDC"},null,null,null,2,null,{"$f":"+'4007ESConfigurator'!L141*G92","v":0},{"$f":"+'4007ESConfigurator'!M141*G92","v":82},null,null,"43T-G6-24-R",{"$f":"+G92","v":2},null,{"$f":"+C92","v":"Vibrating Bell 6\" - 24 VDC"}]
[null,"NAC4",{"$f":"+'4007ESConfigurator'!E138","v":"15 cd Red Wall Horn Strobe"},null,null,null,2,null,{"$f":"+'4007ESConfigurator'!L138*G93","v":0},{"$f":"+'4007ESConfigurator'!M138*G93","v":150},null,null,"4906-9127",{"$f":"+G93","v":2}," ","15 cd Red Wall Horn Strobe"]
[null,"NAC4",{"$f":"+'4007ESConfigurator'!E139","v":"30 cd Red Wall Horn Strobe"},null,null,null,0,null,{"$f":"+'4007ESConfigurator'!L137","v":0},{"$f":"+'4007ESConfigurator'!M139*G94","v":0},null,null,"4906-9127",{"$f":"+G94","v":0},null,"30 cd Red Wall Horn Strobe"]
[null,"NAC4",{"$f":"+'4007ESConfigurator'!E140","v":"75 cd Red Wall Horn Strobe"},null,null,null,0,null,0,{"$f":"+'4007ESConfigurator'!M140*G95","v":0},null,null,"4906-9127",{"$f":"+G95","v":0},null,"75 cd Red Wall Horn Strobe"]
[null,"NAC4",{"$f":"+'4007ESConfigurator'!E137","v":"Red Wall Mounted Horn"},null,null,null,0,null,0,{"$f":"+'4007ESConfigurator'!M137*G96","v":0},null,null,{"$f":"+'4007ESConfigurator'!C137","v":"4901-9820"},0,null,"Red Wall Mounted Horn"]
[null,"NAC4",{"$f":"+'4007ESConfigurator'!E143","v":"Input1B - Notification Device 1"},null,null,null,0,null,{"$f":"+'4007ESConfigurator'!L143","v":0},{"$f":"+'4007ESConfigurator'!M143*G97","v":0},null,null,{"$f":"+'4007ESConfigurator'!C143","v":"Customised 1"},0,null,"Input1B - Notification Device 1"]
[null,"NAC4",{"$f":"+'4007ESConfigurator'!E144","v":"Input2B - Notification Device 2"},null,null,null,0,null,{"$f":"+'4007ESConfigurator'!L144","v":0},{"$f":"+'4007ESConfigurator'!M144*G98","v":0},null,null,{"$f":"+'4007ESConfigurator'!C144","v":"Customised 2"},0,null,"Input2B - Notification Device 2"]
[null,"NAC4",{"$f":"+'4007ESConfigurator'!E145","v":"Input3B - Notification Device 3"},null,null,null,0,null,{"$f":"+'4007ESConfigurator'!L145","v":0},{"$f":"+'4007ESConfigurator'!M145*G99","v":0},null,null,{"$f":"+'4007ESConfigurator'!C145","v":"Customised 3"},0,null,"Input3B - Notification Device 3"]
[null,"NAC4",{"$f":"+'4007ESConfigurator'!E146","v":"Input4B - Notification Device 4"},null,null,null,0,null,{"$f":"+'4007ESConfigurator'!L146","v":0},{"$f":"+'4007ESConfigurator'!M146*G100","v":0},null,null,{"$f":"+'4007ESConfigurator'!C146","v":"Customised 4"},0,null,"Input4B - Notification Device 4"]
[null,"NAC4",{"$f":"+'4007ESConfigurator'!E147","v":"Input5B - Notification Device 5"},null,null,null,0,null,{"$f":"+'4007ESConfigurator'!L147","v":0},{"$f":"+'4007ESConfigurator'!M147*G101","v":0},null,null,{"$f":"+'4007ESConfigurator'!C147","v":"Customised 5"},0,null,"Input5B - Notification Device 5"]
[null,"NAC4",{"$f":"+'4007ESConfigurator'!E148","v":"Input6B - Notifiation Device 6"},null,null,null,0,null,{"$f":"+'4007ESConfigurator'!L148","v":0},{"$f":"+'4007ESConfigurator'!M148*G102","v":0},null,null,{"$f":"+'4007ESConfigurator'!C148","v":"Customised 6"},0,null,"Input6B - Notifiation Device 6"]
[]
[null,null,"Addressable Notification Zones Modules",null,null,null,2,null,0,0,null,null,"4090-9007",{"$f":"+G104","v":2},{"$f":"+N104","v":2}]
[null,null,"Step 11: Panel Notification Circuits Loading",null,null,null,"Circuits Types Selection - RAC or NAC",null,null,null,null,null,"Total Address Loop Points used",null,{"$f":"SUM(O15:O104)","v":{"$error":"#N/A"}}]
[null,"**","Conventional NAC Circuit 1 or to Powerup RAC1",null,null," RAC1","RAC1 Usage -Actuator1",null,null,{"$f":"IF((LEFT(G106,4))=D54,J54,0)","v":750},null,null," ","4009-9001",{"$f":"+O69+SUM(O58:O62)+O44","v":4},{"$f":"+P69","v":"Addressable Single Input Module"}]
[null,null,null,null,null,"NAC1",{"$f":"IF((LEFT(G106,4))=\"NAC1\",\"NAC1 Manual Current Input\",\"\")","v":""},null,null,0]
[null,"**","Conventional NAC Circuit 2  or to Power up RAC2",null,null,"RAC2","RAC2 Usage -Actuator1",null,null,{"$f":"IF((LEFT(G108,4))=D55,J55,0)","v":750},null,null,null,"4090-9002",{"$f":"+O71+O47+N52","v":3},{"$f":"+P71","v":"Addressable RAC Module"}]
[null,null,null,null,null,"NAC2",{"$f":"IF((LEFT(G108,4))=\"NAC2\",\"NAC2 Manual Current Input\",\"\")","v":""},null,null,0]
[null,"**","Conventional NAC Circuit 3  or to Power up RAC3",null,null,"RAC3","RAC3 Usage -Actuator1",null,null,{"$f":"IF((LEFT(G110,4))=D56,J56,0)","v":250},null,null,null,"4090-9101",{"$f":"+O70","v":2},{"$f":"+P70","v":"Addressable Zone Addressable Module"}]
[null,null,null,null,null,"NAC3",{"$f":"IF((LEFT(G110,4))=\"NAC3\",\"NAC3 Manual Current Input\",\"\")","v":""},null,null,0]
[null,"**","Conventional NAC Circuit 4 with addressable Modules",null,null,"NAC4","NAC4 Usage Notification Device",null,null,{"$f":"SUM(J92:J104)","v":232},null,null,null,"4090-9007",{"$f":"+N104","v":2},{"$f":"+P72","v":"Addressable Signal Module"}]
[null,null,null,null,null,"** Note:  The selection will affect Max Distance Run due to Actuator total line Resistance."]
[null,null,null,null,null,null,null,null,null,null,null,null,"Standby and Alarm Battery AH Calculation"]
[null,null,null,null,null,null,null,null,null,null,null,null,null,"Minutes","Hours","Formulae"]
[null,null,null,null,null,null,null,null,null,null,null,null,"Standby Hours",null,24]
[null,null,null,null,null,null,null,null,{"$f":"IF((\"D48\"=\"RAC1\"),0,1)","v":1},null,null,null,"Alarm Mins",5,{"$f":"+N117/60","v":8.3333333333333329E-2},"(5min/60 min)"]
[null,null,"Step 12:Notification or Release Actuator Circuit Cable Length",null,null,null,null,null,null,null,null,null," "]
[null,null,"Quick Estimated NAC Circuit Length Calculator",null,null,null,null,null,null,null,null,null,"Panel Calculated Value base on loading"]
[null,null,"Wire Gauge",null,null,null,null,null,null,"12AWG",null,null," ","mA","Amp"]
[null,null,"Wire Temperature",null,null,null," ",null," ","50°C (122°F)",null,null,"Stby Current",{"$f":"+I136*1000","v":269},{"$f":"+N121/1000","v":0.26900000000000002}]
[null,null,"Unit of Measure",null,null,null," "," "," ","Meters",null,null,"Alarm Current",{"$f":"+J136*1000","v":2569},{"$f":"+N122/1000","v":2.569}]
[null,null,"Ohms / Km",null,null,null," "," "," ",{"$f":"IF(J121=\"50°C (122°F)\",(_xlfn.IFS($J$120=\"18AWG\",IdnetAddr!$H$3,$J$120=\"16AWG\",IdnetAddr!$I$3,$J$120=\"14AWG\",IdnetAddr!$J$3,$J$120=\"12AWG\",IdnetAddr!$K$3,$J$120=\"1.5mm2\",IdnetAddr!$L$3,$J$120=\"2.5mm2\",IdnetAddr!$M$3)),(_xlfn.IFS($J$120=\"18AWG\",IdnetAddr!$N$3,$J$120=\"16AWG\",IdnetAddr!$O$3,$J$120=\"14AWG\",IdnetAddr!$Q$3,$J$120=\"12AWG\",IdnetAddr!$P$3,$J$120=\"1.5mm2\",IdnetAddr!$Q$3,$J$120=\"2.5mm2\",IdnetAddr!$R$3)))","v":5.807086623},null,null," "]
[null,null,null,null,null,null,null,null,null,null,null,null,"Stby Battery Capacity",null,{"$f":"+O121*O116","v":6.4560000000000004},"Base on 24hrs *stby Current"]
[null,"**","Est max wire length - Worst Case - NAC 1/ NAC1-SRM-RAC1-SRP",null,null,null,{"$f":"+$G$106","v":"RAC1 Usage -Actuator1"},null,null,{"$f":"IF((LEFT(G125,4))=\"RAC1\",(_xlfn.IFS($J$120=\"18AWG\",'Actuator Cable Distance'!$C$36,$J$120=\"16AWG\",'Actuator Cable Distance'!$D$36,$J$120=\"14AWG\",'Actuator Cable Distance'!$E$36,$J$120=\"12AWG\",'Actuator Cable Distance'!$H$36,$J$120=\"1.5mm2\",'Actuator Cable Distance'!$G$36,$J$120=\"2.5mm2\",'Actuator Cable Distance'!$H$36)),(IF($J$107>0,((((WorseV/($J$107/C_Amp))/Res_C)*C_Res)/Core_2),0)))","v":297.435},null,null,"Alarm Battery Capacity",null,{"$f":"+O122*O117","v":0.21408333333333332},"Base on 0.0833*4.17Amp"]
[null,"**","Est max wire length - Worst Case - NAC 2/NAC2-SRM-RAC2-SRP",null,null,null,{"$f":"+$G$108","v":"RAC2 Usage -Actuator1"},null,null,{"$f":"IF((LEFT(G126,4))=\"RAC2\",(_xlfn.IFS($J$120=\"18AWG\",'Actuator Cable Distance'!$C$37,$J$120=\"16AWG\",'Actuator Cable Distance'!$D$37,$J$120=\"14AWG\",'Actuator Cable Distance'!$E$37,$J$120=\"12AWG\",'Actuator Cable Distance'!$H$37,$J$120=\"1.5mm2\",'Actuator Cable Distance'!$G$37,$J$120=\"2.5mm2\",'Actuator Cable Distance'!#REF!)),(IF($J$109>0,((((WorseV/($J$109/C_Amp))/Res_C)*C_Res)/Core_2),\"NA\")))","v":297.435},null,null,"Total Battery Capacity",null,{"$f":"+O125+O124","v":6.6700833333333334}]
[null,"**","Est max wire length - Worst Case - NAC 3/ NAC3-SRM-RAC3-SRP",null,null,null,{"$f":"+$G$110","v":"RAC3 Usage -Actuator1"},null,null,{"$f":"IF((LEFT(G127,4))=\"RAC3\",(_xlfn.IFS($J$120=\"18AWG\",'Actuator Cable Distance'!$C$38,$J$120=\"16AWG\",'Actuator Cable Distance'!$D$38,$J$120=\"14AWG\",'Actuator Cable Distance'!$E$38,$J$120=\"12AWG\",'Actuator Cable Distance'!$H$38,$J$120=\"1.5mm2\",'Actuator Cable Distance'!$G$38,$J$120=\"2.5mm2\",'Actuator Cable Distance'!#REF!)),(IF($J$111>0,((((WorseV/($J$111/C_Amp))/Res_C)*C_Res)/Core_2),\"NA\")))","v":297.435}]
[null,"**","Est max wire length - Worst Case - NAC 4",null,null,null,{"$f":"+$G$112","v":"NAC4 Usage Notification Device"},null,null,{"$f":"IF($J$112>0,((((WorseV/($J$112/C_Amp))/Res_C)*C_Res)/Core_2),\"NA\")","v":{"$error":"#DIV/0!"}},null,null,"Typical Safety factor of 20%",null,0.2]
[null,null,null,null,null,null," ",null,null," "]
[null,null,"Est max wire length - Mean + 20% - NAC 1/ NAC1-SPM-RAC1",null,null,null,{"$f":"+G125","v":"RAC1 Usage -Actuator1"},null,null,{"$f":"IF((LEFT(G125,4))=\"RAC1\",(_xlfn.IFS($J$120=\"18AWG\",'Actuator Cable Distance'!$C$36,$J$120=\"16AWG\",'Actuator Cable Distance'!$D$36,$J$120=\"14AWG\",'Actuator Cable Distance'!$E$36,$J$120=\"12AWG\",'Actuator Cable Distance'!$H$36,$J$120=\"1.5mm2\",'Actuator Cable Distance'!$G$36,$J$120=\"2.5mm2\",'Actuator Cable Distance'!$H$36)),(IF($J$107>0,((((MeanV/($J$107/C_Amp))/Res_C)*C_Res)/Core_2),\"NA\")))","v":297.435},null,null,"Final Battery Capacity",null,{"$f":"+O126*1.2","v":8.0040999999999993},"Multiply Total Battery capacity with 120%"]
[null,null,"Est max wire length - Mean + 20% - NAC 2/ NAC2-SPM-RAC1",null,null,null,{"$f":"+G126","v":"RAC2 Usage -Actuator1"},null,null,{"$f":"IF((LEFT(G126,4))=\"RAC2\",(_xlfn.IFS($J$120=\"18AWG\",'Actuator Cable Distance'!$C$37,$J$120=\"16AWG\",'Actuator Cable Distance'!$D$37,$J$120=\"14AWG\",'Actuator Cable Distance'!$E$37,$J$120=\"12AWG\",'Actuator Cable Distance'!$H$37,$J$120=\"1.5mm2\",'Actuator Cable Distance'!$G$37,$J$120=\"2.5mm2\",'Actuator Cable Distance'!#REF!)),(IF($J$109>0,((((MeanV/($J$109/C_Amp))/Res_C)*C_Res)/Core_2),\"NA\")))","v":297.435}]
[null,null,"Est max wire length - Mean + 20% - NAC 3",null,null,null,{"$f":"+G127","v":"RAC3 Usage -Actuator1"},null,null,{"$f":"IF((LEFT(G127,4))=\"RAC3\",(_xlfn.IFS($J$120=\"18AWG\",'Actuator Cable Distance'!$C$38,$J$120=\"16AWG\",'Actuator Cable Distance'!$D$38,$J$120=\"14AWG\",'Actuator Cable Distance'!$E$38,$J$120=\"12AWG\",'Actuator Cable Distance'!$H$38,$J$120=\"1.5mm2\",'Actuator Cable Distance'!$G$38,$J$120=\"2.5mm2\",'Actuator Cable Distance'!#REF!)),(IF($J$111>0,((((MeanV/($J$111/C_Amp))/Res_C)*C_Res)/Core_2),\"NA\")))","v":297.435}]
[null,null,"Est max wire length - Mean + 20% - NAC 4",null,null,null,{"$f":"+G128","v":"NAC4 Usage Notification Device"},null,null,{"$f":"IF($J$112>0,((((MeanV/($J$112/C_Amp))/Res_C)*C_Res)/Core_2),\"NA\")","v":{"$error":"#DIV/0!"}},null,null,"Market Standard Batteries offering"]
[null,"**","Step 13: Auxillary Power Supply",null,null,null,"Aux or SNAC",null,{"$f":"+I44+I45+I51+(SUM(I34:I36))+I38","v":10},{"$f":"+J44+J34+J51","v":93}]
[null,null,"Aux Power or Simple NAC Load - Max 2000mA",null,null,null,"Maximum Aux Load Remains",null,{"$f":"2000-I134","v":1990},{"$f":"2000-J134","v":1907},null,null,"Built in Battery Charger",null,12.7]
[null,null,null,null,null,null," ",null,{"$f":"(SUM(I18:I104)-I134)/1000","v":0.26900000000000002},{"$f":"(SUM(J18:J104)-J134)/1000","v":2.569},null,null,"Built in Battery Charger",null,18]
[null,"**","Step 16: Battery Calculation",null,null,null," ",null,{"$f":"IF(G137<0,\"Exceeded Power of Panel\",\"\")","v":""},null,null,null,"External Battery charger",null,25]
[null,null,"Total Standby and Alarm Loads Amps",null,null,null," ",null,"Panel Power = 6 Amps",null,null,null,"External Battery charger",null,33]
[null,null,"Total Standby and Alarm Loads Ampere Hours",null,null,null,null,null,{"$f":"+I136*24","v":6.4560000000000004},{"$f":"+J136*I142","v":0.21408333333333332},null,null,"External Battery charger",null,50]
[null,null,null,null,null,null,null,null,{"$f":"+#REF!+#REF!","v":{"$error":"#REF!"}},{"$f":"+I140*1.2","v":{"$error":"#REF!"}},null,null,"External Battery charger",null,110]
[null,null,"Battery Calculation Standby Hours",null,null,null,null,null,null,24]
[null,null,"Battery Calculation Alarm Minutes",null,null,null,null,null,{"$f":"+J142/60","v":8.3333333333333329E-2},5,null,null,"Base on Logic function",null,{"$f":"IF(O130<O135,O135,IF(O130<O136,O136,(IF(O130<O136,O136,IF(O130<O137,O137,IF(O130<O138,O138,IF(O130<O139,O139,IF(O130<O140,O140,0))))))))","v":12.7},"Is the final Ah tomatch this current panel configuration"]
[null,null,"Battery Calculation Battery Factor",null,null,null,null,null,null,0.2,null,null,"If <12.70=12.70Ah"]
[null,null,null,null,null,null,null,null,null,null,null,null,"If <18=18Ah"]
[null,null,"Total Ampere Hours",null,null,null,null,null,"Total Stby & Alm",{"$f":"+I139+J139","v":6.6700833333333334},null,null,"If <25=25Ah"]
[null,null,"Minimum Calculated Battery Size Required ",null,null,null,null,null,"20% Safety Factor",{"$f":"+J145*(1+J143)","v":8.0040999999999993},null,null,"If <50=50Ah"]
[null,null,"Battery Location and Selected Size",null,null,null,{"$f":"IF(J146>O136,\"External Charger\",\"Internal Panel\")","v":"Internal Panel"},0,"Nearest BatteryAh",{"$f":"IF(O130<O135,O135,IF(O130<O136,O136,(IF(O130<O136,O136,IF(O130<O137,O137,IF(O130<O138,O138,IF(O130<O139,O139,IF(O130<O140,O140,0))))))))","v":12.7},null,null,"If<110=110Ah"]
[]
[null,null,"Include Batteries in BOM",null,null,null,null,null,null,"No"]
[]
[]
["The below will be included in the next revision",null,null,null,null,null,null,null," "]
[null,null,null,null,null,"4009NAC Extender  with Default 4 NAC and add on to 8 NAC"]
[null,null,null,null,null,"Enter custom template name here",null,null,null,null,null,null,"PID","Qty","Addr","Description"]
[null,null,null,null,null,null,"Selection"]
[null,null,"Enter Quantity of panel type to be included in BOM",null,null,null,1]
[null,null,"Step 17: Select NAC Type",null,null,null," ",null,"Standby Loads","Alarm Loads"]
[null,null,"Addressable Notification Extender","PDF",null,null,"4009-",null," "," ",null,null," "," ",0]
[null,null,"Color",null,null,null,"Platinium",null,null,null,null,null," "," "]

{"sheet":"4007ESBOM","index":16,"n_rows":5,"n_cols":8,"rows_kept":5,"cut":false,"hidden":false,"merged":[[2,3,2,5]]}
[]
[]
[null,null,null,"Simplex Releasing Fire Detection Solution -Final Bill of Material"]
[]
["POS.","No","Part number","Function","Product Description","Listing","Qty\nFinal","Remarks"]

{"sheet":"4007ESDrawing","index":17,"n_rows":0,"n_cols":0,"rows_kept":0,"cut":false,"hidden":false,"merged":[]}